Package: EnrichedHeatmap Version: 1.41.0 Command: /home/rapidbuild/bbs-3.23-bioc-rapid/R/bin/R CMD build --keep-empty-dirs --no-resave-data EnrichedHeatmap StartedAt: 2025-10-31 06:42:07 -0400 (Fri, 31 Oct 2025) EndedAt: 2025-10-31 06:45:25 -0400 (Fri, 31 Oct 2025) EllapsedTime: 197.9 seconds RetCode: 0 Status: OK PackageFile: EnrichedHeatmap_1.41.0.tar.gz PackageFileSize: 11.62 MiB