Package: EnhancedVolcano Version: 1.29.0 Command: /home/rapidbuild/bbs-3.23-bioc-rapid/R/bin/R CMD INSTALL EnhancedVolcano StartedAt: 2025-11-22 06:18:54 -0500 (Sat, 22 Nov 2025) EndedAt: 2025-11-22 06:18:58 -0500 (Sat, 22 Nov 2025) EllapsedTime: 4.0 seconds RetCode: 0 Status: OK