Package: EDASeq Version: 2.45.0 Command: /home/rapidbuild/bbs-3.23-bioc-rapid/R/bin/R CMD INSTALL EDASeq StartedAt: 2025-11-16 06:21:55 -0500 (Sun, 16 Nov 2025) EndedAt: 2025-11-16 06:22:29 -0500 (Sun, 16 Nov 2025) EllapsedTime: 34.1 seconds RetCode: 0 Status: OK