Package: EDASeq Version: 2.45.0 Command: /home/rapidbuild/bbs-3.23-bioc-rapid/R/bin/R CMD build --keep-empty-dirs --no-resave-data EDASeq StartedAt: 2025-11-16 06:44:22 -0500 (Sun, 16 Nov 2025) EndedAt: 2025-11-16 06:45:30 -0500 (Sun, 16 Nov 2025) EllapsedTime: 67.9 seconds RetCode: 0 Status: OK PackageFile: EDASeq_2.45.0.tar.gz PackageFileSize: 1.135 MiB