Package: EBarrays Version: 2.75.0 Command: /home/rapidbuild/bbs-3.23-bioc-rapid/R/bin/R CMD check --install=check:EBarrays.install-out.txt --library=/home/rapidbuild/bbs-3.23-bioc-rapid/R/site-library --timings EBarrays_2.75.0.tar.gz StartedAt: 2025-11-03 08:04:32 -0500 (Mon, 03 Nov 2025) EndedAt: 2025-11-03 08:05:08 -0500 (Mon, 03 Nov 2025) EllapsedTime: 35.3 seconds RetCode: 0 Status: OK CheckDir: EBarrays.Rcheck Warnings: 0