Package: DynDoc Version: 1.87.0 Command: /home/rapidbuild/bbs-3.22-bioc-rapid/R/bin/R CMD INSTALL DynDoc StartedAt: 2025-10-01 06:08:27 -0400 (Wed, 01 Oct 2025) EndedAt: 2025-10-01 06:08:29 -0400 (Wed, 01 Oct 2025) EllapsedTime: 2.0 seconds RetCode: 0 Status: OK