Package: DropletUtils Version: 1.29.7 Command: /home/rapidbuild/bbs-3.22-bioc-rapid/R/bin/R CMD INSTALL DropletUtils StartedAt: 2025-10-13 06:19:47 -0400 (Mon, 13 Oct 2025) EndedAt: 2025-10-13 06:20:56 -0400 (Mon, 13 Oct 2025) EllapsedTime: 68.9 seconds RetCode: 0 Status: OK