Package: DropletUtils Version: 1.29.7 Command: /home/rapidbuild/bbs-3.22-bioc-rapid/R/bin/R CMD build --keep-empty-dirs --no-resave-data DropletUtils StartedAt: 2025-10-13 06:42:40 -0400 (Mon, 13 Oct 2025) EndedAt: 2025-10-13 06:44:03 -0400 (Mon, 13 Oct 2025) EllapsedTime: 83.4 seconds RetCode: 0 Status: OK PackageFile: DropletUtils_1.29.7.tar.gz PackageFileSize: 592.4 KiB