Package: DirichletMultinomial Version: 1.51.0 Command: /home/rapidbuild/bbs-3.22-bioc-rapid/R/bin/R CMD build --keep-empty-dirs --no-resave-data DirichletMultinomial StartedAt: 2025-10-14 12:43:43 -0400 (Tue, 14 Oct 2025) EndedAt: 2025-10-14 12:43:55 -0400 (Tue, 14 Oct 2025) EllapsedTime: 12.0 seconds RetCode: 0 Status: OK PackageFile: DirichletMultinomial_1.51.0.tar.gz PackageFileSize: 1.06 MiB