Package: DelayedMatrixStats Version: 1.31.0 Command: /home/rapidbuild/bbs-3.22-bioc-rapid/R/bin/R CMD check --install=check:DelayedMatrixStats.install-out.txt --library=/home/rapidbuild/bbs-3.22-bioc-rapid/R/site-library --timings DelayedMatrixStats_1.31.0.tar.gz StartedAt: 2025-10-27 07:29:00 -0400 (Mon, 27 Oct 2025) EndedAt: 2025-10-27 07:35:09 -0400 (Mon, 27 Oct 2025) EllapsedTime: 369.1 seconds RetCode: 0 Status: OK CheckDir: DelayedMatrixStats.Rcheck Warnings: 0