Package: DelayedArray Version: 0.35.4 Command: _R_CHECK_CODETOOLS_PROFILE_="suppressFundefMismatch=TRUE" /home/rapidbuild/bbs-3.22-bioc-rapid/R/bin/R CMD check --install=check:DelayedArray.install-out.txt --library=/home/rapidbuild/bbs-3.22-bioc-rapid/R/site-library --timings DelayedArray_0.35.4.tar.gz StartedAt: 2025-10-26 07:27:56 -0400 (Sun, 26 Oct 2025) EndedAt: 2025-10-26 07:44:20 -0400 (Sun, 26 Oct 2025) EllapsedTime: 984.5 seconds RetCode: 0 Status: WARNINGS CheckDir: DelayedArray.Rcheck Warnings: 1