Package: DEXSeq Version: 1.55.1 Command: /home/rapidbuild/bbs-3.22-bioc-rapid/R/bin/R CMD INSTALL DEXSeq StartedAt: 2025-10-28 06:20:52 -0400 (Tue, 28 Oct 2025) EndedAt: 2025-10-28 06:21:20 -0400 (Tue, 28 Oct 2025) EllapsedTime: 27.8 seconds RetCode: 0 Status: OK