Package: DEXSeq Version: 1.55.1 Command: /home/rapidbuild/bbs-3.22-bioc-rapid/R/bin/R CMD build --keep-empty-dirs --no-resave-data DEXSeq StartedAt: 2025-10-28 06:33:32 -0400 (Tue, 28 Oct 2025) EndedAt: 2025-10-28 06:34:01 -0400 (Tue, 28 Oct 2025) EllapsedTime: 29.2 seconds RetCode: 1 Status: ERROR PackageFile: None PackageFileSize: NA