Package: DECIPHER Version: 3.7.0 Maintainer: Erik Wright MaintainerEmail: eswright at pitt.edu git_url: https://git.bioconductor.org/packages/DECIPHER git_branch: devel git_last_commit: 9fb2779 git_last_commit_date: 2025-10-29 10:09:13 -0400 (Wed, 29 Oct 2025)