Package: CytoML Version: 2.21.0 Command: /home/rapidbuild/bbs-3.22-bioc-rapid/R/bin/R CMD INSTALL CytoML StartedAt: 2025-10-09 06:25:36 -0400 (Thu, 09 Oct 2025) EndedAt: 2025-10-09 06:26:21 -0400 (Thu, 09 Oct 2025) EllapsedTime: 44.8 seconds RetCode: 0 Status: OK