Package: CytoML Version: 2.21.0 Command: /home/rapidbuild/bbs-3.22-bioc-rapid/R/bin/R CMD build --keep-empty-dirs --no-resave-data CytoML StartedAt: 2025-10-09 06:38:18 -0400 (Thu, 09 Oct 2025) EndedAt: 2025-10-09 06:39:28 -0400 (Thu, 09 Oct 2025) EllapsedTime: 69.6 seconds RetCode: 0 Status: OK PackageFile: CytoML_2.21.0.tar.gz PackageFileSize: 8.052 MiB