Package: ConsensusClusterPlus Version: 1.75.0 Command: /home/rapidbuild/bbs-3.23-bioc-rapid/R/bin/R CMD check --install=check:ConsensusClusterPlus.install-out.txt --library=/home/rapidbuild/bbs-3.23-bioc-rapid/R/site-library --timings ConsensusClusterPlus_1.75.0.tar.gz StartedAt: 2025-11-06 08:07:03 -0500 (Thu, 06 Nov 2025) EndedAt: 2025-11-06 08:07:26 -0500 (Thu, 06 Nov 2025) EllapsedTime: 23.0 seconds RetCode: 0 Status: OK CheckDir: ConsensusClusterPlus.Rcheck Warnings: 0