Package: ComplexHeatmap Version: 2.25.2 Command: /home/rapidbuild/bbs-3.22-bioc-rapid/R/bin/R CMD INSTALL ComplexHeatmap StartedAt: 2025-10-14 12:12:34 -0400 (Tue, 14 Oct 2025) EndedAt: 2025-10-14 12:12:50 -0400 (Tue, 14 Oct 2025) EllapsedTime: 15.8 seconds RetCode: 0 Status: OK