Package: ComplexHeatmap Version: 2.25.2 Command: /home/rapidbuild/bbs-3.22-bioc-rapid/R/bin/R CMD build --keep-empty-dirs --no-resave-data ComplexHeatmap StartedAt: 2025-10-14 12:39:27 -0400 (Tue, 14 Oct 2025) EndedAt: 2025-10-14 12:39:52 -0400 (Tue, 14 Oct 2025) EllapsedTime: 24.9 seconds RetCode: 0 Status: OK PackageFile: ComplexHeatmap_2.25.2.tar.gz PackageFileSize: 1.392 MiB