Package: ChemmineR Version: 3.63.0 Command: /home/rapidbuild/bbs-3.23-bioc-rapid/R/bin/R CMD INSTALL ChemmineR StartedAt: 2025-11-03 06:16:18 -0500 (Mon, 03 Nov 2025) EndedAt: 2025-11-03 06:16:36 -0500 (Mon, 03 Nov 2025) EllapsedTime: 18.0 seconds RetCode: 0 Status: OK