Package: BiocStyle Version: 2.39.0 Command: /home/rapidbuild/bbs-3.23-bioc-rapid/R/bin/R CMD build --keep-empty-dirs --no-resave-data BiocStyle StartedAt: 2025-11-24 06:34:25 -0500 (Mon, 24 Nov 2025) EndedAt: 2025-11-24 06:34:34 -0500 (Mon, 24 Nov 2025) EllapsedTime: 9.3 seconds RetCode: 0 Status: OK PackageFile: BiocStyle_2.39.0.tar.gz PackageFileSize: 885.2 KiB