Package: BiocPkgTools Version: 1.29.0 Command: /home/rapidbuild/bbs-3.23-bioc-rapid/R/bin/R CMD INSTALL BiocPkgTools StartedAt: 2025-11-03 06:21:10 -0500 (Mon, 03 Nov 2025) EndedAt: 2025-11-03 06:21:18 -0500 (Mon, 03 Nov 2025) EllapsedTime: 7.4 seconds RetCode: 0 Status: OK