Package: BiocPkgTools Version: 1.27.15 Maintainer: Sean Davis MaintainerEmail: seandavi at gmail.com git_url: https://git.bioconductor.org/packages/BiocPkgTools git_branch: devel git_last_commit: e718855 git_last_commit_date: 2025-10-24 16:07:48 -0400 (Fri, 24 Oct 2025)