Package: BiocParallel Version: 1.45.0 Command: /home/rapidbuild/bbs-3.23-bioc-rapid/R/bin/R CMD INSTALL BiocParallel StartedAt: 2025-10-31 06:18:06 -0400 (Fri, 31 Oct 2025) EndedAt: 2025-10-31 06:18:17 -0400 (Fri, 31 Oct 2025) EllapsedTime: 11.3 seconds RetCode: 0 Status: OK