Package: BiocParallel Version: 1.45.0 Command: /home/rapidbuild/bbs-3.23-bioc-rapid/R/bin/R CMD build --keep-empty-dirs --no-resave-data BiocParallel StartedAt: 2025-10-31 06:32:22 -0400 (Fri, 31 Oct 2025) EndedAt: 2025-10-31 06:33:36 -0400 (Fri, 31 Oct 2025) EllapsedTime: 74.0 seconds RetCode: 0 Status: OK PackageFile: BiocParallel_1.45.0.tar.gz PackageFileSize: 1.052 MiB