Package: BiocIO Version: 1.21.0 Command: /home/rapidbuild/bbs-3.23-bioc-rapid/R/bin/R CMD INSTALL BiocIO StartedAt: 2025-11-16 06:08:07 -0500 (Sun, 16 Nov 2025) EndedAt: 2025-11-16 06:08:11 -0500 (Sun, 16 Nov 2025) EllapsedTime: 4.0 seconds RetCode: 0 Status: OK