Package: BiocCheck Version: 1.47.1 Command: /home/rapidbuild/bbs-3.23-bioc-rapid/R/bin/R CMD INSTALL BiocCheck StartedAt: 2025-11-18 06:24:42 -0500 (Tue, 18 Nov 2025) EndedAt: 2025-11-18 06:24:50 -0500 (Tue, 18 Nov 2025) EllapsedTime: 8.2 seconds RetCode: 0 Status: OK