Package: BiocCheck Version: 1.47.1 Command: /home/rapidbuild/bbs-3.23-bioc-rapid/R/bin/R CMD build --keep-empty-dirs --no-resave-data BiocCheck StartedAt: 2025-11-18 06:32:41 -0500 (Tue, 18 Nov 2025) EndedAt: 2025-11-18 06:32:53 -0500 (Tue, 18 Nov 2025) EllapsedTime: 12.0 seconds RetCode: 0 Status: OK PackageFile: BiocCheck_1.47.1.tar.gz PackageFileSize: 312.6 KiB