Package: Biobase Version: 2.71.0 Command: /home/rapidbuild/bbs-3.23-bioc-rapid/R/bin/R CMD INSTALL Biobase StartedAt: 2025-11-22 06:09:48 -0500 (Sat, 22 Nov 2025) EndedAt: 2025-11-22 06:09:55 -0500 (Sat, 22 Nov 2025) EllapsedTime: 7.0 seconds RetCode: 0 Status: OK