Package: AnnotationHubData Version: 1.41.0 Command: /home/rapidbuild/bbs-3.23-bioc-rapid/R/bin/R CMD INSTALL AnnotationHubData StartedAt: 2025-10-31 06:23:29 -0400 (Fri, 31 Oct 2025) EndedAt: 2025-10-31 06:24:02 -0400 (Fri, 31 Oct 2025) EllapsedTime: 33.0 seconds RetCode: 0 Status: OK