Package: AnnotationHubData Version: 1.41.0 Command: /home/rapidbuild/bbs-3.23-bioc-rapid/R/bin/R CMD build --keep-empty-dirs --no-resave-data AnnotationHubData StartedAt: 2025-10-31 06:29:45 -0400 (Fri, 31 Oct 2025) EndedAt: 2025-10-31 06:30:20 -0400 (Fri, 31 Oct 2025) EllapsedTime: 34.3 seconds RetCode: 0 Status: OK PackageFile: AnnotationHubData_1.41.0.tar.gz PackageFileSize: 400.3 KiB