Package: AnnotationHub Version: 4.1.0 Command: /home/rapidbuild/bbs-3.23-bioc-rapid/R/bin/R CMD INSTALL AnnotationHub StartedAt: 2025-11-24 06:21:06 -0500 (Mon, 24 Nov 2025) EndedAt: 2025-11-24 06:21:19 -0500 (Mon, 24 Nov 2025) EllapsedTime: 13.4 seconds RetCode: 0 Status: OK