Package: AnnotationHub Version: 4.1.0 Command: /home/rapidbuild/bbs-3.23-bioc-rapid/R/bin/R CMD build --keep-empty-dirs --no-resave-data AnnotationHub StartedAt: 2025-11-24 06:29:47 -0500 (Mon, 24 Nov 2025) EndedAt: 2025-11-24 06:31:21 -0500 (Mon, 24 Nov 2025) EllapsedTime: 94.5 seconds RetCode: 0 Status: OK PackageFile: AnnotationHub_4.1.0.tar.gz PackageFileSize: 978.2 KiB