Package: AnnotationForge Version: 1.51.1 Command: /home/rapidbuild/bbs-3.22-bioc-rapid/R/bin/R CMD INSTALL AnnotationForge StartedAt: 2025-10-29 06:13:10 -0400 (Wed, 29 Oct 2025) EndedAt: 2025-10-29 06:13:23 -0400 (Wed, 29 Oct 2025) EllapsedTime: 12.6 seconds RetCode: 0 Status: OK