Package: AnnotationForge Version: 1.51.1 Command: /home/rapidbuild/bbs-3.22-bioc-rapid/R/bin/R CMD build --keep-empty-dirs --no-resave-data AnnotationForge StartedAt: 2025-10-29 06:26:16 -0400 (Wed, 29 Oct 2025) EndedAt: 2025-10-29 06:28:07 -0400 (Wed, 29 Oct 2025) EllapsedTime: 111.7 seconds RetCode: 1 Status: ERROR PackageFile: None PackageFileSize: NA