Package: AnnotationDbi Version: 1.71.1 Command: /home/rapidbuild/bbs-3.22-bioc-rapid/R/bin/R CMD INSTALL AnnotationDbi StartedAt: 2025-10-07 06:14:20 -0400 (Tue, 07 Oct 2025) EndedAt: 2025-10-07 06:14:34 -0400 (Tue, 07 Oct 2025) EllapsedTime: 14.7 seconds RetCode: 0 Status: OK