Package: AnnotationDbi Version: 1.71.1 Command: /home/rapidbuild/bbs-3.22-bioc-rapid/R/bin/R CMD build --keep-empty-dirs --no-resave-data AnnotationDbi StartedAt: 2025-10-07 06:28:58 -0400 (Tue, 07 Oct 2025) EndedAt: 2025-10-07 06:29:41 -0400 (Tue, 07 Oct 2025) EllapsedTime: 42.9 seconds RetCode: 0 Status: OK PackageFile: AnnotationDbi_1.71.1.tar.gz PackageFileSize: 4.171 MiB