Welcome to mirrors.dotsrc.org

All our mirrors of open source software are available via http, https, ftp and an onion service. More information about our mirrors including statistics and contact information is available on our mirror info pages.

For information about dotsrc.org and our other services please go to our website.

Index of /bioconductor/checkResults/devel/bioc-rapid-LATEST/

File Name  ↓ File Size  ↓ Date  ↓ 
--
-2025-10-30 18:25:38
-2025-10-30 18:25:38
-2025-10-30 18:25:38
-2025-10-30 18:25:38
-2025-10-30 18:25:38
-2025-10-30 18:25:38
-2025-10-30 18:25:38
-2025-10-30 18:25:38
-2025-10-30 18:25:38
-2025-10-30 18:25:38
-2025-10-30 18:25:38
-2025-10-30 18:25:38
-2025-10-30 18:25:38
-2025-10-30 18:25:38
-2025-10-30 18:25:38
-2025-10-30 18:25:38
-2025-10-30 18:25:38
-2025-10-30 18:25:38
-2025-10-30 18:25:38
-2025-10-30 18:25:38
-2025-10-30 18:25:38
-2025-10-30 18:25:38
-2025-10-30 18:25:38
-2025-10-30 18:25:38
-2025-10-30 18:25:38
-2025-10-30 18:25:38
-2025-10-30 18:25:38
-2025-10-30 18:25:38
-2025-10-30 18:25:38
-2025-10-30 18:25:38
-2025-10-30 18:25:38
-2025-10-30 18:25:38
-2025-10-30 18:25:38
-2025-10-30 18:25:38
-2025-10-30 18:25:38
-2025-10-30 18:25:38
-2025-10-30 18:25:38
-2025-10-30 18:25:38
-2025-10-30 18:25:38
-2025-10-30 18:25:38
-2025-10-30 18:25:38
-2025-10-30 18:25:38
-2025-10-30 18:25:38
-2025-10-30 18:25:38
-2025-10-30 18:25:38
-2025-10-30 18:25:38
-2025-10-30 18:25:38
-2025-10-30 18:25:38
-2025-10-30 18:25:38
-2025-10-30 18:25:38
-2025-10-30 18:25:38
-2025-10-30 18:25:38
-2025-10-30 18:25:38
-2025-10-30 18:25:38
-2025-10-30 18:25:38
-2025-10-30 18:25:38
-2025-10-30 18:25:38
-2025-10-30 18:25:38
-2025-10-30 18:25:38
-2025-10-30 18:25:39
-2025-10-30 18:25:39
-2025-10-30 18:25:39
-2025-10-30 18:25:39
-2025-10-30 18:25:39
-2025-10-30 18:25:39
-2025-10-30 18:25:39
-2025-10-30 18:25:39
-2025-10-30 18:25:39
-2025-10-30 18:25:39
-2025-10-30 18:25:39
-2025-10-30 18:25:39
-2025-10-30 18:25:39
-2025-10-30 18:25:39
-2025-10-30 18:25:39
-2025-10-30 18:25:39
-2025-10-30 18:25:39
-2025-10-30 18:25:39
-2025-10-30 18:25:39
-2025-10-30 18:25:39
-2025-10-30 18:25:39
-2025-10-30 18:25:39
-2025-10-30 18:25:39
-2025-10-30 18:25:39
-2025-10-30 18:25:39
-2025-10-30 18:25:39
-2025-10-30 18:25:39
-2025-10-30 18:25:39
-2025-10-30 18:25:39
-2025-10-30 18:25:39
-2025-10-30 18:25:39
-2025-10-30 18:25:39
-2025-10-30 18:25:39
-2025-10-30 18:25:39
-2025-10-30 18:25:39
-2025-10-30 18:25:40
-2025-10-30 18:25:39
-2025-10-30 18:25:39
-2025-10-30 18:25:39
-2025-10-30 18:25:39
-2025-10-30 18:25:39
-2025-10-30 18:25:39
-2025-10-30 18:25:39
-2025-10-30 18:25:39
-2025-10-30 18:25:40
-2025-10-30 18:25:40
-2025-10-30 18:25:40
-2025-10-30 18:25:40
-2025-10-30 18:25:40
-2025-10-30 18:25:40
-2025-10-30 18:25:40
-2025-10-30 18:25:40
-2025-10-30 18:25:40
-2025-10-30 18:25:38
-2025-10-30 18:25:38
-2025-10-30 18:25:38
-2025-10-30 18:25:38
-2025-10-30 18:25:38
-2025-10-30 18:25:38
-2025-10-30 18:25:38
-2025-10-30 18:25:38
-2025-10-30 18:25:38
-2025-10-30 18:25:38
-2025-10-30 18:25:38
-2025-10-30 18:25:38
-2025-10-30 18:25:38
-2025-10-30 18:25:38
-2025-10-30 18:25:38
-2025-10-30 18:25:38
-2025-10-30 18:25:38
-2025-10-30 18:25:38
-2025-10-30 18:25:38
-2025-10-30 18:25:38
-2025-10-30 18:25:38
-2025-10-30 18:25:38
-2025-10-30 18:25:38
-2025-10-30 18:25:38
-2025-10-30 18:25:38
-2025-10-30 18:25:38
-2025-10-30 18:25:38
-2025-10-30 18:25:38
-2025-10-30 18:25:38
-2025-10-30 18:25:38
-2025-10-30 18:25:38
-2025-10-30 18:25:38
-2025-10-30 18:25:38
-2025-10-30 18:25:38
-2025-10-30 18:25:38
-2025-10-30 18:25:38
-2025-10-30 18:25:38
-2025-10-30 18:25:38
-2025-10-30 18:25:38
-2025-10-30 18:25:38
-2025-10-30 18:25:38
-2025-10-30 18:25:38
-2025-10-30 18:25:38
-2025-10-30 18:25:38
-2025-10-30 18:25:38
-2025-10-30 18:25:38
-2025-10-30 18:25:38
-2025-10-30 18:25:38
-2025-10-30 18:25:38
-2025-10-30 18:25:38
-2025-10-30 18:25:38
-2025-10-30 18:25:38
-2025-10-30 18:25:38
-2025-10-30 18:25:38
-2025-10-30 18:25:38
-2025-10-30 18:25:38
-2025-10-30 18:25:38
-2025-10-30 18:25:38
-2025-10-30 18:25:38
-2025-10-30 18:25:38
-2025-10-30 18:25:38
-2025-10-30 18:25:38
-2025-10-30 18:25:38
-2025-10-30 18:25:39
-2025-10-30 18:25:39
-2025-10-30 18:25:39
-2025-10-30 18:25:39
-2025-10-30 18:25:39
-2025-10-30 18:25:39
-2025-10-30 18:25:39
-2025-10-30 18:25:39
-2025-10-30 18:25:39
-2025-10-30 18:25:39
-2025-10-30 18:25:39
-2025-10-30 18:25:39
-2025-10-30 18:25:39
-2025-10-30 18:25:39
-2025-10-30 18:25:39
-2025-10-30 18:25:39
-2025-10-30 18:25:39
-2025-10-30 18:25:39
-2025-10-30 18:25:39
-2025-10-30 18:25:39
-2025-10-30 18:25:39
-2025-10-30 18:25:39
-2025-10-30 18:25:39
-2025-10-30 18:25:39
-2025-10-30 18:25:39
-2025-10-30 18:25:39
-2025-10-30 18:25:39
-2025-10-30 18:25:39
-2025-10-30 18:25:39
-2025-10-30 18:25:39
-2025-10-30 18:25:39
-2025-10-30 18:25:39
-2025-10-30 18:25:39
-2025-10-30 18:25:39
-2025-10-30 18:25:39
-2025-10-30 18:25:39
-2025-10-30 18:25:39
-2025-10-30 18:25:39
-2025-10-30 18:25:39
-2025-10-30 18:25:39
-2025-10-30 18:25:39
-2025-10-30 18:25:39
-2025-10-30 18:25:39
-2025-10-30 18:25:39
-2025-10-30 18:25:40
-2025-10-30 18:25:40
-2025-10-30 18:25:40
-2025-10-30 18:25:40
-2025-10-30 18:25:40
-2025-10-30 18:25:40
-2025-10-30 18:25:40
-2025-10-30 18:25:40
-2025-10-30 18:25:40
-2025-10-30 18:25:40
-2025-05-21 19:56:33
7.1 KiB2025-10-30 18:25:37
7.1 KiB2025-10-30 18:25:37
7.0 KiB2025-10-30 18:25:37
21.1 KiB2025-10-30 18:25:37
2.6 KiB2025-10-30 18:25:37
3.3 KiB2025-10-30 18:25:37
236.3 KiB2025-10-30 18:25:40
24.8 KiB2025-10-30 18:25:37
11.9 KiB2025-10-30 18:25:37
6.0 KiB2025-10-30 18:25:37
3.7 MiB2025-10-30 18:25:42
0 B2025-10-30 18:25:37
7.4 KiB2025-10-30 18:25:37
119.1 KiB2025-10-30 18:25:37