Package: rhdf5 Version: 2.53.6 Command: /home/biocbuild/bbs-3.22-bioc/R/bin/R CMD check --test-dir=longtests --no-stop-on-test-error --no-codoc --no-examples --no-manual --ignore-vignettes --check-subdirs=no rhdf5_2.53.6.tar.gz StartedAt: 2025-10-11 16:22:12 -0400 (Sat, 11 Oct 2025) EndedAt: 2025-10-11 16:23:43 -0400 (Sat, 11 Oct 2025) EllapsedTime: 91.0 seconds RetCode: 0 Status: WARNINGS CheckDir: rhdf5.Rcheck Warnings: 1