]{sFT;t;52>tQL .T+E+T̪Y3{ߙY)G*ʕ0Bv|:vv=+w5sH_V554(|*YX=/r-]^ô]8IX{B%Pk9?6Zk \ཽ/fyv*LsIӓ{׭%!'s%X| xi|:!LI.0u>~|?Aw}Ioȥ[.=?M=f =$vU0*i?D$Dw>P;;Rs !c8%[{ ȥA.)JK$7IkE=?^97!/Z QbF 2 -oduE1)ab?Ųawmgc`y+BVcKX+D:d! ٜ4?i@?\SCVI@‘&nN/;ОA.~Vۈzl݈Sh #~g4 >pdkda $ɨg i(q< JRlpo-qei@y +-ہӅ&J$Y943}$ }\ce=k q[I3!%cjqԽtl78ao6 {v$FAlGq@q}5Nu)<\b8a]01b,%{=Ëx ӌE zB~EOY$:-^";ћo -GEPW,j:4.E9tda+dvE^hJQ12Yvҫt ȺlP$[b\.}N4 }~/!{RsY='af `Fz1Uu D5V``b0n&"G#+35=-.A %ҧ b&Z`G촉n(`H/h6(mfa>6.T8xݵ"+u셪Lb1Γ+/@7!? Y>l̰q.V#Z4v4:c:̻$ "RX"|)0Fi*j['gSj]2j^8~ga8jd,х{yGYCc/Ҏji0*G#@ğ04ӌEK{b|A? $/W/ o|&b4^Cs$9m8!v>g _J|s \YEƸʣȔFQ_ ԙU?b0;\f#z1j2M~RHs9kAVRڧfYєrlcH7.ڗl%F=r ,5Qn:T@Zb+=b]0Cޅj Y ]8jKV%c6Jn 6E"1}lr&N[4lm`0bփYo/d$n@. %BU`G| JPN CK{F0 $cMv4&u㥹>E&XG(US[+1-ewhܓg/L ͵xM| S DCpOOs#R-9W.9פN;ׇ{WMvXmac|q[8JD ܧfգ)%}·*˲ĢO$vYC?)&_1WIrv `ڃ- 2#'ɢCѪrh:E«ȿbVA8,p4e(j}ʘ³Ԙ,r3drz7N{IeGK! F0F 4"oN{R2yOw@  TlE/3e@ f!Yk{C@PYgHu;q^{;?5~llٳlĄ 1%>۴-VS'8qoE|rĴRQW,AJb4MG`^"FqP"ViD-ҧd)շTrK+p )e9AS-ͥw: 'n7yiO!QLQL#ky==*(5>Ӿ .?)7a#8#\!8lvlk_ä,@CoDuGSM.`I;֖K$MON`Q# Oa-[@cs{素2!f l%QVD k!2 -ƫ)4|_X#!+vRK&8RE%E^/WL|uiia,8iFxEbLffH|b;u~Ƞv-Qp/*C 3&W+\l%W|t~2g~l||Va^6098]"MNYWEyG: Ro]VVE҅L\1<)yga_  {"`KsD4nP80Ik`h}U`X.ߟY* Zp+$V&bhcVh-Z2KafuaŰLzMI}=9 'l#F;k-j1> ?5VMhh44s45*MJSh45*MJSh45*MJSh45*-ENPS<<.ލ>0obY?dck&YsYSzv^gtOp4Ԧh4f8 FCPij4T FCPij4T FCPij4T FCPij4T[FӷN ASh45*MJSh45*MJSh45*MJSh45*MJSR462*UW><41ٱd>Ldu9fy#*y}{6OFXog+]cۥ~B[]'=uzv^z_+j_jM5DZsbZtF{MϿVJ_ޗ}"\݇|uVj-ZޟWg62 q >1o^sg'=֩]FChh44 FCPij4T FCPij4T FCPin)|A_M)`]VVSa/>a~O>af3ʽd`n8i'̯r~SOXO`MOh'oM>a~=l{7.75Ӓo 2:1+1:uvCg7ƼnØ x:c^g7tvana~+< aO;}xX aYiC=jo]0v7&{{h{aa~=r7.^2_P}Ɂb+߹?W+~]r8z RgNE$uM]%Jd\ES Erxq퓜nHe,\e@ChܴjWܩ,oSq_nϒܐܐܐܐܐܐєHҔHҔHҔHҔHҔHҔHҔHҔHҔHҔHPnD3QO##bi/z3/)'Et9(J:ܣ=%6Mz}[ps0z,By,n[Ÿ.紑8%,. WF\G)u#=0juׅv;_e"ifGEdXDE^_E/"Ea˰HeXh2,R4~) _Eo1#+CKb%d@ETd@e2R4~P) _T/*EˀJe@h2R4+rUuPrs\%YH>kqd1sZY|E>5cA$b /YLl$d2#/2xݐэ膌n,^F7dtc12! X OtȌodӘzdC\>GRWY be|DG/#2>x,~##SN ;> v} ~#,fX4XX$XzZ؉GcW Zy[}Z[}[D/z5nOX<1k>1}/xzOCdOLZh~k;ժ(>dz$!{Gn̡i'jS?̋OIagTvP1\.aXh> doCuiGj|S>}{yr|t0P0q oxew-(EˮL4I}|J8Pv*(G0_*Ux6TQ= 7GIqv.8g:&ljC>:Hd-r t oM{ۨ,Zރi4 tQJ|>xQ gH}>:m_N.VӺ~wB+ϼ ZԠ^p3O.L8eK1zZP6y?pbOv4TyCjhBj`N)cM^a Aquf*GJ˴)(R69~ w̴Akk8'8/3`i-ӽ n6ӂ מ(~4Ii}ӝdތƤH77}˹ӭtľGY A?|= ﯌xF~bLo+U ;;L(9t/[ =PEQ*c4+Tex3^zC.:cj7ij,-jn 캎%}cgjxS? {V%'o^L5@K5IMU탊*EETdn׎o2m:u<+weow֨h8UZzyY71OZ+j}*I +;Rj_vEaDi,B (>1GSɿq54#v!?T֩ J3wyXCxTy~h0Gه7= ~( -:J'uRHKeI;Ygur;@`*$Yp>G6 m ^3~AzG6GO^|Q;{zgjRbxh;?p .{=7c?风-ePМٷa\4kVX vHVES`Uʙ}y+ޒ-O:~!51Bww~j|Tb/ygr..{̹ϬH7 р}s9_]Bz \Fj c yRi("9HMm,SR%q" F6}7$JG] b&e2yC֣QruJjq1L>2y;0{P0cB(Wv3,,sYTo"1)uy@TC)F'a=g uRǹ (Zkn c .uxe1VKc aXngd|PdT2SޡP[wF+bىdD7!C}Ѣߩ5j6k,zT#SS ˏs><)K'FtEi&啕?فlVL XQKEЖ6=׿g âme5r2f w/H낏g5 y7d›:3 >(# G Ս^Lp *N+0.LB@z| 3x}oYGA}~1B'ylnh̃uP̐95<ͯ1HҩY@8MfbOBxPS2eĞa`Ÿ޲LUd㳜]ӹD쇙|QB)]``uO>0 M22l^} >g Yʹ/1oeTW?d{J4 eQs q %LYK@"Jq0k[xh#'e)hq.Nצļ\vpJ>S5g輙`dal褳x+bVh F!l)a]S#Kܛ6 2RGw:^uFՐ!D}$g~×'J?;*1el;P S&3A0^S? Ԓ֨5v{?Uw=vjz䬟]B~tϽП;:~X_rEUOT{_4-4[j[ھ, ܦ><<(uj4Tq|*g޵>[mZ w9+T,r@Fg Rw/Gx@Y\<6FTY$qe,츴(*Xpq~23'ҠLE(`wuT D;%iY,Lq>l(˦ -/Uu|6[K3Yp 4?ޓ;P}@Mn?d M#xOb[& ^ϢHCkė1ڇt.T=_uC[.ꇫo]zw1 q$@30nUh qg_FnWFl+%GhpwtO{puz?Gc g< s>φ@$1B!|GJjrn;Li1]BϏ# | _jJl9x,<݆6KF}N6?DY8LlD} Oh}(@ty*}E̹x6uMk]6=C~ Y)7 ;<Y7 GZ3F s:%|>L{'_f9%q N.Bн,8-~'fxDQuT5 M7kv'IJRբdBVU->p ,jWGf׆}xo=!/#>W.fXƭjbuO!/ǩ%gILPmebyn^,2>4S-F Wgk8roOGm͍)fFGv'xFZ-h~ЌF `P#KV5OhfpzlXWBb=o8<̘|Qwz8B |84īTkYQFY7ZQlnHi[7qcm8c >Ȕ<]y~%τM#dB t\BL Ч8vXѿna@ \8a#ݴxYzr"%w30c=\b>ù"_:'$֒'cu8MOjr11u O }}4(ƞVg&q4K-C`=_1GWV^Y( {5D(*k߄$q-D~tF#Fqh1n1ob܏i#2+ _nөgHMϨ5_^].W16 Cg AN, kԕ*NggS+v'yRϔlSh,;HC,yn t7ێ'hMql'q;[IUߩa>EfHNEkףM F,ypPѩl#NAJ2]BR+rtVCz[ %``u]x:TKUFvR;X-i5ۍ3QD%2!s)AZܝU܄lථzV n$+ڄd-"FR;g8T-e]/"g]#ɮе1t O.Z{GCz$͌Xib/RwU;U=U#ic! !<%v?C8>;[U_Z-s9;sΝ &ppvvB ,~q:'1Cxrt®^;ȫ5b=jawS{ "jN@E\^B\w=NՎ錂^~L]qA n7mč LF&q#I$na70Ač LF&q#rcG5+`%)? gt\!nD(? č LF&q#I$na70Ač LF&q#I$na70AgSS?$nD(? č LF&q#I$na70Ač LF&q#I$na70Ač 3ʍToDۚ9p,CL+ap 1_0ra3^ZZX/QHa̦g`Z &4A{PZS_^R0w'~qBOTOO&>zLzʉ'~8'~jgO ۝z)aR?3l7}zBOtϰO KOϰq{g~'~fB0ʢSdtdx!Im18 hēvO nF]?vӦQOc>}z ?V8 ߱dFh=)FϿ? O;=߾Oۏ?oov޳Ljw=UB^O̠{kW-xUmYwsuz[_UQJOy{ d ـ> X#o0AO:auD??~ ?vI?n넉?f?^S A8N1Z'N8%fpZ:u?S, I8&AMTjtu U:O?:N~Ru68mIq'UiOӦTM?:NsP"DlOᝃt$`Pb1B !C0!ĐLbH&1$I $D`C"0!ĐLbHe9=MQO޾#ANPtݎOot6L_-u8bt+s%Sn. [΂ 2f"Dl('FIPN 7$c(6,c054c84Tq?&S"~O ۛa#~ŧHK<~x`׼c?\OC&2OCZҹoTZ_Y̵Ɵ-d2~p_m9K"LA7QEojL ד2eB+Nv)/i[ZΕln'^t[}hUfX@7)cP[J\{ }~&S ~ã;6臎M<jj2ܷW57,#>T>|{G( z,[Cz7qx)yܖ!!aA u( I<_ 7پu|OX?̚jZf](*y$5bYo/,f4CI,+Rca%Um7Z5ٝuk[tƌ=+ _.@0ﲆklsw~' Ömʁ#`Z^lHv϶#ų롯/4*)놵U[Ǟ,UծA/((=Ľ/rP;^I,͚nφP>n.:Q0Ѵl:Vˆ *JJ_NuKn9J9T$ϘNsD{d9ڡV3T GsjmNa}DZ)BpCT.k$iFR, s#zV2'g`|k.bA{,`15`v`(tO2l[Ѵx\nIB!\I;^d[;t&e'^ױKk - 4H=ON1 GtTc7ER϶4Og q;Kx-LVoBSN&h'z߉U۶pDŮ_E2\ 2 _=kVI kIJj|lU_dW L^,܍Ԧ\-;r Ɉ+$XeXݰaխnK7j]'S$}W7SƱdٟu Mŕ Ҵk55^}ժYUqX2z݄er1j?sdI |Y'SW13mˬUgPZ۾'>{S MuSQG|C<͞z@uxi~իU6{oe-)9%\h[y%yw[j\-*S)9]KࠞC6,!j0zvۮy-Z:* S{IZY.mmmޅ pt0vj&/x<@*w_c@#8=$/fBa0%AͦDMP;I55_:{>ɪ\'YP3ۤtD5@Yp׉Nד pZ&Nl̈́#EY΄֫ 58R+^ѥh0ijcۨh|`1mO#6ykOؽQ$nIfkCЪ>`,C*4$T^Z]֕e^#Pn7-3Md 18u>ˆ'DĐ'×4!'I[\W; %1F)Z.o^yxR|Rˡ$U39;X.Zgu.z>MNl ^r }bt*V6&݂ˎ AR4U`M7[5!KA)bcNKL0q.{6BU^1!B?#WK(azm}KG쎙p[~C%w(0pXAq/-yic:XܻTaXU|BMX ᡦ5qyexo8|pss9Ec'VXcP݆16iY,dx}^Lم'ҙ,=6 z\-Y{交^>oesyUaͲu2IRr˩W1r#HVΰ}mS Xv=]Naɧ r4pڝ lnfMjZ3BjĽ'C^qCCis B^^_lsII4e>ԭeKa9U-oRTݧ!q}ξ3l39X҇ϐYۃ^T0M ! LM< =_p0:rgtXKU^UozmP`tN*ۅrmٓvxɑ$ E"sNRKk5CC8k7|qpuf  ^#ˆW>4b܁hBѷ\ JX;\I'y#U`zȜh#<&"a׫|o)Ϣ=Q{%6sÀ&Vu ǜ̀xKMle"p6ߙTL[rX,QG%%!䄅L &e |L:kcN6z a˄!˵lyB K~o @=$\x3FSfdFVg&W̥\gn4Y^R]2ܡm=i63`B"Wřc?/'q RГD~Gb:B&rٺ΋Æa[#s5DUc]5O#ƢI1gʐ_~nU{A{'}ykuO/m0㨏ϟgyÔ>$.?oӂ}Ԫ{O/|X}!CE9>,gz]I%XgEqP|W*1rb.#!ln `RfV0[fI5wf"K X*AijO9}Y'_TvD/?k]-_I=!UքǙ)dx7Np44R>aU03i]6V5>l2м]%L^I+0 L𜽢dQܡө͒o"W;-6T[7Lh{Lœ$:ԴsՔ/+|"7W+Q4L[~ jJr$ii]vl![(;s'qO<@(`hhd{R(E(EP}"@ z8#p ZQQ׆g-\N vjKޘ>iI=:v A{t8 _;u03X> <-}Ӎs=GheXLd8މ+JxH1}oQ Nntb,.(0;iZ[l][|&!'ҧ&d<ȍ`cz])B%7ء*a#Cpb,$*j&4 Leyħ<6<ۆ̸)0 Vfd_@Sb1Ъe rA: J7+Wןcw7كR\xj1L~Z5 w[. 0Ay 5cwLG Pm&&|,vޤ,l\,[ъEhF<7e!B2'!ЪM|~knlBTɃ 5Bd)ub\$bAt]۸eip{$ rma NK(Z e+Z$^kyϴT)?&>wZJ Ȕh2}ngq@C9^q=Kͣ]]%&cW*n卨WLW1VY~݊Qxի^}n^*M^~FJn=->z@“Wa;%@AEf wzv6P݆^hzfDr"^"H 8&`7K#eLU\,`F52WRgCX+ 5¶'-_ RR+eLd5G 9yA)"W#PQqX8ށĤ !!jsפv{|/|^{MMPH$y{s8>ͭm.ܸ-/ZAe/,WkѫK !~6Ʈ=(!|t-0YX1C3#q=ѓK.Ί amk@Gȕ (8"]=4=ԎC1Z A\/6܋S,(I>os5;:zjNb 4I)y;Z-iANjؔ |5qR7|{:'fE s|r<['U+WIglevWY(7̉Bճ>0^sL{N[S߼ģ 4w;IZϰ5 J:u`kNM{4:,%\J+`DNUuP.؅f3W41؝[ntLvLe_VM)pۯR(&'i 0L+t /x<>\U8jSʽʲ&#qeP/WqKS1HE~$O@vr"qKsۛ~8Q6LZ$gGF+9~ YdP!@7 J>@Y WMCj2b ^;2&]f>6>x4{j0c??}6쌚jf+А*6:^R!X5Z/}9!cJH\#&195 Q3f>=+sXH/f=Lh.4^iphUۼ >0g\l]iJ[^X1tB.,z,2-TY*VmޞG`)+' iOT&{Lu^zTWt T<oz|UZ[gi4dˮ oJ AL*UUfpTnݭ }/+%riJ&W(%ʾaoڴ "l>ChGwG)8:GSpt N)8:G?^pŞ'(鴜x1_Yde!O]ٗG}؅5!g~,lwՒRlUZ>/y'c&oP: 60Vrp | d[=/0EiS* /°XktVU9,a:0D!}n1p^ 1̲[YQus*=S^c]] G h"uQ`L)0Ex;#TR `L1X p<؈qFbLJ=x-Mm(`|bݻo 8AQ) yo5n#4]>Xoؿt19vߥ LE:mV1`l0Y7["R_K)/Eȿ"R_K)/Eȿ"R_;%Qx(3M[F?!(/ȿ-b6i#S#5sjӳҹH:"$v^1>]"U9E=uʑ E%\arJ Q(Ϯۋ 7-oZeҭerJNI'Z1Va;'_wF(WG_Kz ؿbR_+ˠL%!D 4ծx>S>xdqS`|+\z ,;-F(cX/R_ K)ow7&<]44@v}]%=ƨ2 $zAplsz񟣂2>aft7v;.} lToοwԴ}(: ߠvjgL9{'})! do3|ְ߅NެeH+8`A`4k$Ԓ5>lFYP2kF MXHXNGiwzH#U{˾z(hޗE8[vP_^^ʼ:Pjfs>$ 7VčMʐ{)%i0UvB/ #ɭz5[ەP@w$v ^?gꟷ ,Z@qeTbrV%abq3u<~K$ޒ?F!K&eFb X4TIdH 9}[]d&^0JEm] ǡD(" jE,.R+v:%EmYj96z=o>7gdpqz3]=wz!a&C13]GqLfglӷx1Eg^ľlcXj~Wc(z"`c_<2p{KZYR2X4{صt0R'-% NؙN|8x0̦3WX&Rmxn1U"VPGM!u#>"s6-4ϳU=Wqx1pw)NcT65[v7lVJlJCˊ?3&c>F 5rs, Lы! קaUj]xry RIw0y-ޖ( L7xФRsz+"H}{Wv*ۥ{{G4ܦ_\'qJ~7h{ұaT|:3*ryN".j˵xw )z#{ĮVaFG6 vv*qtەǮч>u˻= `e;Qw:cAiD$Aw }pڇ݁t" ~D @CoPpԛսħ ;5Q0՛qx ܍K(}jTզ֍=RPLo>+z$4Y]uV*+RS3{(֝]ݕGI:HϗQ +YIx݈2T˜Hg[MCsၸ]ONIi燽[NP pD S}\8L"Wc?^\QOY.iL!1?rЁvJ.Y贃)>8@+>3)G0u?yNpiR+T`3 ڄN@d+ dl2«{: !˸-)R&&}'%b$C}u1= j;c56 H?V go*;k7+s\xzi| Efze0Xp@?%e,gRx2"tDĵ{exDd% ^5i>Rjսqg1#$.'<.!=kg]RKD&,ә"F( P\|1gn `nfiQh5'Qed,m2;9EFqPF` Axbs9:e"טW޲a|`TYRe[Lt2'^;Q sLƜr*Nw wcOfƩyd@d<:iIVg3%dp]I'<)I)?J, .V~rP|5hZzt?N@ _RSЫbؾw\CSտo'YIC[fj".FjMiXCQpEݮ5.cJdw0?!}Dx=`BV cAq , WnyK칧]7?c\#X\'~lf-PGB)JPBB7((,uK]!UW %m փIS!. #0 t|جxz<6|ױ~P[Z٢3D8}iaV#|zjUBǝ1Q=͆Σ Σ;#m칈F:Й`Css n M\ȧ;y~]zaGl_5=0 {@숀RW]*gOH e5?B}ű$vX՚|x5@lmUYav OZ{`;ԓU>qmjŒeʈB}lrK>CwiE/c[3<=0/4OQk{,3<کyG8~S\R _u3U(SMːdaguwPNr,)p^Peg%'*ڞ KhP…W@jky^|d\- an5 y<@'?Sib/^#epY ?vWX;D%[ )Xpz*fn׊x_܍طV }jC~aRVǟt};rP ˦Z|Q6ɕ!v-Xp=Ẁ LrNr¶I3Ƕ$Enr0>w(K/܉n.}zJmZ@/‰Y(1'A_±7Np@~ @~ /'W}8IN 0N EEٴ]]ΦBN,?DC-:a-6V)(V5' /V<6\RrNG ݘ)"2 Bvo\{QrͪѪi"K]Yy6RKG:/U6>n1A[@bY]ǟ>c*"rYQ%+k %W5ݝ?@̫k骶wtߝ]D_/Y]SEN{EB^+UWbwglQ_jPՒM}˱ShCk zV҆ / pݣ}CtcD ޏ Ʈ Ώ=M"Aqq crvhcrycx|~mr/`,3:%ow]3L!YX/Fȵ;nr'r'r'ގw7'K-FjUJTNb#^F"(P{3o L w(isImʹz,#[ ƊB/L.+.vR8l:5@ͨ-af'q UAFqqçHMs`;/V"=l',/Jye#Dg!DF|4E|cuLZ9ҕLִ=oa!Ux+ }C(%Ӵʮ~)Q̱X<Ac㱰 иK)g?wGP 7G$Lv-_⫝̸*N(ʥbxI )q*u݀panjKX5R {:/‡~y 츴U9zG]vq_jOkGm $ YnIBi)(òudas=-v5?XQc,'=Huj5 [Hbrj.1SԸ)wB!% x#Sn\?c]1e(BE9F hcWZCȜ: _J[U[N/frB6&$.)r)/$ G|N 7?:y4x&WwLA;r- '#q2xOxA;G /7mKG+5Dw_ |I\c%??x~6&8 co[ 1ݷ0pnf]7J Yb䕴3:쎁(Y{+pTi2eurz#\4E|DԣՖr+ /jz1]b.W\e3x-CvӮ\]8zl~1?dB"-b bR,@H)`XS-sT1 Վ 3+#Fr ^ʗ:'-w7Eކ]-xor:xojK,;2L c{ !mC:n͌3[`83a4S<ǃSlh\!Uc-vqO,r3E^>O+boSxsيIC6s6=dϸrM$kjkTEBFGYc\Y o}#ʓ#7Żvƴo!i_Ȓ$.{A& `& `& `p 0  <9&bG3v0tsZMx"n? p` !+`V! m;ndK}љnL[:ӖϽ韇Kd@Ld@Lgd\&a]]:XAWoL&FәO:%{i~7~7~wo;O+)jDFId4Qy1 Gm6@n6pϬrGNcq )\R Rm7uB8B? 3L.+=C\ROZr0t@?k$$${ϋ8"Q1~pWYTCb/FCx `ؼ'qh2Jga XA/At.N8!91\H'Q$fƓ.`|Oyw.RX٥YD"{D╮c_GUG^(#|6#$.iS Fp%1N85PL1=PB ȕ-溟*LTЄ Tdif^XYrMx1wn=}EO[?4Ox9o'`ÛF 3qIO1hyx4MLF)ũ=\N1HE=*j/~b 6`..j*  Q +( 8֊K,K™yj^*=ThMUON Xsbv1xcGcBQ/ E(89Ύ|*z>I?x3oN8^;JSxQE[Mr:Mޕ&=4ɴ>vA-2 9r"c=9|و7p:rsdr(Xy :1BnyG/gs{oqns.:mnc;1#y7NpdNdNdNdNdN'm>C_Qt>Tc]1XB˔.@yN@䱠@]7:=eW_fh4%W޼w!$~Z{?HR!`$UrQSNj<$}W\W$֖ݒy*%,ŤUX;%+#J#N%)_ gd"s^5~:B͊f*InjG U I!xu|#'*OfOШ2ێaY[y},Oq"vteg[Hy/?r" ;ȶtRiS;Q|kuױh\*w`Վv/\-UD-hLz^t>$GK2LA5!!!Ha2%<;'b8Dvw~Z]Ad" n$0|y3/{ƈݏ~8߾kB~G˱qÇa8gt0>L5X3u5t0o9||s30 c,Z讖Ĩ|8m[BA7*å>5_BGy;a瀎-e[ ̅౸:L̳]H`Nχy u0`~qQR3 -\Xz2w5!zp}[WR.#]f (kMB(qr?#$ѹk@k`%zîlo:T`sχI"CܘC3Q';Gr_APГp )"O]^!ӡ/O&g?L.C?οO0BFpu999vg2ᖪQW2W%sQV=#}x#1r#qaϰ 6^3s9 g_{WH. ]pB p2FB@?k[evI@IeGbn1\n1O7~pR)KO.S)fn.W39Hr&1^5OQӯ~tEIӹNՏ (3Ym-z$]VqGj6aY <0>ξfLƝd4PVbF>2X<@b0Y5൐*܆6oܿ?~\/UvnVVii6q;onW+ ;ڀ1%_'[!W9C)s"& h[B\MMUG^/D?yNI\rV gWdbQNĺ85.I.sn41袹b{D0\]ɵ%dD"K"/%IxA0/DZ4?KW?gh5f}|04OQ'ûq0Q~#nݷTY|93ɒ!6]Xp=wֺ l -۱926e>Ya E84%؎c rA0MJ7+Wןcw71fgtw9%b@30,j@L+,aqBw%*p&5f:<_ Pm'zcR.+Ȳ)%J@5 ynB4?EdNBхZp[5-}](*y$rU,ŷμLp`m< K)|VMDZ VCJ _.@Suna5s׼w/&mViD%nYǃ7hloJ +Z gB )418F$BWaEb|^@rSjr&*"<4AehtލYp=_TA9NKAZ.t6e/ lȅˣ ąy z `锔xD)α)';-}~H GJ@#^R1;%ׄVhpnVVMXr{B~5qRP.uZ2V;j޴lhQ5h]%oC('VN,&tz}spwHMJ/ w\-)Me^֚S\qk#`̄j2whw<whr1m郠|+yaZ.owRl|_)uqAl'^rx7%h ݴ\>֠X1Fa:|UeVܳ>9VdÃq3^\~#"{R-^@ X-pf/ "rz .VZCzC*[۪ay * l)ٰ^Vs_$PJ|vg[LD+"H{C*W 1#~EӐAXi {??#qR 'iLf@ň~"!Ͻ3p[z[㬢gOsLqBZʕMKLGT0ie;*!#Fh%UdwK# ?>B!MI\B'[Hg24Oxץ,wEYI=!Uּgbf:&\{ZOh+"t65>lf@ ]zKV`Fo9{ECǞ9̒Sss6Y1nҶ@T'=IuqT_L~!L^-w2L";+b1e+yeTw\* ~?uӋ'q 7HEB6XY!a3"bWDW-HjpQ2Q7kVwՅl!A8HΚ^Lf3,S(f̂Y/hvL#tPQ\?. nhS48G(Ehp} j+>ո]PK;?[Vہz0c2bL@ 9'+wد"~ R F0ytʛugKAEseK^e,HtؾMWy/kϔCfݪCC &yETۚJ*6yϴTEiTVzdVjm @D`R9v;<NZ_j7x*19|E⍬Wq+oDBebr֯[ oz^ԫ@-"]^Ń ԫݯ[H^[ Gr<GYpWxU>l(Ȭ^.PԮWІ ͣ:ZѬHNkЅQjUQ#gK}0p ;fjM1Mt솻 Hg†惓(c#19vgJLl%T@7 P~=V);[Rf~Cr8󬬡iwRWZM.bE?ҙ[\0請0ܵjė_ cGк ^-;(j h^Js^Huó3u︀ v0Yt} K Qk<Ε#C{{Ԓ1zu_HS`s^Os1ۼF Hcu wכ*S> .59wL1^nV 9Uh5Y#\xΥ{ע"Ю*;B׀N5Ǻv<],}ޢParć/&CR+$ylpm>c*}vS&2x~S7n|>/_x+ɘj['_c5Oܑ:W3a O Sy&BD1X>A&yn/.Xa/7q=|ӛLA^n7=vӡтVwUFEZ{{C 7NZἺW^}֕s5^Q0H Nhl_KmhL6S/~\͟bKq\K:n3+{TЧW8#IYE"?,T[;R.U{J)$+V; <ԧ`/9u2!05-4=vʽ"`<6H z9Mp00v\)Wq^,Hp#E>3ݠUt  翕#B@! B@! B@! B@! B@! B@! B@! B@! B@! B@! B@! B@! B@! B@! B@! B@! B@! B@! B@! B@! B@! B@! B@! ح:˰]/m-RGkvK j0׿ jWdtXCݬg qj:0_ I8jUs[u5TݽʖҘf|o5xA-xTze5vԪVw%/p Ak:Ԫ-WLh M\KmWonNSjr N`Vmk)H9XP̾S-Pw mH(]i0rëɱ^'r4*VԺkQꖭ64s'UVTYs T,fu2%t\L]Z5*nCޫe uӲc\ȒNk9MNVf⪶R+ؘ8Nper6 ΠP,}mߔh62ڪtu9%M⫤TCST?sF}mχ_fv<0(öTl6-$W4ҋs~{(å|RmB5%k}4+ Ԍ0va䕴fm2OÓ9{VM6{{yydb2kZݬ t5[;b,D;0 !j;[do%VG9.zy4J%>E^̼X*3}*:״78w&|U&?kPo"yΔ}9!YH<)܂Z0#iP(e#\ 7w%U"x=#7ѡ3ME5mkl< mMZ޺ҡY؊Ġݣjb7s*kk'>&W992]ثO)Rk?.AUzk\Tӈ`v 1 'd΄kfU} s5xZ:&kUKO*`PFDtl?䵮 >aA7 $mm8ڵkyhU[XNyeH3EVW"$uedT wˌkSPP3?yz] !P1{8|(4<.'ē+~qUW)Vr%T*JXWa1C7RkO.3\iM0摑 c\.~Khe4XH`r^Gԗ]XW"iȭ,ZR4U`E} \pD%ĠZoݸV*8&\7sn))7 ˞5YƗ{K8]>R_Qy_%M|U-p9P}3kF~Cw(Ђ9` 2S89{Հ UʞnB/CMk$Yˮ&#jPE1 77W;7Ou.\"^vat4Po9vUwƈ8p-,7Xl&)ҋB:D:OXKjA{Ÿ ^>oesyU]mݻfԃr*">tm*p,QTj wf1:88PreS|ʰ,GSjn $1\ZZìI_Y~rxW;t9:!!0s)a)Z2I%2\(7v#ޯĵ˸>gRg_3Ȕ03d*Lz@w xγV^m&3 lW %mv*/}7mcG !x^sAJpTQY+'WWWĵ2[#I@P7\rC$]V^^Yq̍v_/?^?eeC1+7觍&}{ !0񡢗/ +3d:P-0KlEuܬ<͜"T&fw[yrܹqbπ;fſ-]yu,^II{g[5oJ9Ȇ@J| fb}{о %Y3,>h`@x~SfPnt[! >ve!#WdR/ UR2+p}~vN<$w SG=(rE4bX6t-ۗ} GG`Mj Α-Քeˠk2XKL;jM)x@7*۬g#S=4e^x 6 ºуOB<jq6op~#]; ԛ<</^V |Ree2o~I^et{yB!ԒW37,M_)Nzwl /m>̲~3RL/ mlr+Vhzv;^d:իsǘ4's^DҞa@{Һyk|hb* VVnqcs{Lu|jٷpbT3HӨ_p.N2LSd"ίclXݝm& EELH nnpo^ad~o2jA5$\xꮺ-~6XY9d LYad {ieap.:E.yfn3/͛t0낸!/0tY/ҰZ[g@wUO؂U5[aa8j LhBWRGiq۰Z&0=3Cotڵ\j]/=u޿XCWDWx=ilrLmgfY]L{ Az/g"2F;eO^ ( MݓK@WC!G 4:;k ҡ^HЍm d.m}DQ˩ȇ,,Ss4r2 g\Ǻm|֚=(BzBqxa[0iJ|"QK KO2-=kk!&>0 7,,4[Ti븐/^]#e,a /9 GVHmMo /{8ivPAg!:2 n1ȊV5|y%>YR[ٵGC yoQm ÁW dB!>r\>τQ<&<98"0L %`lB8ӻ|ćbQTDe3{70<﹅݂oX{n Ch$3͉ۧj˵nk%6vDxyu+68;j.@=B`ؾZCΗ4ۂJw;m^?Ŗ: 4đ6f[u-gW}a sO+^c"~^z]BZêt tnecNO6 >twLg`r rM -DrO rB>%iC\2L~u2>{6y1x)-!.܈{qOL7hop6l^B@! B@! B@! B@! B@! B@! B@! B@! B@! B@! B@! B@! B@! B@! B@! B@! B@! B@! B@! B@! B@! B@! B@! B@57[uaoaJ,_k[, 7[J-|얪a? ղ56+x۩ԭ-vUcEuU\}_Yik;쇺Yg2mt`@pZժ8j쩺{-1Vvj"Zu[B1jU]0 K \_@.( ŃtU[n *ހ7,܍Ԧ\-ƛxlR$q r:}j[ |P#C>Tk5`J嚇WۓcNcibUVFC5kEc}vuҍZjwIl6Rebc$6dMY&4Zͤe}ժYUq,3):^%ï3GtZȹnZ,zwJ6WK^q̺qK$.u`Xu^`G#o5jhvbΧf;# R]HSctL/%9f/--s~{(å| xuu-HUfɇ#Wlnt[,SrJ:ٷfJ:?'_Էcp[5uٲٶ̚]_⩔[߮%p`2WU\H}+8F8ћdl絀lUZY,׶6B&( |0fMP^G^/fBۧKb ́ ^k>kZSU;{>*s ]Rk0mR:S" |f.`&r Fk|KJCLKpEf7tވrkXޕTu%vFY KVS<\(_WeJpUCSM#g,tL =A.>*4UGS>e:VrWat(㛎76[5oYutfh5~(a73<c0MۂFlZ>` $mmFIڵw! yhU[XN؈eH3 DVW"$.uedT wˌkPP瓝?zSf !P1{8| +4-M.'+~qUW)Vr#T*/mXWaA2RkOU\ia0k c\*~pε8X`^GWDMCnc J+~k0ꆣ$ք4&Đ.`ƵV鮧! g˙pKNf(GU*\DB[Rʅ5X?w\-)׃\BoܫmKKG5 ;(uh0~P | d^fhr)^=j@,PN1_a&tҁ!<Դ&}@m2B/l6\wsf͕tM12rJJw8pZXof m&I?)ӹtv KyMf 3z]VvRu2IRr˩Wm@5Rջ3lfuT@9)]OmSp)òM5Tpji~6VK &QL{|}fYH6g\Юz \׶Wo ̧yGxh id%ÀONpŲ:CMZJK\[_4d0I4w 83j% #E  ] x̳aR0GMXØ~}F7ߪ].\_fv &o>k>H2](lݶZfȞ\]]׶oKD&A,rUOqNvuXzizfhgƵR/37n.Z~3Fj{ %|v6P}.?@աҗ/ &BΤ;"))va1,Vf](ɚg{<)yQ.K"Ajve!#WdR/싇dRܶAlG-}ٲܙPN씌/r^c r׀@=Y% YedEE8шܼM<WN^.ӝ䠗7qq}F{P$i`[бl0Z@U#/jLE](#S6)u9&Ad7!vű$vX՚.R@(7*۬g#S=4ZƠ $ .XkΎkPm5 ϘƶNj kG߼()잣{ʳp)f>mTPę=BMlpfUkU5O ;Pm"9D.ve/᪍B0GjAbyٳP\ů^ht~C*z%T%hv"p0XRzKε^ qS\lu3,h~[=HV(cV"`ʇpOS%WT PtxߋLzP #%{By)Aؙ=Aع?A؅1pC_)UpIf (қk=ؠ]IfzP@4, G۱Ӻ ^r@;>r7BZ3.EwxazC*ɷ=hlezqԣCnt[0;|zӎG40_h ܺ.C&=Gzr !ᬫ/ķ71mXAA1y9o:"T(,p٣:=Ky4Q[?D-璄jmn0l`C*o? y1;ke|g Ѻ|/B+t_q۩#b@ o=P7jb>lAF4Q* Z n!`mIΟF=Fw[?E]J2

B@$1o\u!njCàNy&v}iN}k'I'.pLzu VP5ɚjR2\dhŊ$ L0U 𜽢dqcOfmrdY3n@KK;/m-m-m-m-m-m[tnq iwŨ?H?ki^;NpJ1k8_P Sܫiؾw#EտoO^Tԗ>6` `N;kbdI X1Hlq![]UDX#QӰ-Lzi1w;ԴeG=8+cCGGg>0k;G?Sg L>b =PK?y2ԃ˕B4f}lo \XQށ׈g-`\N `/z9H,};^P_;=z}.{Ƕf70-8A)q)ǜtah\pUΏ83|tfy:3;E"+əZ95㝓5&1'Q%h"yK/& ;&[<@ [p-9YqmLrNZpdDmHn ,wKbe9#Tw;ǧ3 < !,*W0aVψlvynTfQX +|\d2)han1s9 CF{۫ϱxqtw9%STRl}q2I UQDdEavN e |?p>mS0U^A xm$KZT0ͅh~Ȝ̣ 6&۷ k}{J](*y$X,ŷμL8ny@hSJbdDjGC/yyϴTEVTVzdVjm @D`9v;<Z_j7x*19|i^F֫7^2^9 x׭x^{Hq/ e]A׭|n$j^@e]^ɫWq"z@S^CJnC/4hFV"9~LjЫ`=JHp)`u/I> B#(5`:n~#0u[ ^͋ -Q4o VI5AT{#ȑ~3C فU(ǡ:c-Fï 7T,a0qiNEWTrUlj}[A|Y Z4x1>6RkjߓgJGFC3?<+p4P@f_*'Ix 'p" U QJĉ&c=x^ x^tGH;=Krlx ˞-Eȿ[z8ڏBj;\ʾW<6-j@'^2#iOf(ϱ7Np퇢PC~(Eh?퇢PC~(Eh?ՐGhJsh:ө Gs:ұS҃uZХӲ(f>ebm_8\Q+\RrN2~/̼rvp^u-f#rb~=r&9q|M yS21^q<;\ZbေAҁol\Ej:{wxȇB?ϊaCxiMTltk5n~TL,``n@4 w^@ױh.O/Gf1'e($#H@(E "P GJ b H qރD1)4L[ZP #1@E( 2 ș>Q}Z:G3‡P BC(|!>dC!=P?!?BWL&Y(cQ2QTP A?>Q?XY%վ>>̱Ɍ1r(P @1'( LJaa&*;S( TgV8zIS'B/"|!{NuQƅc[\j,/PO='|Cw8}l&RtO@dl"z ) n~ULƷy-˃a=OLr0./aM/a:;YPxDջՄ.<p_^}tv!NRۉK%xI_vۼY״L]Ѯ6Ј^\3 PWE#6;LJMa3/ōF#r{Vv}0TOQꆵ cG?,ma%9 ۫wWV8 =`T)kui#%i{TNk&Z}tG. nZ9l>Zx23Z##!V\֭>Uw\uw}[6@xRu%#ʟCuPp@L :d$=c?h[Ġ AfX^ve$ ޽ G63fBf0.qViysdN ;q!.&lŶM.7?JYܵ9SetvϬ,8퐮{lgtS0pYw.uwg w)xA^QeySy$73 kf[p =C${\exůzA^KKC9e<>qOoV^kH#PjսqoB!OI\(<Us yb9?$zH:S,vIG:r^5WȚ+YbF,)旊b<#KM[vӮS?61qB> ""I\?3(5vuQQh MA)4 }@~̩J2*0z-vp$)# pMv9ሾ}* ;+ɆI wz\#m̌3o`N83Q~4SS9=+1qb'h(twfElUʃ3z!)fcshk;'kLz[cROK(D_TsMv xr-\ϝ.qfpK.>ܧݵ0Ɉ$cې 7L-+Ye9#v;ǧʳ( <1!3q3W0a VψlvynUfC-"^au+L؂ք[}|V6͑=<1n]Y\;sV}ZL%5v[./<`|qRCu0[r*iȰ2LGhaPmF<|aYKWe'scnK@ *ynB4?EgdNBхap[5˾I77oBTɃ 5Bd)ue<7Q4D;§Pj;$ R; @3o-VmhQ`V(]byL1#ܣA,¬=S @PCWuī[_o,8 >^i5yGީ1?(,W]UW јgѹK|Y ^x1>6R!_5xuL癁‘P+|qgl˟9[53[ ۑV^3u?=4G-MLw}#:4=ϝzu?Mv5)nj{P az>&7 " w`hp2d4Hmoa[D(/Lm ܗcݿ~Yz5N_j0@꘾Grm~8, Q>5*Rg*44GB U5vz:%idXJݒ+oם-.[Ͳ%^eX"2Va^7{T._9A|): n֭:4 h qCD^~x}74kVr&{M8/| [>yϴTE$RdVjm @D`%sWvx74\i5NyTߴK⽫}zYVވzzu׭x^{Hq/ e]A׭|n$j^۝G#9@⣬W +mb?}G(~Ob?Q)UtQ:QRs(J!;xe:Eq(n%|K+`OA(%E+9pTqŗ܇WTTg+FA,;i^T,|\KP;\Ů~yD͊qr!K9_%+Lc+K#P̄n*S \P-/-q\N| q5R ~2CxiMTزkܳ'#j~|,l֫Hs)ϹBL8]_b$G&?&r]AEB@(E "L6Hc:  Gg$&H|d$iLAfڒԆ '$5( E9Q@i#~?z>p@E:hV1`D0Y7["PA?(E"PA?(E"P~F83##z^2i329*"ٷr93@:\4oW(bPS!}8J4#alP>w[!>‡P BC(|!>tÇCDC(zE ^\7pwL&φd u #guSP ;ǝ wY’*[qeNfc|* Cb(PŜ0",xcDf s^CL61]ǺweznWiM ϙ<ܐwWnݽI^IkwVf>~~^o|~s+<|bsOO/{߂)^mW_WjgOgϺAO,~³sK?3w>7?_U{ߘ~o~z=w|̿{=s̟;S~᧿S[٧_qoqu?G'?s^ǔ(ԕzٗ|vn/}_Whkgλ~W?_ΨmKgo?6ez_~wmW/?Wzou~odXyrz~~O}k>w_\~׻؟՗k_~ 7~//V/‡>>-W?y/Ɨ錄mnnGڷe?W^s~bKG5ue%=y~U?b/|;>;::?zWw}3> _VѻÏ?W?w~︳}Çg?{>O~;{?~ۿ/>W>K?UIo{//-~ʦ_-ٟY޵w~_՗;~Ǿy}y/ɋ|k?c=;? 9_~wԴ_|ݛ~g󲝗W[_L{|QqOs Ͼ{oc?}sg'ν2x5T7w?SҿO?_GF}˾o̯~~(]y_)⧾3~_OO||OO^Q?7_w]oOO>wzߵ|k4cW7Ч__zփ>csux>#_5_}g /?|g|^6s[_qu_i[?wj7}\->{}~{}e~}w7+~yuo߮|_wjڻ?g_;GOOgg)UW~Oտ׼g?_zקsמzyo;xֿ{޹OWv~^ŵO[.}—e/3~~sۏ?/\7/W;'{{ܷ6jٿwe+_}~'1~}OU?'տ鏿ǥn>ϿO~oOd̷>)_+bOkޏ oxg^<Ocߟs}/;WӟlG˿|_p=ow|/_''|٧Kh}{_/[__K|ssGνV7~ҫ_?{w?s+=RƏͯX+oxӮ?/ n|{~#p^o6_>ߟ~ӏo?Hodzzzꅅ{g}>ե~}{^qo|eWj{g3_;?zM/_Wk/7eK+?+>s_?/ׯǛ3[>0§ïʿϾ{kS^tD}xpWMONH}"ʙ{h_x[^=^;c}!pnzKWWK_ȥuzMf~^Op٧Ϟ >g{.A7Rtݩԓw;_⮣hg_zɛ_>t⡵g֮ί\sO=_ܸq5վw[O|{~0a'Nyg|?=|=6<v:GkOmϼWȷg{}%k|39ߔ=+>ؗx;GOs'?#Ywo^=6SGN?Ww?v#(\:?C7 ~yպ~xڻZγ]ʺ/p~;.G;7|奧f2/|v|TW]yF/yv?xgcǎ=`;}Ͽ俱G>_=?SS;vF k_;}'_{Ξ|w}[_qk`=;NM^džz-/|7ySozG{|'3ϼ/?g_sz}ѳ'rڳ88|>|;c_0}F _{~|.r7.*?UEdOM^{(TkO/{5$T{_5Tcoooo3Ēy |x܅F]icu̢CAq׌f#_jb0~Y-TSb7^ yac6?_+o7ZԜ@"愾x&-ϤH!l_`F>lH'X&\o A*"kf:,!|%3*;#fg<ʷ1y-Ye 5)jTG&lw3Wt&[FvQ!f|5^S7>(sPIS:#Hy4eue \R#`lW֋hYr:l ,X:=HģfWgkxbX=0ᶡ|8U^% \J3  5j)+)*N jveLk/1r?[݊ʌ31Ue\a4ai(H;mGUUJRT"G ԀC㽃 VKh*QU}R1=(E8>̦m1:OIYܨ>N%lg[K2#nNHUF{vCW )OВ2 &|0B(:M~cnN/s? M(V_]TaRZ6 ,Uj?&B4Hm1f۩Bd?:25F'Ǖh.5m!'r/'B^!B^!B^!B^!B^!mwV猔3yKg{Õߠ/$WNkKPpޒ`麗/FeX8# H8fq4?O-DݴO HU0vby-c谺,Ї͒Vr;%vbs+e^s ߨ6 nw{ޙ/'O Eyq ݀ *2k]s2>VЦZŶ@3_m^)`#VH)M])ckN}*.;ŲjKR le%83i\O(/ sEn3kL~&wY-!IVux>r1\jgϱ2dt3qKqXnX3 gNM.$͔Viu%` BjLE GQа޳85Iu*Vc`v:B`E;!06:QHHeP[.(>7 0 1<#hk^RVxx@/%CdO4{"SJ"C D@e2vc5<>)v:YŴ}3QW6`,}j,fNK6%)UEx"9I[Dٲ6?W@8x `+5 Z`h}8(L(@` dZV 1mjD1hLV)o8Zӥp&g׳^tgɤRKX kijIfa~U(RN jh9Ct,B.J9m,4"9" fjR$Z*2 Q*2mY.ŔzbƍTlcp+ +JˀX &\y$ 3ZpbwB%n^ W䣁alY !\̈́+ NZ0³rBWx+J)mYbYG*rb:$Y@f+…eK2 : BQhPCأ ]dPk_*;qYb@$ ,:b NM6ޠږQa $X57pDySO1O; ֐K_Nd ԇusuJExqm+8@%]PJUT>$*r#&Ti~hV p'K7<(םApN! ;k7`oKץI%3$TX)E6^f%L#AxS&lcOIAXӮv]O5_?ǒLf)ʤl{K0Q7s^ŖtC/;yռ4hY^,$̚j&vim, g9|=cṫqq|l/74.h`8:2B;>V/0-I7 zE7&<]aá ͯoMn_8DPa&f Xg를oESml 4F'4(0J#4(0J#4(0J#4(0J#4( U~o!p-/ `n;q470|Poa@dv:*w!y(_;RZuK7teWаl35`ITn1[I\U!kt%y* udI+ VS!xYJv,iB.5ɢaʌ:0IBXDFپϖ%dxdz'{؇#qX Ixz[H˸a#Ԕ{* iO<L[6dtΨ–G fu/lF!gJ P Zf (93:G\Xb/߻(ELWMp!#.ҽ{|ԋ*$¯NY}7yxh!%v{XU[y;78 MJzC!N2@-O6BHMm@;[29t`kUZ6ӾG{ۼw yLiE,2yWm& ȵ396EQ4ތLRR4ٌ, ӷuK4.-[.d-tX1Qex='oapcѡqMI6\>$@$"zId8 D% ͍+X((kWtxvlݡЪ4bh Fa>[7Y15ɘ>382qٻ4d?Foc-iqO@a&fg)Pn܇ى}$/3i,d†>22uR>Z\\ ف5 j:>4В5ha+ISdK~狛r]ܜ^v7lUy3dSI"RMq+ qS*0&u(I\wl[+B8ΆN S2b{.-]έv[.M*_ǚ~m{Egh~<psQv%K"}|qm7vk4&p"1#LDZiYJ5.0tm`ژwř{\e<*39tp &ژd5={S)ɫ"w:xXO0Fo.?tveL4u6x" }뵘i[`x`7=%Rі(4ʶU;4{hע,-UM&S%ж9d'L!B ΝtjҦ5t7՜ڀT|`OBjM((Z#{~_=˵3HÀcx7+雘lG]|XY1L3г g[ٵoѝvY}qJ 4x?_sՃ-DAE)r "yQAmMu|SৎHo[C=цr ސAsHݞg<Xq:o.mafXEci.tC4[Q֍7Xm 38# ZXEU*a ,j[ny=2DPDA^1 Fꮋ5  $!W]4Q{ƭmDr"s:̺h=RQwdMˠr;m #Uݖƃ;O/J!&]b&5H_Yz:4XlLkLQ0—i [WϚk+T`i`8d Jad-oUВ =|m c(e+4(c;th8bu79QXq]ٷxiuQA^]d)>u2 N$ǒAra.Ba0]/"z5 fkqB"PMYʜ5'7GTE"xU'aKԳnJNAz+^HKy! D xV⥒&Fk!׀-^&U(Wq#."rUu!VrK (⭔+\E wJ:ߍԠ+JUDpU܄Tb=rڝʉ =6tѰt8w3^Tk\X[v8Z%>FAQ8` MfN*X 7&,\EBrk&/t"d*FvyZ]&0?_mX:EgzO 4psco1`ib ]a1]}" ևw'9.4EAL<:QVjuAR;`zy˦zăxԿG Yl.bw"x1Kf2 (#V@)3ɌmM\&z2#]grUzRMenǔp dTY5%Ie7h]j\p iqeڞCN_-X,GA%Ŗ'G&# +I4f370':/T9h #6* t!܊ O&3A5&Yg.aU)yo ;I"SZY9壣.F(-i\s>A%$]1e)9Rp= p!f'D': 50?4[Nu $ U tiJbNS aހFA88+pCV=3m = @4rr1RvWBCaĭTt҃MzJE.-mxB 'K-dqEf8ՉdqߩI!}ϗH=qSbm [nr2ӄZT&An-dT$&srf:X'[RHj# [W#P܀@2r{2=5"hxL'E0iha_䃙}^aŐH[[r8 s,$\@:%H+< huqI:?.wS%|8e/ޙ=/4&Mұn˩J۱GG[昆]HNQij'wOK1qQ(1r0EU|Q[P8V )i_j#Ο[ý=ά2|y}4F#\t1BcZEQb _ĦEؒ] ]T\)S%nj|t\@/O"hfp&&,6iWGR%{MN>hc&KlQiEP}CN6 1]4b4le{Ӟ! Д%@x}@YML܆c+ȌE`}vw 3P g[iG,j$$p=x mb{"ϴk>\~bja-6 <1%K X $ 4!)`xCi흶Z?mddw.e|%؂ LL)3bGC8J]zR*doÕP8dp} V5X[R} QJ˦=BiO'=ۊ嫿*9,/eWM6Fͯa1 bg$K:B~@W3hR}]{Ӝ":=μBkMjᜓBkKyC<>w-<-Č41t$KDC/)Iѓ!JÇrUxUxx,Ӈf劜++rX7 iI )lA]k4Z0rqG,IZ D @1v#H᳋rH ؠ \dp9s] #`v)Н!=x/`kzwOS2t>aΒӰ~(kf64\vŁ,#;KDr7+!M:/H4ÚϜbA,x(~2m ˓J)NƤZƶ 0K~{mLncQFMLpm%֡ JhWiάЩ֊Yjqt-]c.R]n*lZZ ߼r($@Aa43dtq31"1J=]'QV4u [g~sAu7د4J?"Ҫ֑k$o߃zb$ׂ!O?'Y: 5cFY${h 9åGa]ٍm Qd6D==K1@mLU#YC?8ҵl7}7Sѷe;+BV= TFh 8FKR9^T5C|qDCb>QW?WE)^oK4G~UȪi&+s3x^gT P'pxz^ GeZovõx]ksH::'"s-%6o5k]$Lȯ?# 563Xr $=ꞞMO+/KuU's6j3~/"d޺`A՗/w;69u|on#?  D_uI]@/OVMH>Xua^fq4N]d:yuɫheW? _OA?1~=xëbl-2z! L$cǃJ >srhD6x \r0 ?͉uOϕf{d w'ͨ={| ޏ0҂_$J}:0>G:C6IYoW3)d0 LA™!fًi g<OLo8Kгnfn+S:t3Puڻ`f=_׳'i]w/F˳7 M-\EF^ ]=jҿj[Y9+oZ%_i_7] Lm]Z|p>8: RF`&@4y;^, R_uϟ(: ^@q8.GBktW;24<%@JmHnX洄0T 鏐_~}.GeT-eZkkwfQ†CdEAt7/{W_pS)W6IÒ6SI" OƷa{лy 9\$5|d-xJK6gZR 'Ovp$M`j6='1 6>Zckטf 8u m@MB_LOgf,[| PZRkrͦU*ڻ! k+ǼQ>ݭ9r\]xAt p[u`ןaH>gY,%$:s~? Ӑx';&h۫Z[_[Jz㪻ǭ_2w#\"zSћLJwۆԫa7$[H\/Wj7rt~f=k=&yb6 hw1#zD|"liڠmd%m7B:ĺFTkQ¢>j5 xGr3!Q,ZO$=8Xc1}~|7Zs{~]݌;&^IRSoC.m})յ2)4:r:"h>ޭ?|BAQ!Sm^gҖҌ ykM+Tiؼ^zdGSNQMʘ kcIzΘ&'M H(=Ir=_%+>=\Vi+ãʯkI\Vo M9236M^Զ_s0+!a}ue-!PSY֪zHYEk&^Y&W'ŬW93Z#}&sǒhx/DY~Zc٠W?O>( X0~Jx5)pnixu^>ܜ㍉}n<~Z15ceSYyA邽&ͨ(l-/c;X<\冾5 ;$/g9 $RxTUZ9&8tUẕ\N =K/kfrT?}bg/c !I:^/db"DdwKU''oe Y'U1}"N>Og~fnƒ/xfE^7jBuA^6x7"E* ޥ *b|c -jPolzmA*Tn'e@_Cx[P~*_J/W)p— }̂A=oI)TJL\:$}Muqezow 2^?[MS #39~Q_=yw04 g`ͨCr$\\&)S+i+}0v`t. 5=P!VHMR{5mSY=qw򭗗}yUm/Ɣ?+$?|FZT2A*/|2),Pi$

7Yv?Anσl^C ֏O Q#[䂥}0n >P!~A<1ey PrC}ʗk(=r]T'_$Fu%똻-jNޙvU/6x?uJo.fNqϑDE_b< R&~@890uQ}OO],daEx> (aܶd:h}z1o^Ϟ" !Vsy"|<{ӭP^?ƛTǫ7>fswi> ꡍoF“p3Sx9O<W\\J' TjzSot Ǧ. )sECz2pIPgY{l |4=_^_}2T3708O *^]~"nzd3WZ_Y' Cx؟/ͬ~*?pI|?fC0)rNĮ=_EDQ`>$Fx U}o< l\5 τT8'{ ֋[ؚіPX!_T]/l/s82gY{0R#ٿx=IeК=zӓLQVByLmɶ RΟeA7z^0OU'W򲢁)\x_GKDIyCeOzOr`7Ee圾o+bsṚz~\MTRSū~JND[^^j7Sg:᭺>KE J:/xӢ yW_ O_ʴ_8il'^6>2)f\>7gIw]! OPU/0-{fnچ:~O!M7E67!ѻ7'Y[F6ureSe'cLiS!ȷ}?30) \`)IU1~h%Z;(N_ N^?Cr4Dw/ygM1}>}b} I^ك>OVPK7WiM)9#Q~kTq񘀾 8U<hZw6 YY"LfOLV_UZ~hBǦزyJHPן?⨚/׳%6H3^JyJPeK2sX?B< /5 OӢdy>5$uA}ޙ/h'OiJGKDx=!_0(P(/R ALٶwmx1sC8P"Zފ |cxDyud8;YPẽP/yɊz=tzfS=dVmuykmM_U@뀓Zxܣun>_؏'7EJ;Jv7%II=Ѷ)RIXz=U&HcZV~7=Jr?ԏ}QP}!7j^j5 tlN`7웽Nq $@OϮ%38d.XHMijPpxb:ū9<༅zߟξ{i*{%,x_-H37~Y!M14ס<$b Bd=G~wA_JPOET8}a[$ه>}͇xAkOtm8>2+=&U O|2]r7 Yc }3Q~ VlP=w X}-lV]?]|_R"F Rw?XR85r<s?2 Á9TjgP=@?HGUw.<=e"y)!i*MK+OgHY܋,Wû+޼êSW^q 2-BVua%ß| hxDAzNsJ`2>+3mŤju'LKeq:i !S<{'/rϓX's<֪xP`Yp 2%(e91v"NsQ,Hżw0Zg1?ZjC 4<ǧhW=6)=Gcܦ6" 87;l -{4?n9S`"_g.*0<>=2H*:[(~qkS W/ݪg־=xx0_p-Ż{%ݏaxfY?!c3#rƗ=z8?aV-͋jCR׭0OzACs_!@~hK~I~M;}I/YLlv 5zw닶x\=IWH\~o'@z=We";}}~FxMor?#|r6؜2ȫƹ`q(ӿ=>hLSy[j!C~/zw پ?>Ëd&WxL\ yx<4B2^-h>P2?/gu-^DK였J,2љM?>nj/+e>}7(/mY[Wx~ڽx^t ox킮W'>3w[=<_xs0}; -O+IdϬD$ xUҼ0y= /(')p 8k~//Ņ6R+)€xC?xOwy"ܨJ ūDY}/2]igXV*A5w;0+htȗW3y0B/CN?@Y.302C#jKqЯkmpe*ϿQUVe 6hfC W|+&'eQ|`!Γ v=OмS"*w3$,?wp|MfE#뚭r=ՒHKs{k,J[spT]HqOyv#Tu!YR>Q㼶CjitNJϴEɉ-> xpz=o%>D O$bT\Gc_?IyC򠊔|%I2G,Dxtw'^ Dv2|`dfD:<$ YTX |G+>>9hhNųG~Df֭ƺo_x?ao ȗ[Y`xR6fߟp)OMD1B~fx/x1/ Th%Cޟ3`xU@haOסł8e<>{r])&j~? {9Q.cZ]]'L_N( ]#W65?e/tPȺR?<b{{_N ?xĒ%`m ?PuA5[)v}åX<āׇozq\Mlo\)Uփ S~ONS~Y;%tdow=^%$#zY_Wo!IDϛ{Ż}߽ Cwڻ]o zn^pxRHIx?]?bp2rcdPEcr7<4;U"V۵Zg%\\a˃irQ PmD! :?,j e< -|~)ea_T7^h>iCT|˯?-^)`S?ؾJG|2T?J͗/[ PG>@~"#CSK< /kIsl.Z% CGkG\y}>$od`?}Go|k9@=.SCâ YDwȿ8< ~A/V T/-7T<'rԾ _,^.sjP0y΢L MG;ޣn0`x zZl|1~,_"PO͚|!;|UۀFw.8O8G^rcOgŻY:WWA4׭'|Ab҇!ƛPgǔY/Ųd^VzP-Z@Oy-0,DO _܋nIoo;t>$~zÛ( jo#L%zIv/2N A^4@w2/񭗯 +(k~S|'@?tBTīa.iߟt;aJkpz6N<>aLyπ5&؇8iD{8<P>\Ϲ!>\O\w<(O$t< ^D!] >|7ć;t K,IAm^>]^яwߗԮ08<ތn[&=>ԯh]u=S9,PwNR[>]ó0NUjv^o`"֧!}?&_` HT$BD@M·}qݟ}L,`}PoɤFS@~Pg/3CBbƃOgb(#_}R|YwG:Ɣ*AM7x5_@:C\, y|S4vG9~\ :ŵ J֋yv2̙;x:/]²_@)//KLk/ XCS[ Ż.Sx oJrJ!y4;#)J>D|5"B=ggf w#ײ_po>[tjI-6|O"}pki?RmKgM.?hvӏ MGMx!&@2#B%L||. ٨y}dQ5,o7˾P7 n}x<oHn=J x1OYXW}?Δ/ xiҿZ'Ic,9xOӗ!#Z#Yoh.TMVU9Zl;귑.2+q o*{Vk{i^>69L' 8_K#4ϣ'Lk;6E%_xfZ<v>Got*WߦuŤ/ SL% }ѭVp؀GǴx׾~qv J+t Q#P.~Mr0? G}?~2z /=2? 'eé d?f>EO8"^.~i3[yƒ{Lec!p2b_\`'|:o>;~# gxWyz/xXOFR+ĩ-V!6}-9@M{"<{wlCt8~(_w/ 'x!!5ބ38voNxtU"T?/keƔ߅ɦ89p*D<^lZSBwwWQSZǒ*~HJ`|!zw(>Z§`uuO^1g YA+T>ϊ3u~i\˦oE#jRU1%;x Q^LTًk![a&T}!uz F϶xQ׏k=p7XB* XG~M~o =>>k A)x8/TΣ,e{Z(Oz`x P.A ˱4Oa;E7Nro2bO%wm Psx^9>/Xvr?CK.?L0|=s,FIG"hT~v$~TP?G*x~<6[?#g(.8@2Z2C;QPYR ,[>猢_ A!F|E΢b=Q@s/H__Y'xvsɡv 1-\|/5~8#WNC10koU8lsM{k߆k/^Sf HJ'RC+g۹u'+m$ݗ =;FӶF̳dt[U ?5oJ׫=1$띂p饿<``.-4om^' ™bh/$Vw=ltϧ2eQ /b_̷@zŅRHwӉR+O<@1'`6F' y{b;=;Pɻ1McVI_QUp%^9x#0KB'u}@>5\F,*V,#?<臫yݪ RۻX R/mo) <(7P}*\o2z~ T52/uDDE 5ϓ|oEV9΍O=WkfgIs4o"cf^/0{_^Wێ<ӓV q@z7͛sjjލ욇/ ~OϬ/0`pdӼ1r}y}z>d"\ctCo.{q ojH) a0 ӯPgܞH G6:/ -”W:ips*]oÌ'3>S^sO W̬I{{`xjEY<$o|ρ}KJ{ң\<~B?#?}6z8smfYql yP*?+(^JtQ<輿 “/>' =ݞ,NKB:|26O ʯ'7n3.q6+~8#wǓm1b=zC[W-uOh_Jߟ}\kx VgA@/s>Էj^$ /b߶GHE1Qܒcqf.s㿥D<@_,BFx=T'0e &můeQ4ayA=.f}3CkawOƒ8,}a].y{CWM ̩ۏR?>6/*kw@o#_ # I?Ӽj)q=)|92W܂g:C4A?\ ւߕyK禟~8R<d#)۬;/puo*0_ @Bo1)(B_Eo:O|OYnѥb-R6,|vٿ`|xUoTurW\dErQ yQ^+K|!}}TM:nt}g +×s޿[Wв*TzwO|zށRsv}@ZF/v}U-';&W"Om*vSS>[?Q t?;^@QΟ<ƲtgxY&"SuR7 %xvOTT| 9w/oxۆ Rх>yXS3Q=^3ӴOOכ8L7f,bϏ 3^K8ZȃHmj^*Y=޳:1/ 6 ܥyK~Ӱ| >GfVTQ>O{`"2o_1l[6z"kYn@Ʊs {p)oz?<,C{|6gٿlO`iԂgmC}a]̟֗󔕕r?'*Qwgi* Dԇly؆ ?4x;>u?柼b4|m_eܻ)Y!x^^.=ay}Y]J=go5'E(DHK__ ٿ2mq D >JݟP|0 qq.- l;`tO[ur~Z]}ͳ^ 'Xxz2,pu2 ~VqO&FK6=jG[ޒDA|wǫX3}6<~QQr,jPA}\.g9~;=ˈa-xCPVS:/k)0jQbd'JddӺ엲RR{d^'PhƁ .}~Tn/LWqLzZ_r" OZ=_d WDֻ|膣i׆'p_j =xvuXz4p;g[o~\__ 86$з5|cID [[S?R׼byPK\؏oW~}}9>Dw|[0雺9JA?xn/[eSʘzށ[qSzYW}V83';\]n֛Z_<0!,T4<_z~RPP׷G!v?qgx+A{xjO}C0rߴ6+m^|7{FDdZϚ/35F?=\!iz.}_1?,K*#W ;{W6A|.aW4}:^jޯIY< Ɨ~E^ })ͨRzC+1h {rCo%~o2-"<^x{4< #+>ևWK轝Ͻ|%rQgx=ݼHu:$PXrҫc0_7DJJOM.;n%vjO/i@Og! ݀2t>Ny-x#(^Zut{ x4/63FD Wը鳁ߝ,@{ǭc?ϰ^ȼsHOJ[ x@*xoSNG/9>?y)_3l =8JO+}h^Z $uLEYJ<129MUS{BvP_eWWk/jH;%\ '! w?9 KߑCMׯD.dR=@KYy!4Uoyp~,(̓wToߟW{3I^\i/|U 3 ܗ/swV輫低)$#ͻ r:/dO|L>߲4ors|L: -ٿ=“=5_s y[5rD;ڟ$۟~GXGooKsd|\!P|짗AKQ-]<=- #<*S)c}f3 Ͼxٍ ~&2{9 ڼTZe >˂#vRnpJ̿Ϟ6E=)_7nyd~uhɲ`Qf|OülRˢ[}O_ Џʁ\cYm>H{W@|@a/={~,+,<{`H{D=y 4ZTFϲ{>ijaj<ۿռ_@<yCh}*BKwC ;y*Io8^. Qy ?W ݡ,6I~I*XxW \'M~+ŢX`U|iy7^6}/:TrabgGmD/υy|ٟ(32݌*#m.yUNp^{g Ksm`>x@VJ./袞?K)+^*}}' 3Aǁ[]7+}!tD*a)A^"yRrL>l\(ׁ!ajS{%X :6@Sh7>@=FG#$ ǯ{4ued ɳq |"Fw5B mB$B\&t89dwK&JB@A}(e"返De!~T$i C,<.:XEnzu_BO<1u0γW|x扬amxV|^݋~Mx\zp>,XbhOM>zcG->==M>qtepXpIwvᇱX`L]?yyK(V3O{P/ycmyUC"bů5Zq;Tp_k$ee)VyRB|}@*Xaoo)Txf}MOOنW ưȼ!Toa'>D)d~]ͻ㹱Y5]Od{ HJ/N$wUw~)Rۅ=RHxW{/xV>nÓ|7 yy~ xZzaqs 8a} *b^D٩CC[z?xy}1NEkAFߟl͉v4;顼 Rwy}&vL7#FlyyYg6~O􅶭T]RswRQ3%?:ޮ=q\㒤ӏ`wH8~Ful I6QlUf^_*Tj ߜ7Iؠtx=-,3^i%|0Lev<^-;d,uC9}KHL1ez!Ūn:p7AW;V|n|/>|L#U ^5>(­(<bY5NԪyeZkzUgBAܓo?K/̳ySGf)%zv[߿][ddR<c_^bzGz eM%_Q"uVY\\)]w's& ?Y;Vyd*-,ȓ}=7?ݗ MT|q\:xWl6 O:|oODQS2#Z_&3?'\-h_6LQݞ|oɷ^y?²?+H|yW<X0Q4紐K3Wg!4zMGt uxZh/7x׃ >(,ݐ@;E&yγ]"k~S[}xO߯LoOxb'kcTġ31?Gz?YFSEoʙ[?REId};㨻t.4zǫ;:Bwqo]!g9cl[N %|s +>7~48&rHx"+@cx)-n\fǕ81A4*<>=}zGތJyK9&+SOWcdo }ڃ ~b<ީLu=ȶ[ua~t}Sf K=p1nDa~tOGi7Q⦹չ]tuv]0ޭ4GO9er ?Sl>HW2v!B 9:;A Bg2q3'P@;roq} Qo._MSHhp9s*+<d=2y~|4<0;ÿk5AM~lkl(آO@Mߟ~B&v*Pŀ ȃLIzk^-ve8a}Zk ڟu/=og?SxcG>t"t~}طY#;cY(P#lYx~X,2OZsZA9>\qߺe>akBH_S\~-Wqu\0/W~d$z=/vO~( K?πPnmo"ph?!OT\]7'QW@jBP5gN|F`WѺoJ){_Do~{<{p>]Ox/xYLjzQ׈>^ z/Y_R%+ϋW| =ng_lR$xz9I<=_O?O÷"'(P ͎ߌNGMYNrPe-F$/v+l{?\ t~괟eȑK攭?]/;N|: 8fߒK/l׏qE~JۧNLG,L9I7{?]EO) `4ύ#ȨiY<|ͷ ^x=/n e,H#:5^dE:}[3xh: }P<(3~`>V> Oܙi. Gk(}?<",O f~b#?`ǵ4x;9 w!yS$j^t. aȤGv @E9goKدx YR]w^ t \CQ lg\"L?мxOqիN\fz{t| kSa5|"^lj^ S#-:γǥ,.O[#_0VLly_oμݭ2'`TOk[J/n=ul?e@r=k |`>+.mZ"_Le"TD۾/h%bPfAUr?VxHSzȽo_F'xoU*- so2ݲ\u>t #o>ׅHY0!9c$W'wM'.SLڑ5׫+e׀ciDSH D@LV> 'OgԟG1[=8a#} 軍u[HD[gca(I"Q޼hIC}|<ɗu*4xQ6弞)>4^L e'[_7[U.%Zw<5޵㍗ktCz: D!wlxx@~bDeK/ՈeRG=(R`X6xD$x,||XW"2Z']| ЯmY_^ jVϗmg_?r =oN;7T$y8Hxмϭ-Lp]^Z 0N|}wi)zY$[l87ʾx~*S=Y7ViemwhzxXE!cL8ODRF%y1g|[O;Lagy?< !{~yJez4*bu|B@=<< $K=gpV5C!s4!dN;qX >.ZKd-Z\+a~;w&3::1fԁ.VmN]Oz?Ȳe>=gWada/8}d"* ڜHT, xp7/ 'b!wM<`R_߅`7<2V89ml ȔH(5'^&TtB3^7bUٍ"ItKEq鶶aZOuÙ{ Xo|҇pj!~Zyx&VxV>ߧ^x|,3͙|cYYcd:AuSȃsLtwB)pxEuzT=~ټ%'lr`d:|<>E6_>W<Н9S 5?xHEƔo!^g3!|o>.L L%}=>ld$H/ulTJ;&H};I6:3tC oK=7S?$3B@O=zLjm[ &<|,f{(  wbnfl}>$Yḇ YvZ* w>&p~NxXȣn?񂷓|'4xx]<B䟺bsj=-' զJ=zGR C~.P/ZO>yI8r<yX͇icR" sKC񙻞5NuƁ(s2Vw/BLz.Fh* ( lzKחv<|tFÃ^fwY\ ?Ot4LO;dѷ(::KR!i AQL%e\*i ~TFZYELJ:~Lr]+q`tE"Ns|vpj_ns@}@L]<~;?Sx?uQ*t~zAA^O'd"eR?`E( 뉷{ =|,2~fN#]jzz(ֲ㞞?/ƲC|{~X w6 >+BKPP_s8v* a"\='GCܼ4//@}OE*A>Țeڡo%?1k|@HgJ b?=eE?jτa^Vҧݳ '&xm(k"RߴsJ*ANn^_WyV{;K$t;f~9=^׆*/ޏ`?O[<<{{g,EnG@}?$I+;T}ŋ<%z~{?]fH49?-;K<:+Ozbikz>xH$a?oֶDB1RCٻUqD2BL d֜6o\֬!ߟ^~+~YXwƾs/c_|ߵx2E/ qK?6M귧~>+}}O{f˕~an3$:yY_5E*i2CHо ԗxq*^Z~qxkq${U*VXdwFW?vx~8?SIdDŽ뚜//ra718xeg>|j_{y@q>#{S!b-o~^*7GΟxc/x;Ggr`Wz+!ͥ(stݿ?7arw""s _1kæz r3C3º_RiO9rvhu7Jq.9oK\j6oDBT2S U qvT>'xl~VFRicH7pu9YVLr "T2xׯ6Wr)K7dRSZW7;+@Se\|o8DTa׳j7¶Ym-rxUv{sҿy }Nw\|vuFB3\yz.!=^Ư&|ZR7ЯGW9<$=?: !gAIgAݕ<CV#cteˡivE~ WI\zᕳjcsWD7aFw+ m{lEpL:E[᝞ ZN!=4+b%|Z_4)x2G [7/Y^6>܌wKy^߆ :Y3tտ)xjP`5c|},JtR9c ?Do~Wie>1wx艃TX;K\Lv>"|5:=tw̏Kkt6~PWґ4sg&❻ωtgbq/nt+RG6gBFʗ/^}z!?m9[Z/zY"mxkB;< o,ʜίrxQN >ƻF(:LDr4ٙx2T; o/bzųD)ͱY=hC7_ϠQ'i7;77@}%N} Ǧ#1},^xhWޟ~3¤*3_$QX!^; ͈iHPOڵQ0͋Rޓco⿲D}grlɑΏr -(flȁ(ڷxm,~+^r3}kF&?onܾC;}ow)2J}ߡ|Ë\"F"`cCerx:xŕ@(BC ׇ,AP7=sSpN|4v8/'Q4fӏC/ G/xKě`RhR?4/&l<_~\i=Z"]6h\#R%\ P>9`Dzt/?& $gC_2K2<}I4٤MWQ/>?+e0tv2~C?!Jp![5~ƫx~+z{M&}[hw,F'`"~hhzt׹|R`,Y N 1F5B3ϭǿe (_P+?w-޵Tsì>M}o7[lFا[c*?oGHA$?S-^hd هU{?<pA>Fq t LT-!w*+*hAUbuOKOTXޝojoG [wo[*dEzpwJ/9QC) oPI4mV#W?t>t R4/D}%FQ|/x Xpx@=}鎆pbSt=}`-ߟ5 1HDŽHtӛ=pOG+ Vx (x0g; }# ,?|{/BoAh>_ǥ7w73^׿ @7>ȟu`9}.?.s2m+ pC8Ad.Olkxޭ(1п"-~=| ~GBxC{Պ᝼35*tZ*)uCpJSSEzx7~1%@o::~||TGxRU_^bu'^%}ɱûFxQ|)~ȟx1x"Y|UVgSeWW[ +>~˫RTBmw<{xt xn#t~Z:lf\-^!xÁQ`w]Lks5x;+KO=CHk8Rt|IX)y=@wq2xs@_񌛴\ׇ}ËLPP-8/en/&J$qL.O9Un'Y MKNzj'F6V:dbaR߇?ݾ=`P?P/zԙ-9磩ZqmY^?P7YIݟ@/g]1_*xz+̸#@9s7RK(}{Yb+d~-RbKHz5V |_C!oS|yH|{\~V+ĊE_ g9e)Ex}:D9jgwY=|> f u5-G{ ?Wȉ`t>4=8Z6lED>xxKQ&6Vx w{[8}iFb(В ?R~V%nfދ|~Q|rVһTCZ਑t `vA|m#_9zD^É{HA|<( Vh[w72c| c"܍g} f7|+&ׯx\[뛫Hί{ŋ Z?쬗xP~ЬN/IAV^c@8;R{~732J]׏ .s>h&Ec?3Y.~2oj6?aԆ?  ?rpKfjAG&Eiۜџ 07k23ϥ{e@(Ηkӷx|zP)2y@</J0}Q r^5n>Cr ^L|>0>Qd ?M%xg}xc@4~ =ϻ3 E/xcn3R{[8CztCmjD{Nj*G\1ty&*R-<>XAިP︛Cz5Z̊nr':M49թ<`~kVx UW`֯R#c&Cw7xc3$Y hk9s~{W*Sp5wO=rx]MGI! )y(@=ez%RC;:աOX19 UN-~}_# Autnw"/_t^s e&<( y@eIjR;-yt9$ C.Vx}(v=U =xrvr)XD}߾\JӢ,1-╓wsgTu9rC^}BNA!=Foxד ={3mxξz?߿>O 9>ؤ}>^Fw.Ejqro"BX^T!T/h/OV볏yrd

z\d'WR߿ _?Ŏ_·\7?ebn_lt@ZT%ƛ~ &w?‹&W'>U|W犧_ 4١x.~T> I/~?l 5<s{~} } |V^/xV}*AkjW_DVHCsq;tϬ`[p?!P5rT/xHCJ䛴{= +bW}Uq47^,mnn=ɕ"L$[tr9#AoWGF엺sgK>ôpfp.~x+׳:a멋1-{q.]&jWo`? =~Tw:}\G^~MS,S{t\gOho/>E`ީnEF#;Fz|?xWR(}v=rxIXAT< bNΑ/ |9,}uSp ʻ}y|pvykhCQ~md4̏wuUCa+Dl ?_[ #\n?zqxXwZ>xvb26n& 042<bRU `+aV,0a?K>6Yod1_^k@ w|}cx_wZ|1Zd( \$4JW mg^Mt:|}O_I³J&ޡߏD/iM@0}YxXB ϯWF@錑7-^OLCco.j)7 Cd=: NDW\ޡoO}=G1CCo0RfCئ~?65?'yQh//OxyX5*W { _>bw_G#sD|J$w?Ђƻ+|HfW݇kœ) U-rݡ5qwwrx5RJ zi$WHS2[gtܟzN<4)+^*AuddBW |=H ߵq+or5gx7g1#?+aD€RB 9E \SQtm?|2/ӒC/ƛ\Pr #\;w! H_<?g~? !ƨEV%(P DcxuB3*\pDų&?pUsu${#,R=~ 7LVs|9/uX%z#=_x{R"ܸO$"bz>40z?j׀3&zʷYL_yPjoK^#ާQ-azk1G q_HӓV]=mm12k_ s78Ӵrī?Osp U=gpvNx Jo,&m޿!_>qFHWf̗HOywkBuRzzDk^h=e=@~ڇ d|Ypޡ_ʌm_^?"fAf y?U}=a!/xLϮ'6/lk\7@{ru#p!3)8sϲxnKbyZUF}V |M*9JvI9G7>_j!fzO_ed `q<":?',,ۦ>}|+賷xh́ݟ^ʥk0[ed:vs[CϨDoo'|><%.?ȀgoW_<KOM0?ox9v'g9[}y~z$_Ǭ(I1~J>Jz#s!>ʲ@2Ш'964ۼ _Rm~R⿨2c_\XJuCõp |etv3Y!_ǷUbbv] Hg&o#,ϻz؉Z[ؑe~P=,Sݠ|wEnGoZm5 =uS*_X-d.$ g1d_]cP?^Iltrl/PE30P >(~)3/l~ 3C̖!|I9L^xǾe${!}!ߟd<_?xo6NfݛG[}p>_ҧc?+;~3<{~VsNR߮b&b㣍ھ܈X|pZ6;XƤ ܟ2 Psxf̤Ma=A{Kmx}CBg] D>ʲE+''pF$ *OǓ_T.x?['Ɠ ?> kdb7U ࿼-QDt65r씏o#,ĮmWȺ#F_S׾ųKd<c -޹"xR5 OpQ|9+r`ge9#*gȟ9~߯m?ޱ6B4!FF!EW3d4a?|}oMw 1B|a#NKyU3D Yش⇁Oh5h4fT/vxi.A*ho g]V\,9^z³mC_xh/+#D|&}m1||7\Ջ9OAП=.׸gG ntvv;=\e,|aX/Yi1zE37Wf 7_^`xbU'+Y?z ?Ky2)dKTT$Oo|cw3/_z'`?K^d>bc9~HXzQP`t>ز q./KW*1a+ƻ{Z@xE?={z>9{HL6^%_{-N);>+qobڟv=^!9ZO;,l:g?ts/{q޵LͤWiOo4,KH_?\LXпg[KfVC/U:gzG3@~t |U"\o)Q9A OPf|qFF=\B!RA/#ğ* }~;<&8ň[a}@`DFPޝ[;~u#\N28XDqqxv?(ː$j?0xC!]`T*8Ms;Y?_Ujf}v}xRe8 飮o_=ɴ|aho`Dc)ĽǬX4ͪL%[|>/bé@''Z߁vsn'>e(AyوA w'^s5Wto_u)8ss7C;6O+ S{?sr5qW R PωQLk`=_hz? i >V&AOT$'zxa2>?zk[8{nIݳ>e;U(< ε0SO1˘HD&ItŲu͉+*Qt@Kx{z ^Yj[ RۉXY[}û,?AS_8U[v| #zš;#73 H=QK?ެJs\nfaσZ)D[/k*X+H{^o Gjי/ P#"崬{ kԦu?IAfJ|+i^&3}ÛB:0Z| F/~`%+/jC*`߷>kJ?ؓ:,e/B}f=}!ۇgoZY,l fA%y5^Dσ|Dխup }1S!>Lt^W}^nXg|FߪcCOz#}|TDs81}>+ O?wxD%=B q?4x?uHW?ɹd#;rK`.{%-0&קv^c-xP."g'j(BY4 p~.Fal<咫ĞliLT=x8xa4:?ٿx2b.-ϳ5^$h-3Ul9H_Nz\˛AޛKa-a KA a%1tx#T zo*㊗q)31eq{^`WP} Gc=Og|rVKYduŭo .?G0iUD5% j|% =,{RQ"WQvAK?+Ѓ4j^t,RǿQ|%y!MS~. d1T^(~2?' ?6pAp~y5ǿ q}g ]NJzS_^.&x^{-s?H!6}Owu {߷Kg|Nk>J}n9'"t/E2޿ؑo D ݷͭ0FqS/X )~lf>f3T^3gdó˿~;g <(^rsm|\/oSR6_#ɴ¤ A|LbQN!̿2eTԟ ^YT x~r ~:csv>l`6kd`[@}:OM%XРU\%o f{b~]Pr7,P(\&Co b4WX)_ q߷xA8][xGA9suVf42ǹ%O>N L9xP?&+4xk<:ɰ3Y'Y=f>/?0x2B\k|)W,D?`}6EV2>r>R̙N}4+,Zy/z'7@n> ?.S'?L~}/'zx9e/uOWf>բBBfn1,_wӫ-,"<>>+̤0u<_ 9S<&_OvUQ}lxX1ԇ[bzU8Rk߾u^FSx)JE/ѱFix`?InSWe6mW>`ZS ߣ3tG|b|{^ ox3tăxL}Wf1Ww>8id/~ϱZp`_0i]ro?Axxw"z h3ww.ϰ@wAϚ9f~gY="|. O*6>+礚 zاs~;_=#XEIxUբ_Tnjn?OӮ_+|A:> s^{D{Αݏx&'!1;=F7L;v pm'x ԫL4zeixe*yVLtQ.u~gej<=g!)>s3~ 1Ԟ'QMD-^k]`X|6(KTgكL*ͱ^n|𯍘l.P0b? &eog>2_?g|z bW]50F-ԡG]}x<~Vm5>EOFi47u>Ac3ɾ>-e)rQx(N|V,׳_wSQ _߯DYj@,˶x #.~{3{V7 ৳H!ƷL C!)zIa[׽fTaP}qECwx% ?NG HRɖf? :?&H}|zzy~][ u%*xCN@ 6G>6<(Xu s_Ηt0.֌ ]~sV0o4*E]ۿҢ_xNAƓ|I.~ nxgTV _oodxOO$3}`8xw ą,a|Yz9[/)|&: '2XoĶi>f7JÀG Rsx⡣&M`<[qקGk:1s+KoƪJlZK6`KS$J`#9?)qjgopha7}ip@x (H"}>{2S=ZuUqg4^Ƌwx5W]|d`>XUeOzd'xH[  $MG%| ?/.&@N5x,m_c'^G>j=KOX*C 9C,Y_!?cW~>\>M2(>2zV,zzkv7Ze Ay-F0hEB,a֖x~'WgqaKO<+6s}g['VY!\*G}}Gv-׻~Y]Ho>wu5G WbY(Ggd@%A~:YR͗~uz9P p?k-~Ʒev z~!s&SOwЅpE [JZՖ#_3/+KWO0±ãӮnPH 9+Q9K<'V*|,^g T.+L'>X,y]sjqXD_xDKYOg~/pM3~=x×/H>?a0AR~@U@z{w#cBz?' η+)3A:≯{7)L l!V2I^~=![]{T#Z/Xb> E7Gt!ۿ}~71F_>͐P<~\M;ߌ(:Y|7='Cx{{>cJQ@}E xM˷!7yUs|;̙x_|ZxO~Z-s6~pxP Fd,(ۿs/WyrpXmGn&;t4LER{ҡK_n2?tB/m>Fj7>?^8^/W׼茩A7C(:7X2SyuU*/Ń"ckGz.f' ?'@,8>oq]5/KWXqF`-1ۂUb.SqKl?R2#c/\rxʘPܨBcW*fv`@_yu>~O_t> m?A(zc&'x]wyH57b;9x)?s OykMPW|DcԐp0ݼ*|^HbKȓz>YH~EI-|xhI2 _n w:9=S?~#}5QȞ|Ϳ-y@cҫԥĶ|+2C|WWӮ7 J?k̃zhx%* tsw79{x~쥚'#L˂oT&rB{3Y{kd>x_:yF#4|Kxg 'jJa4Z삎7)&-nxVTELK;l~v? KMȞw<+# Ь= {M?һ͟ZPS?'ELďּDDv<7|yC^/_4 o侭yUf"u_3j CkM `_ũX#|!%>A:F{?`o bqt{ ];,d?ϘA^dЂAv/.B'j/AxEC$Az(㳼J΃ L﮸u\Ǧ#e-TW~ގחE~U^a~`Va5.N~y| Jv4t14DdSC`y!>xpoOdz߅LwּK-i_ߡɳG VּJQ3|ϻ뫛9[=M{Gu|E}lzP}xTeI?w7\j^B#{7AEn,A{v8ht^f8?'oBh|WwݬXR薦!Q,u~϶׵ -0)G~yﮣǫ|/\fVC߯w%$e7׿zh;>p;{_y_ JD^[J8燔^nkJ\A47;n/~rwׇ~P==5/Vq?>Ĭf;,1a7b.ԟ~JL/h2׎EjsC,TEZrA0r doz#9yoB̦w'#T K?OX^&M+t;j;br L.|Q '# |!g#<4UU?X:f8:>5oN|3^cmRy.1nሸc{|^H߀aM?1ĺ(<ȿk&LVky/ c" >z9S}?_ntESzRy{o\zԼW}G^>Qs)|?_E(eYjd|~X&Lzv+59;h|jIUx}] *M#c~R@v["|,__r iFnk^~Ӱ ;_{"?˛Jd՞!w-΂zGlc|)m`UQ76ǧ_D?shyl>!ҳ>}EyhQ_,Oj%L$XC~z>gi]TN- ȏT`_,,MϿ [A??=Lɣ r2ϭ|MTO_0܉9N_>:A_g(i&u *x>-lӌn%>^{^򌥟݁ˠ" ޭy.&!4*o8UYM ) L #11*0|m25"ީԘ\=إ|l|}m$J ѨG#|#ɄK/8F-ħ : ϯ\:9\t`xh`PO 7 ۟{kaF+F,,OԡM}As1\PoO8^T &2 H3]&uѷïtCJ%[gy%b1 YƢzOij<{JهLyO~7_1G<+ߜ~xZI?ܮ׫xAy@|Ȭ̹[xՊ) b:Ρ,NP8љ= y]z6Y{޻,tgG zyF7M7GU*Ōp=ˌ{ z…s nSg3&wלt<3e30;/ѯsj0ʊ x?y8 lz~+3G]#"*Oiu|/Kz^?eztdO\r>@L$~?̋bT_4Y/Ԉ1Sڇ-}#TK7S ר1S'Tdr|Z_nT;Լ*4x|fzL'_xI>;9D`R?5"_)vNj8%Vz{Wj?_WSUPD4œץ4IWx9Da%C>5aހ#Zr"u`4>N x(x tG>1}4t5u?l;MDAH 5wv> 'Ӛw-xyw^O%*rGG.D&~nA(éx*W$ʷYp&e+Rp'b7ORi;´O:yKP jƃ+|"6;(S*JgZ5L!!ʈJƤyծGt_۟y@AF\v}1qքwG^)^Gu!=?'ښw?h|Y@q0TXk0"KO|:Zеdxo[moȖO 4!ԏ/5yy#~&k=yN 𾵼Rf˭UpA z?0&/<{1ʋ3v缟=q>ϘO7."I:[BE16À>gШDdyyOC1(~Ws;*/jr}ϻc;Ϻgy3^}ybxŃ֋kӍռG%iyvO\Z`٨zŒ1Tҍpy)eΦDa@eyz' ިEVFZuF3w^p=$؞w]B?@fcKO1̽%)؅Ar746~%ǫ:;BI=Wzz|Eyl6*o}j{O^_KI (Q5AJTO;w#?_߭|W`yL9`~o/e1O?z>vcOha+ B؟W-ZɱA/kiFA*{ jϛ^>[5~X1OFo>W+a[ߡ㸈eUM3OOuq6nT$JduЦU$"3ejtPݼy@2ߊdݒYy)=ӆȃOxZ@' =Ri+5irARߙFvٽCpD$I6}K| l|?KQ(^/I{5پy"J?K>^7yU"+ʁJ]/GJkcWhZx~PQd?^1Ǽ\DEkΎc=?1NeI-gTBxRw[$s3xWk?YTr9?xp|}cx^Mǻ Teh zCВy8޽,0Q܆Б_=sܰ(7: gwo|YTŵڽϗz!&O^2d4x}zԝMk~u\x_K.繎hmDr͡ցv|G:}9Ɂw^[{I^R_%G?E0߭*baoKwgӔ oG s{(݄+W$<<|==+\v?=[=s׿o+ ~*<˚9GyPyPG$CE+֦L$*;PED\9}nSȄZrD;r B+xyYH޷oCh6o  4~߮=WƇL}7S9tzH^>棠$_3\{~YD0'/ )]̢|Z~ ښ c~+xؾyxm|h-Ğ3ӏr"uw\ G'N|{"͆(k0~8)93?2eMy>ؼFỤw}4 dHfУse3~*kd^f6 x~27,{W ]o?<95R"=P%W?7a9Z6w/[F^ootݻQGyX`>@}gŏھe!3d,g|$@Gw|9٬z/LV z@~>ǻY*kγ>ީ<0x l$پk( k\Fu[?~GُۆNJ"?)?[Խxg=rF̯gV "lIEd`l\du #_؍f(RdGV@YGeUἫ[ä UVSړjyKY'v3>?QKSzb*RcCV~x)muCф}VS=z zNnEYQ ᵗ]@>JϿHx *e+S|OeJxtLuYL{V߯ wZ|OO^#z:.}@#oۖa[Bnݼgى\vL>|kF+얏=LgUx-7[ayRJXҭ 9tluﵴW&-?BP3)x:ϻ_Itu ^Usԥ֡<gIT--?"V$ǻ /}l kFxYbEz$9v=7v~~ xYk.[ V׍|܉u9/XZ{SH/ԇEs+xK3: %\CJg¦.Zgy69ӹOO.}8ղkxsůNz. out<8;Ͻz|9 /njFњak[nlWeR]jzRU*oo7*Hiȼoּ|^]~c$+ șH @nǜ&l4b&9gAMs.cP7 .w&h ("i\=N6_ رBti0je*cN1WAL BEٮ*q"OXL QwqDa[(TJ)9Wǡ*NG gqc;:C0Is4(2j_eȜLgSi!ĠqP 굨cˠ7G.S ̦B - fyt:et4@p嘫Pk6* ͱlP6bpLN |G#@#?y]<ʛZ&VOoYM'NGjӰO^ID9[]TPZˉ>< {V^LUL}'쉢zfUbAyp?wԶ9M!No1YBa'ef 8KP#]l,dRǧ>*gk-b'Ls-)DH9.ZwLa O發]5q\Hy=C$G!gcO2F!4`f ܨ qp)@&HWL2$ y vmrP'PS˴d=pa;}\kA5т5 ׹m3rgh|VLhq2SИknV+I:|a#ݸmON"рEvA1eE2{Lrd͔Mro=\ Z)UhZnrsK@(%[B!g`,iItoN.P֭ڽ~7vv425]gY P?17q )-sH3THwPޞSw(^m9Q=j!ˤ'~mgZ H:Qi"OЖwߡp=Q)\ ߔVqrW%{1%s] 2KVjJe9/z_{`!`6cKCn{}vH$B7n49/M \.XUKT\YPQp ?$H̩}IN߆j.xɯ[cȭ@SO241JOR痟+G|o$u&8ۅsvvvJL 4N^+MalzG 5 9'Ul~zR*=XJM)ն2r~á撥$NzM*9# gu{\;8*Dɖ/oB?3'T$# BiNEQPL~xپ?+Þ>< ۨaLh|ԀT~ mPNg㣨͔'?*zGn0?)H d7h|d7•!%%;r o4—Uz26s .Y'!w:D҂qdd J +' YG(!$+Sِ>0gS+dE^RRY tXw I>9trgTǷw%5Xr5lA+E:dT}IFu$n¨n''RPՅQ7WDLM)q5+ݢZ&_cph]Pgթ:gcw-IUDs0@ `7eNYhM@;lw!0v'`=C8sP:cJI2 f!~y!…ahgR@lCi;ٵ;$L[3SU3bxSPG(m7#K׭9Hbgx3_Ka<9j](PUMJ#*%k vLי._Y5t $fc'h,>( \X#ѐrH& C,ЂxƐv_I9Ltޟ=!%%zwqݻ`{f DfUF9m\5}EMU#2C[@llFp_<r\ɎԘȱ6i|'ZsA**=tz^.LGȬ+FFp%;7u2\$ Wnd %kMd'b9!9  j 6xw J5ΜPr3̽{ v;Isf.7X8m`%7L$O!/y' e&פ"%=*JWWP߽QVaJVOmj/?ZbC;tjʹ$rZ\*j\o*6Rl 1V9TY./(| o ?*Fej"cnp$}FT3}[zZ^8uh5>6zToT_?q-6 ךcϩoj0(QP1Wo-}`6 IlH~<6z;5$ lD)p)j`&;ޕ?!/7 6G3yٰB[m;221MA ߗA)~eWЬɂLa!=9jj7t7] M%+4/(%Zm!џ?o^}{kfHPY~@$,7~HnoRY'NK}c^z|㺶hO2rM,R<&+7:X .S4p n$ jQP-5kf{F`Wj:|eN`,j\V^\px|Cabz>BmNu|"E<'n-;dz8-z+nv<|/,țcs\sAVK?%CcƚNUzwfF>NgZ#4[t05MgXnkF>zps^--:C!nc7aꃉ ;<9)S9sRmnm)xd&X`fBIcK&C勋~tr?Car+z_>p:O\ IFKc.bHlIp!v F(pцc&)n 0f5tߊJQhlA6mol 7ݿţ{s!E&C*$g@vG>dy" :LS6t_ HFHM }Q OӲ^+i)n_v$FrM" umHԜI0PzdPS2l2eq|Gl&!I({5a7*]lGnjֵ=*?%Sn&z)R0Rz'|&j̑ 1!^? %>2SL0_٭Xy@7PteXVJ-dբ-*?h&Nҙ DK-)BF>%IA2v `feFһX%Ɽd">ACE7؟g]ӛ*@݌ΜTy3 ;11ÖtEX\q ĹM\82QJ+ͣ?Ӟ~PlA=!TA #@_n H˅\ج=>Hsz=Ӆ^ë{Vpsu N΍dbb+sǝyg孔 u\*'HԌH+9" Ak'˃|)^n#ף83~䮬.S{OcRIV H %uC1~XtM*庖ԜHZJ{l>ljRc<dtL'Z)qW'@x({tx͌(NesЄK׺Rڲv,i@βhRF*fY] Xbeɼcw,S*~8O=#742۱@pJdD6"'!G$|> 7KHr9-'L_cXIa}oX߇hlx\K`j&Bm9n$YSGw@նYTݔJw[2d dHRY3yΌc6_dR-кKd^~ J2g~jn+Q>>ն?"V?-%` no&n\ s5E;MޮafLYݾu5){;In4\Xü.y]aS8W?}y;vW70n}jmlGb61&f_^g`W2vA 5{Uz|GS+^7>'wPߚubB$H6XȔu@)90"6۲?c[wE{ ᴞ\\z`DC{ ׋*v`/|Y_43d|YyƎ elMϷ~g1~e>x-.&wLT3U0{L?|¯^aaU[<% u{J7Q/K(B̜f $&OFx[&,uMپ[unJl_'$mǍ1{ , hEؼnӽ^{e6ؼk4^#(lB`؁O.09 %n'2 rֿ!Ł/aŢRŸ5DԉHbV&f05W!@౶m(ඵ}[.nbxhF ma"r8!odנs^E EJ чD[k`HТm6Ħ lҦ{4FCKH$bE'^'2@s(Zbb]1h)Iy͐ s|3 G`g]#t/c,)Gۦ>6A}'NhvG+fA- v6`˝lkq';C2;vZ5mxk] [.7'o#Z,O =|Qi/Uu2}Jw&j{dI`J bo]7$4"1uçZx8xe6acۃ|4ޠ'&-2v haN9^X{#2mnhVojlH Pqu2hs!8&M<'8.|% wb|YlЕc6N s6hwf.y=kNN3Kbj?nG6A0}m%'Jd?'`Id`V7DQ w[$a1q[(Ce263Eaq6Ed*ѝ qϠ34OVj *s#T wY6T8"h;v,~@Y&Uxv,{=Z ]oj#- }J6 ,Foc%"~+C߷{d\ov*TzitPmK"|"ۖ ǣdB߷-m߷'"h߷-y߷-:U/}nL lӌ&RUEk бLKl lQkY~[2 z l|.56 ٨ix-WoA8`Myr(!JJg!r$= |(q(_DƲ$cYQC>T9-١tTCIGСt{t@]̝tЖI,(\z:Ug璭muK֝*<;l=+\ܳ]t%k݇s<µA׎H@c瑏-厝G*;q֡±v?J=U$[*%O6*INd;9vHy7ͱ[)2ShSldUet;h-ג^"Gs74!_㿽Dng$J87KvpL[,-Oi\>O"1ZC]`9il?U}Ii֨F-RH-$Hc(=&!LQ_Wkj-%a{PB"J#L&Q\-'Ci (3雔Fm߸4F#Qa&}ҨuUfؑ(N0Ii6 Ic{Q7I:],](4:8NOoguh(4qzz8Nlm*U'Bj)VW.jqő87X]-vhYQS-FqlQNm8KT4 q(9cw8A(4ő+I..(ݨFro&4:8NN}Qőƕ+;uQ`ăAR ?tDD|8@IPqi[΢Y (H!򤜦ä@p}3 Gc&|?2;3~`18$ 7I);hsr}m.:04pdzmcZ6`2 BBI>A9qX|4vТ,YN@ |mY tZqUдAMMtRyaNvp`N'=6leZaD.MVzaӄi [`O~ p*Ih\DcmTpv3`Y3h҉@-aʬp_apϩAҤj }dFМdh' >5o"q -P("f鑈80ȓ  EG"ϲES/ nD4!cL~%Djh|>TX]DGdIDؕnh63cuWbH<` q{C*q&ۣK.&}́gE\`)=b(;ݳi5+IW|!`R9ߐWw1zc^7UنngY19J}B&EuѸH yb<ΰ_{+SET+~w1l^#/C9,7"M*:@t%&ff CŚ JӺdpx &0՝٧dݓ[tW~TbHz`}샧+yko$_Z]kYJ+C?.; /YOz5DŽGKӸ(aC0qIz?61wl:~IGfQ_*.6FOYhÄAm4BRiWz+I^m0~k䳦Lb0ݻCk™'f g07NZvqW;Āx|V1fLr0ZQŋ㫽/ lKrn3UeI>wsi͂|̊(jZ8>5㑍'fZP2q&mߛk}NvJŽ_B-T!Y~L_{ulhOy3{f9$;j琬/99!YGpCyr9"u"kU;GN /Y+#t3U['8îH>Yq1[->e0i”j\}%1h_+v=}քr>d)U&*4mZG~GSY&[C ,9`Y*H ~M$H Fm$O!GNG6J$+~l+TLߣU|l* UTWb*YTĠ j{+Է>Y=q,b-$[ E!ߦd 66B>dE$^;-'B,>B,>EEWSp_?H:hl~bnic98'u͇'ˮǁ>[v,?ZT~JW'Gsb\TwyEr7苻JO#_W(gz-;d0Dž:/&엯Yd7_}ŏp_1z_ߓzT}ŬxȈ*gxe_i<|ge*\5*jT?|WTKj e/P 6b/?2i-,@&U~ UBDJG^Q_s0գ@shz4P[)+^Z\^y~ikzik#KJG>ZWmzH\齕b(ltr2CVc84 Men@;Rkeƛb7A/}9(& S$Kn`+1cŬ9_w1cz]#[淌YReDYigpͫ&1bEFa߲#?e;yy~rjee^c` w)~!C Ӕ#}2 јtQIn<ƁKAA[OQ6`[a7n`ݧJ[3iކU^hAt׌`L<0aXd{k$ 9ۤHY-%%(7q˙!%kr e% @͡-Z&LF{eY@FϖX"{N;sudϓd6g{>zɤ0 FXVmXig0Vjr ]BIhF|U%O~ע|YGztL (@ *}hXT0I^е.w<zG`RC Q&E[A&zcOIS$ }*a>GqI#ٞ9l6'EXIv!J:䁍E x\hu$sIك:Ȱ'@m{qM! CSOA:mUӾs(=WV =*ƖSX$RU}Tk?*%/VpJYJN h E[- &uř~-`xdk]˵d$RL ^U"%Ud+1 P*}]mGe_1+-jSt)\G($}.IP@jDbt*d _4M_|^=QObf)[ l54TqXK)dԨh yq2-(?dz"bAM}l}DLB,GPXРL ..pJk%@ijpئK hMM.}MVuMjih%F>K T (dWYKMQt2lOF $k=io^K1Hg`l݇%br[{ݺ~ݺn_?mh88>K_fP%O u^1^1ۿb@@!$EL{n劁mkQe3aR7l-)&i J_/$|տ &$|8H:^EJf vGmStIv!J+ :J>H도w [[M&n&Rd{uT6>Y>JHA>fV Y6Z$; f 6h'z$S &đ?B#$tTPH1Ic; GAëRL1G4]M}jQzަK~B*V1 ?UUz.9Xվ"*;S CI2LcQ$~8H & 3IG BW R{ {וRr]ɑ/ <V>EI;el~O=K1H4kle']-mW:'>qsqPo.U ^JլA'f5tޟBFEQYKSmFk1:]p3N :TvH ֛w1q/^@Q\}D|q>2 4ʜeieO_`k; QOgn5t4yy`ʎ $}r"{#MʕvPI*eL^4|Y|ƅ| ϲjp}4~N{VPfN6[42'W%oе> F){}1@ y~wǧ<΋khZLy~|^:^68+ 9^ ]?q|EQ/z.6.Qf\w/[v-Beo"ʍ~b\%C [iSjvɨ[S(O,1|_] f9Ͳf.28(x^ÜAgtEhp-ܢj2u^4TsO3W]2s6 _m[oA@[[~_XN9o-;mͷ~rnE?q9y:Y^WF- d[{.Z@FԼw+]5dMjkݸf oo<-ʻUtCf`*n6ŶAv6cm|Km[;MQ6m|p6xr:1gxCa3cYմV|o֯|ov=-"-K҉(Oo? #Eb~ blnAN̹ /s&=,M۶~".b~DK^Oɳeolr|4=E6y3p~feCĐc&㤂@[?fԟ>H"⚍/ uos0Az-ƃ-+) :]q`~o,[ֺE+qTN}#!g#4Z"ຏ =Q& . ?_-R; 勵:x ZhGo\7l$yum^|.ͫRw%?yRbuayu@3IUERR+ϾGV{`35G3fM:ŗ W.2cCX8: 'lYS]ElN MX}#}۷"}W of4 (cmn"l^x*Q6s`Wy+y];L   Sy6F!w'g(Z ܜ,%v!#-g|<ȹQޕU2@sb@gY  ;+dD¥2169WMgmnGQPe.b n&_HP$! kzh:eD 7VPxI'{GEtƶ6m!#^qCշinlZZ`"/ϋAR%(6XB@AB|C )Lyw`H&5C2g57c yIvOK4[Ezü~ e2#mq7E?'$Mh^ {"n5[m;?CNUũAw.vZ5wmxJnmXiq]IԾ1{ 8m۳)հQ/xv#}Ҍ)ܕpݫ<cV4zZ7&q P[, lfchDJ®MJ4h1rO&3V5: \Z{pF!tjIR8l=:wSBRmls."|أsk8kK8] gW] Ԙj -mFWhuF{/dW ,T9(oLb/rfUwy痨 _C>ˆ[\{ḅb.{ ؋8#6]L(G!LӋ{$ee`+p9qx~2s#>vLxؿۃ|pMP6Y$$U gl]$̫|xa3Nq\{P=j# }/"ܘ$d1>ݍR7c >PkNXOVb >CAUI'qc >Yū-.ɺB "kjms-vU/ $O,Tqȡ{z!ġ v@J=zEE u*`1Ծ$cYQCTJeFC%eHV ʐVMt9TYN;Be(wR0,Jrǎ]ԣgp PE=*H'hD,E==~r'G=!E=WE=jyc I]#kSZu]DNj!oBue.GV{8l!hZ a,mM:iT{ u"+,:ߤ4j$Yx@)ilmdKI-JmRdw4-ZfK,tgv失EKlڈyߤ4TARHAFGBI0EitM[rތȑ҈}Ҩ=ut {Px4"̤oQ]m"Hq/ڒFy4i &Q%N8ިȕE4"i4&_FOsC ӗo|4 QQs/uF)il1i7z]q;]"mwseo1k7]q;]M.#%-Fq|Qa&}Ҩ/wQ)il1K[H4i (v]GFȈ(0 )K%^i"C{ ԀufED4 /o!Oi:L $x~m3maH/Ӹ3 mӌ& $aj<@&ks F(:@8 !z'fGldnѡOg}hh$6" NA90ib>y}YA;heT:MWZqU4r|S"@A'Et:mt&z mʴk' ]lֽ0a`ӌ6#"UzйC`Tpv3`Y3h҉AC4h)™A58PKc8ɮ]``CsZF:'4í5o"qWCQ$@P`]9I-h.[}(҈p7MxfKh|܀1&6h IRnдr2Ἰؕ|m|g8]\xBJW1Di^ry7zfxr{6Iqt" "":"PdZ$W,X+1>"kT`Fr6e,V#a6ê|bv<`ļ iA F),msƴ!q~ph-boR3&AJGdI>DJGɓr`Ҷ1 1iAe9BAY!IX=^HrXpsM@(:ˢR㰨" 2T.'8A.zyb[=`H|)Šl+gC[4NZS3 <|5,3o40U 0⧫/Gi sI HC5eZic+(ҝ ,'N\=&݀+).bUR`;/z[^ >S Kl77CE~͸'F`n.4i-j%~*hiҩsۺ+I* EJuLES3@ ORIm]M%!PI:~0m<:|mu;I%y@JHu4ES# @5ҐRIA*I@$DTT; ŷHUDvN[[}'$L*IyQ%u Eㆹߩkq :ntiLSIAW.@J%X-e-Ԝq Xv%],IF%-ƒBkү"0_ s;]4T]/L'`K$=v7mvh o۽nJ{mҶ2E%-=&dVo۽z{;]Uo۽z[F%YUoۖmB,U.ɶXvh%VKRIŒlKk,ɶc,ɶuN\שus.IF%-:nȫT$uI67%"۩kK%9Zl1%َ޺%N%EtJjqsfl1flGsti_%aZRt*i7i?8|e'SLgyW"0!F}}Пq_9F>=+IW;Usη$d_JMvo6Y@zP`yH/IQqF|4.M=m^n3/{}rv Tʼߝ8=}ya aRo$"1 Hr hԋxm-؞EPK&ôR6/0LyC)GwUU^;#缽fyiʄɗi3Z=ZRZd>; /Y,s|cjmQ†`,-)2~l^X-tV_?;˓˓͢1U\TmZe ц یi~c<*zʨH&yMV?eØgg?\ Z3f9dY6y;/zSll9.ɹq[xrՒÐ%'ɦ7 |9+8iG6Y:2c8hAɬJI~oF-}>vJ Xl}`ﱀ|\*l||L_uthyf!gγB8Q<29*8tj|"(wCcvyBC~89$y%sHv0vΠx_5~*>v%Er Ϊ_$GRmm] m,OT(AZ&!K?5WaG/nӲ [v,?Z~JW'Gsb\TwyEr7苻JO#_W(gz-;d0Dž:/&엯Yd7_}ŏp_1z_ߓzT}ŬxȈW{o{+Pxч_NAתtqXlq,u!cL~uIpgYrͼ?̌m->o;wE3;zEq d6,\/c&`̼7kx/5?4Gķo,+։OvIks0|2WGMb!=xyw˒-b g^c`'gv4&&#.E ';_n:@w КCMѳҩAi@E ggpg X0!U2pȔ:'$hs`Gd1CĞ)NHͮ{%wv١spgA%QյKM)B$6Cy}M68/"{ZDݤ1,q!”l5:B[ҔAtn X!a+nRbaLxKjl6v$ DtX^=7y}, Qj >*UBjH' ddlږۇ}V[sл[<9.*dXh xz)'<:q&wds \yۜ} 3E2LcQ$yGB׾s;Ws;<:q&iQwNuUw^ӢXT0IWw:u|JuɜDF6|a@Q$id0G9Z% |- _6&/j?G!٤(1ˇ5ۏlZ"pT+@ u u(*u p"aFpkV%G{\5"Vv{P>ypa2ܝwZpU}cڅA]GCn-׵|}]ڇ#<ɂ坏Ie,Ƹsw+WZlp4\^ϞE>+B˛16".OKyѴa6y~|^:^Ph*{5t~E hGq}iyI K*7Ll ȖkZk}H}n_h$g0e͒ ޏNAGwp6sz}hq[{9cJfy/0X_$3(fЙ|;-vQ8_ǥ+pE}n8su,"QKwfL1Y/U?VXvZ 1[@zk?\ }Li:-_^ؓ>|wSF>}4 0{36FZBF4)~ *G℣YiUp_ W Xp(t{.rN8 n[ \mǞn\⏴?{?upPæGENS פ"gZEw?rNEYTEr-Hw96{ɀkH R7rW-nQ%-,mZ۹kI($hҒNhkҒYPKzAZ23cYմ:]Y? "A[B9eV(do%D'7 L y[Hњ''\W,s&=,:MDîض -V5svORrJ-ר-%Ҫ4\'_tc8y8͌4g.`ΩpqsEyânέ-g'my<귃mpn a&ף2\JW0=VꔺΔK$]gʝ<ڧM>|hq;E+TN|#}݀=z0ӻ< ^>齢<{:.?_ێob 勵&282" 70nV@ۼ\W?VgU\Lu9eZٺ7a/I}7cg^1 cmnl^. mިۼ27ؼôq;;hETrQݢ;O PLA`xB' rֿCݾz-ᮬ B8+Xk"h B"#7vV&f&CnۺQ;mk]wXf]|V1T$gY{=$" P6"Uf#YCG/KХ6-̀{B0un$]lU y[}CH cdyw`!aI1-%Iv4ʱi~҄y34dGG>jO Ia'Ii}ǯ!cpN6Fvrw.v.6w8ښ~Xܷ_q)H_ "RRȯ% =|Q9S_> }*Oi)ܕp<cVSyI\bT֠ v{F=tI>Y4ޡ|eDՉhD=Yɣ,o28U#{sAn؉7+ڗ4c_s#,1BpF!@o-X@X9d8㷾jFv{{-ػDɋo|nnB7&܍@wV"g6[uǟop~[{ڼ0lhž,y}'+$`/l8Nؘ/vdIpi4'N/veگ2Q]uE Jύ1aNj0ol5= yk=xVM:&->O-:bxPYnr %nnsK>GK3/}NX}*dV۞&t2{1d:+a2O-nР*oC*~.kI|&gs;~ṱFe\ǯ5Ǜ&1h>Ks u:ƟtͅKhg$;+IbCX|8;ᚠ]/I^I@-wql'ye^t=q2Wp'ב`ۏ [ %4ܰMD4@t>l^\qv1]jY|=Wq&#K0}}%'խ%'ٮƾ$XR.: Q:'n&~8?+wƿmg1Ρ)* GwZ2d?c œ_#;~U8>Y8>vSdp(/~dpZx>Yk5NJ}>لSӱ[/ﷲ!ml? n@P$$ԀQA[$Բ~@>{Px ? S2ύIBYAfĄ: xh9eo#-B$l!gUP+5R\>LqA(Wk]lqA H$RR[vU/ "DxCD>KPo'ŞaC@D%E@4%#ecYrjO G@v^rE0<@>Xd%2:2(wR$ YdKO*5=Ƴ-VƖZl` d]2 kr*Vе$aCޱCcK kiNk |;vvihD=,1O @N6YK9vB9vH^cg&S:eYq}et]Fk8H7' c] c]C!#N[ utC4"|Ҩ*N8$-=;(Fߤ4jj^2ՖS=-J3*NE8(BFpoQ}MUo\Jۚ4"oR5uUT]Wu)il+W҈0Iigv'G1l.ůQS-ZfK5@&Qt45e`K[HDi,խt 5rT!i [TCXMCMJ:iT[D..STAӤ1TE_jթHckS:ըSN}uQW*%-֩FT2n?]4HcW'!Vki[QS+MVvf##ޣ,~ hzO50PA\)h;J)rD<)0)p ,f颅o'_qyg&w,& $aj<@ &Lks &Qu&ZqhBڏ &jـ0ݦI>A9X҆A6,YN@wi]Nj@5FМd'.5o"qh,ȐGAZ1ȓ :MK//e}(҈Hqo&qlo4juO9|#c#>Mqti2Ӆ&H&>yqgi+}Wq֙OwsE3GpfO<i"{ݤ:|fV JgxPGV@IcEG4)gE&:˼GH55SWȒ:6N3Sm(Y~9JKKʿh@J,v63,Tb{H" l"Iؽ"qrLIY-O1wnpnzqOz\:NmUvrRIDz-*WJEUmuE[k%N% qBJ@%齵n[.TRwk]J%h%I%^J|vSIvMF%|mF$_%izg;tvGI$ЖJrTңtGURg%m>+ 3SIע赒Gi%if.$ o˨$E+k%Jr5JN}VۅTRVJiJN}VYI2*kJZIޣ<ͱ$EVީk@~`:I%JJ+)l%aFf*I~^5Z%aFUw*i7ZeTң4^T:]YIݰh)M񐯂d錽P?oqU4$Q_NϢ.׃s^}weBOsc˴Yk-KYel*ZS 4|7PsLxd?6ciq7%Oac o Dx8ͦ߾_\Կ}$oq|*nj|^/l0N6LfL#$>qUK>qdW̾<YI\ F{wc?p?,%3qR'mWYLКw0!rp[f_~ bvc5ǒ'nSKNjUYrE?'v0,6o⨪[;xbfȼo(:~%*k&yFm$8>0-xLfFN:|:4hS<;6YrfLwūp;ώMU9ώMwg&JgǦ;g[<!t;;dK_ 3(A<^W;t3U['8îH>Yq1[->e0i”j\}%1h_+v=}քr>d)U&*4mZG~GSY&e ,:`Y*H ~=$H. pƖj)Jl@V\D\Ed B,ٯb  "-"hO~'\>~2^w|xrj@K|8e`@-'^d|{zrq4N?'Eu7N~_$WIQ|C+tNq\b~Mv:zWgǹ8=IGW̊o^]8˳tUaӾ)IRq>DūGبMȴ2Aɇ]Ie^t@\Dbe#e)Mx+9b$O$  xt'GdT>9/74ԮGqJػׄͩJ$OI$|y=|ݑůe~V Y08Ge9U玳H|z~IUZ- '{ԥ"FǪ& iQV :j"kUV ϾB3%y5"o^~"dZXLb/ kZn FJx{*u#Cnd(qY+wwjɩsH>De|땫]b\^C4<" jʣ|ݦgΏĕ[):ҡUDXıY&aZ$,e{f`m->o˕HЂ:8wl݃"a8A`v6'1c0f͖_k 5xM.GqQ[,`ʲ"Ӭ] 5148Q|1{`maa$ܲ#?eD;yy~rjl!l:Ft 77lb^hع!|H~wyVp}`\aߨÇUs*XF3<׾#Ck[hи.sru]T{G]q$i@jD5] n6`Ow8n3}4NTi;MF\#% N h v` &dppКCMѳZi@E ggp^|cbTEJ"SBhll, &AY܁]Di<0U3/>`{8}5 $wB/lM,?,bx9YycLt}Qr`~u'EરBEV#k@zBea!Oڴ_(`U**/@zޞBaM)|wk ^F綯<F,J<e۷TL(fd7s.?ϗҹ0O~ u5zUh̐}EK!z>`oZTt}pa'b_b):-3P<T9cgO/P6T35(L-Pӻ0/qq^ajc}/8bj%z8(PPbn_a eX/kF*ӓ Z:8㴨Ayr< )ƩVHוHTږh<$SǗyKF6K->YQ̭ێ2s'E ƫuW=- QLE_o/$-E@z0h(XV*K^е(V dUvJ֢XT0 q0 hřEᱨ`ZaZ3I;42%L_ff w)0 B ZF=Ȥa}dN"#MIQ0lģ0Gx2*} O2=Wz )(MݛԱ|< K~TyCZ X$z" k?iQv-11U]K٤EngL6ŠS#fvm;W ]t`BA'aQNw)D늕XIx2LW'`H`YIZ$ _Izdq&i9 =V$|0u2LcQ$_p,$-yF<LҫLҒgė5xXuXu,JY૙u*WKN6f!J@(#Xuuc&PPIBz=ZJ1IcEg3h3W0I0j7%L—3I$! i$LpਙH<$t'-}R-ʜ@A- )nBԓ?,жhh 비 +(d0M|=׀HQMTx~! kEC8 ye* ×H1L$N1BG!.|NURA}WB] (3BNtT@@sY@1߯BaҝЃIg Ǎi`8Yg>x, 8G8W3H:] 'S0K8L K^kMADY$REC|[r(0k$CXQ1F{ɱ߬H5nB¬)X`|k,,)V`ZXG9&q(Y綆 ņ,2-E\y[WkF/Cex, Y&Ek\B|˼& nk($9L7ʑa톪A!Aa1B-1X1LفBAyb"CB;evv+H3#@N? `?edcQI˰C-M`B"CCFt f#t[ q*hr!}kNKˋP:.AC|SgZat&0z }$=Nߏd(=Jh@b5v2c@%8-3"S ~DZ6" AGȋuDKyb1A Vs?/·PKއRY>Ѣa1 _!:է Goc1~ Bu"×qfBuZ H"p(0E!"lNdř#g YW1\Ьbnb KD1RbBusX̭DZM"uAQ"$"րȐWK`|_5]@O#YW.`1\.2E1Gۏ.k4dX/P:|j6YCdsK"O\ A~fb?wZck¬,U8xLEa`_o!|kҬiלPX~bj9\ (ڏ5XX`+ aw; GbW(H}ł{a ~֤`~N0CrxP^, s0l-]H(X$w!MAs + `9ӧǧ"E* GA}aÂϕc U| `Q"?DG)*qh9%o/|~ahX4<]sxƧueIO;_z ׂG8L tQqȄ!xpdxaB*ɇknnn=@E<) Yi1ʀX*&v6Nk@ W -@B$ 2b2r . q՜sX\ƛ`S0E{X ' /_8O1G8QS\#߳lhP/2O~xLRAwO}?(؊:ƞ47LhivmOvagЀsJXF3|E Kv.CW/}ƣƦ;_?ȯDfBûeqr3cj 4A4+sv^2f-O1آ|ҝt)d|`g{{U쮲!#EX/{+AFdbfl>7U /M4lɛ!_㿽/1 oʗBҸ?'4.\80EdSxW5mBzۅ.(|RUvxu_raZTC/{N`MΒQ\285x6gIB9()<%2;5]}؈&!u`0婢EOd[QƗ+ %^ /1ftF 3+4ۊ"64^=/@."H Pi9[(S gjq6Z_DzJ6(c;j"Q"58sX@Aybp -=0G5%0~Xjg8 3GØHN%V% !dj"6~Z'+&r[R )%_ALT&'==S޳h*!D2'cW)Hھz[J@&΂ùqdMc2h`*"kIJ+R_&?]s%jE;@WR*&[EŲGqEv '"B+ ,[ -Qp{Y{#TLěZ=l#Ey}FdU$Lۣ -nĥPz٬ *WEV?RƷ'UHXt>U* 9V a  NO6/f-ÂqSWW1x¬atm IbnݚrTL(f+L|b)֩V'ggK $ f޺C< x-0RCɱUQ?Q~rQ? e0_ i{5 b )})x H*-}K#]{_a^jckc (XZab ^ab10tv" ǫuj`aiu< VD]#s%TK$kK$%Yq:dW̸' -?JBQlc_hUvv~(3E=|)cYEJWP PAA( (X' =`@^+еs0@Q QF|Q u +ׇ$t+A< )&Tw5Lj_ ܥ$,&HWwuTwz%L£fh_I:`_ WwuǢIz8ԩa]P;IddI?)oo}qܞtg,0EjHW|K+4{"ѸWu˰_ý %{%70^+jw5;X5Mw *6m gpW"@3y]Go+ -]y][Thh|A\nwmyUG׾ãb쥘l(1ue򎘋Wሹ a&e$]-pTjYuZ|'r_ʆWPKBz4ŗJ1Ic4UPKBz4RKI vIZZu]|լ &[}gu'ݯD54֯6P0IB5$tVRX)&ɪ;AXA`Q;RY)=Lՙ`.ZVuRY cղ_uZ: ]n.OI:cz  ]-.O[%k? Ӫ%F f(@qRJV%=T~7U &yҵ@w<eA"hۯTyBBԓE.Zq8;I@z2[H3_kA qi1#TLF#S|5A{_ OFy˴ d,R,I'sqs@=y\,S'LbsOKO ` `1^B@!Gєiou4yJ"5=|I1_bMA 9{dg3Zf3ҳdž7_KܗΝOZcV̹Ȝ8"o+ʛysa)U6>',YwK1|fX9 a>1,U-)C*D`$  -nY'`N4#q~z@|=}2 3Pw+ (z;ǽ c"dV΢qn~_0_:US+%/~b{2_E2nZ$WMQ̭;|\u]U,X;xRSC,W:|sa[˰.8|iOD"lq) yt~0(dX'}>;^)3>K.:< jY(t-|\1wZ,:VAt2(0`=ÞK!>aWk]q=+n~UcNAvQ̭GB-Py"K@FraDZ X̭GB5qهsPBh.).8s(.j< &W"1&a ~kDYs¬g X#=I0,,KB-C/8xcI"o,Hq DD`08SELq090Dz%Tp5Tt5 ׀/y CPQ/<|Kf' 1wA*Wh++ QmfEa+(g zKnAm˓09HHO|5Ȋ]騧4Z G7D `tCdP` VcDaˆlEB(0A"G ?wb= *R.f<,mXfJ@&H{l('XxԼ89s# R|5ɏ?қGAA. !]p$wz)V ޼{8C/^TIY]#[淌YٵWlPyf?͢2gYZ~K:LR(Ɍj'37xFg H2o|Ӈ jIEzW<BH0Mʏi6_1|b_4䱟gn@ ϲE4*sRgQ21N3ϲ!}|33p8 n擫rF>@ b0k;c1@ ytʤ(S t<<>KE\8/i3T1lO>41._ґyRkl<4Y,ߓߝ YOx32:oEKbM܃m(<2oYDeZ&q1΋F?,2_>~]2?"VaëUXJac.$%Xf.y8L)s#V>̰﹧ό۴59]gõ ) ٩a?cH4~qqk=~nY*vPj臟D~?ݽcJ{qL8m'r=^G @JUB+RNOTH;,a 1h%ֶ2ן@䛠% Sth8xm7L+סCÝ- Jҡ3ҡ tb!-4ubΊe$c3cRI_ӮK˞oY"~eS%D'7 L`ٻ=^[s]dLp6RlIg=SSrw'}kE\្gV/_?[c"- ZT<th7 pW-J&^Y 8({c@O÷:*@x-^z{2ViKKӳv{-yzV3== Dyz{zz+kӳ{"ƒ#K,+o"l:>09` ^{_Vp 8;&{[=~jo+P8lK &ZL`;#E-)=_1,w $`mk"`mv1lgK`ɧ*_ uIgĸ͋ϥfT.^nLR;@gH(^6iKy܊wwK[wwʣTKb@SP Vl(q[;Ts PDs"5nzHA'ktG$mG$ƑΝ'~IA^L}r}îDG#XniS9P'V&vdʱhW[qxYZCUmKֱv_zֱu U9Pc+U9ۺ]bf q)M'xm\Dq0{8`[T;|l | z@I]_ i~d$ͧO {<7jj/")RJ3vncBEղ-= DFvBbuϛ# &@Yʃ_6͐a^bPGet+4㋫ciy2Nr΀ӫ!_t:LmQ^]r%/qO2nϹ\pi?gmdJٰh΍Q\285x6!ּPt OLqNzh8w: Nu_4J@ʗ84q1ksD ͣn_ \, [u|6e3TWs<HeZi#dt1Po`DwF| 9:>7^KyїIϊ3S͗kty7Wϛ~eA>3Z/6f;6GdQ2uPBY\< ԧQfq``N{ %ΐ 9罐gU؜2-Amݿmm_iھm_[+"mGmnlި{wRym60-x@P$L%- 8_]`M%[`x`/oY*qv{ rndĨ ֚H;+vVJKm sCm޶u(v.*)]v.H~ vtt3D%5Xۏy= 4tH@(e E PD4[$Lgl \aS\Qo5`@]^[4mnӊl!mګYE-v U yh1䡋K-)Lyw`!anGF0Lk,x'*B&l_7̛ǠY&S 5 ĵ@#GWs{]LBpv1{"n]= :3ۀ-w͹q{s#iUSVfrzV{kio\ľhM~u5f/al}BDՅSm~ku~>%PrWB~y)Ƭhʹ+o^|ky v#.v{Ami + |rצMf'xj@ZD^Zu\KHKs.bKsgg5Q[}H.`H3~ojNۢSsj]ĭN^voũ}/dW \5T9(oLﭸluir×y;mso.0.=d1YT%uc>Y!{qgq{qdWt8Gboi^i Fyξ51++/>7bh„;=dzI4IZwX*`6`ާwx1 (,7GQ7S%#ɗ>w'-bMiii=lixrA0,9guN6% o9n&~8?+ >#p| lNLfq!=P6NQѦ`l9m2⿟1RՁ%(hPX2?88;KC}8?$۸Jy&acV0(h tZqU4< ڣIE^&W>l`CO [Vw4ᶋGl4aZwIQX@dWMB*]0i49c XV tbmaʬp_apϩAӤj }d&\K @|hN vT4Q[BD>._[󺈇)tD :H $.2S$@P`H<`@O1^t "f ,KQ26M@867 \ڎouC@;A4abF҅&C \4]B % Lu%Ʈ _\n;s0Yg!Qt*U!!ʯb$%w> R\`)!1ǝ4'i"r!,DG"gSfb:1>mTAmyAUth F),Mwr z49ίm#FJv$Uh*AC zhn9Ln0`!\ -LJqX4)cbEI%MF"PtE,b`ȇAL;dI:NPpi2e[/Ar&5 'I"N9@2o8-hM̀Tl<3俍 Tq6lsX~9JKKʿh@J, L:q;C*XN\&Kl]+lrˤޖ't{v P/}_3 Xo:l%N% q#]LRIf~轔8..-Qu*IS-ZI^+AI{Jr;+i;]YIng%ɨ$E+k%Jr5[Ing%YIR*E+ɕn2ESI2궒[ix$Sz *ɓ_@RIޣ5OW&/<7HL뿟ֲVh{%i<_ohɺ%l>n0J\/50`qMgկ5ÿ}?<<H,JkYEUݦ^ֻ`0m0͘FH7}<6¯|$6}yH$.#н;1~&y6-78i<]WYLКw0!ra%f_~ bv@h%97r MNgy5*IN|HWdƛ QUմ|q||{{kr#O,1EdVrsM`$7o׶|޽>wF#W dlfj_̧ @=eγK9?gp]yvUγjeγKU(p]yvyvq;UM3(A<^wȪ |TliK"gïbO#X[ o.D6̧ SqqiĠY WןxG_ӰiYOfOeU ,;`Y*H ~=$6FUb J[]% L!L Ub Tm% k҇ d[[I% +m!DZþ?=?%۳s9 [ZX·"4x9~ɩ+.qq`O6ˏoexEƧ?88f}\%E 1⮬7ȗE<Yg~μy8qa΋ +~7׾&w_#{$U_1+.޾9{u22,WO'I9Ka(HȄڄL 's4|ؕdyZU>M/fwãr $VBPLb%$m(ǔ"'9# A}yx_'р;r Z99گb9RY<$_s@r9z*P+KER=PrW.?XZ-=HrSR 9) OLZ H ,G>HWE=գh<x4QO△WTr$"Ezף+E,WoaN#l(#|G~0+_iq#qVС8.Z.'[$4qlo ,KC7ueGwpN`ct>(& S$&KnbE1cl|Uo޽ؾ*nVŻGo,+ˮOVkK0,4WGMb챋=nxyg˒ bMdhXap3BEHeSErŏt BwZكi+"5us:XF3"3~k!ٹ N27(W7MR[n n6`F~7{`W=g ܮK8)?`7qNx0`,b81%8؁5j~KmR$լȖ^H&.R >#=3/{8+v2Xذ9U2Ȕ:ٰ([;BIP/v`Gsw\6T6IsSRC[rw?dU^~byu%}jQ]C#VμEN{[-iyҤz?*1"coz} $ *% wZ SUyhRC:)$4 )&cLҨ]jҢ-Y5H&YhM+$-ҩ,j_QH1I;KCaV dUwv vCIƝIddI?)yZQ>L ·h\-@H(#@rZqPȰQ=߫ڇOLؾG!*Y㱹A%o:o8QH1Hp$Ll$ khģa+k4.2a[4|훍xRlBlhthzOXh*(- )z=e<:q&iQz ams s L ڗ$_$I!T9iLhQ&Z6>CI1IęCl|VZA'$-`[g:L OZt:X>G-<ί-&#>jqpm(Q6a64 f >LeBB )&I85Lj' 0WD )pt= 2|$tԛ UN#m W ZI AT5U*B"]Gn[{[9j%/=(Ɍj'3a+c,cwwHl1-қJy[Ҥ\i d+Ryatb\详=Gn7f1Ч4\^0h0ZozW>kY/yqmMɠ2Ϗ~[%a/ʏA*G+ETa4؎D% |ĸJ*4]#=DmfXkh}6w'pGV t%iY&C7+=)aQ@Iߑ4iu^4aR _ceDT NuPޥt,p9|'v|Y#_Xs~juֶ$}h@bֶv{vWp7hvG3c1!e= k0wЖQ@ҨrCkFǪxFĸUVlTAe:H4NY1Pḍp~fL4M_$ӭӯO jP,I'߾>OVw9/g/Ym.Ÿk͗i^CmPkOFNA'?ŃU>1?/h -(/ j4.I}ʆO)h<Sό ^e0M{ ΣcڻA㔿ȧXېqwLX ?w@WVis);q{Y?97çϞr!_Oْ?հc~ʾx_0r{:+h> ߆p%?ݱ<yaiY-p?'}p$ջ^ X.=3\ԏj۾{i/r&NwO)ȰهWAõS=~^L a#bH }cj53߁ցF{je@Wm:FRm:TV-CRs;T A huuTG-bj٣vW> .ZUrU҄m*-`ﭦtOΆFlmBص=~_dliȫڂ*_Ĭ9;2Idk~?)[gɳXMlύL>4x|sykJsg!5swV?a3q7srnkH5v5!RR$ReN =Fe42<Lܐ=:᠟d~ k"sdՈb0^/"x[X9Y&0Y/q jR-)Uuk;_6αF:/?knW}]=7V?{qcC) [tI"[sq-i=J546teH:E)"*"T]OPH0 ?9h@|k52kvɷYS=2k#kQ |ۼN.ڂ%!'rSJ(DhSWCw *VhPHȻ`|A%:[ ۡS[*vYl7~Y|cax^UzEv6NGRiWY6}Ŷ<{]ҒMYY3& y 3>aZA'`81nx+aߌmN;Q>N?5N =6/>6T[4@'蝠w l:x #Lhuӫ]'wR/%[$>;6eV$n+;Nb?S$z9qٞN;d]yު+`_+`|Bű+z޾΢7pj۪zS]ޔ Ra|;ojE\ ?_;3t<+ɛ̈(q1 xj=Ϧ~_@]0 X30/>aK$}ege0arLyK2)Ux̠?g Q?'A`L 1L0Zi;ZB~eXo{ ۜ[Y\|mL](lMvW}WOcx0k/rCn]l@QF"s8I sh\UG9L/ȍ\{v՘{ƤBA[7u./Wve5;6qëʊIuYce3}xXRv,fa9 [Qͦs(g)LJֵmz^tj!"V2 }w۪dbH d9Hޘ\1mZ֏wJ { m}eytS٠5bo~i:`aJ9ړ8h0\W5m1Q먤z/00nJ撝[]ށ{m&=Rn,Qekw ؝ͻ~vX'&|ߠ"|10w0Ch|+yzό+`oBwjW90^rd1%m׾k;~3_r /ӾIAZ$Y%C͓!;2{#",81H;ё{?/yɓ &{j_9{nL(\$ !z_ 2JLټMZ=iOOc5y 6s6| hsNGD[ x91s>af UpsҎ _%)w50SfpU{录-l4~nHֵɄ/ "悔>hdQYR(CʞsLUgHbВ%ێ}5xX{闗rOKᇉ=8KqnAԲ#fRw_+ُ_,ٖ{z}?3p ,;W_N/RgٛS㻣;//_of2.9uwߍjּu̼>cVJbTmyuWf9W[\2:!>ٛwC%I1b6ߙqwF,f_do3N&N0ɾl j"dk;cďߥx#^-"~wXnnܦjČ^G>_ਿ0իW ğ._?TaC|aʞ= ?q|sgj|U:I>1L٣_QN H, ?y\v^x~1C؋0/>|R[skT̘w&BN/yYV/_O臬_N/5gmt.QHf~d|Y +YpM}\?~߱'y]\i[sМ,f_'ПeլfNų7lO0?dhu(< <d?8:͘Z~wOHQp;Ώr6pCϩ~V;f6J-mJWRԄD 5V9MZno/g1FW쑏 e('׋ZuS-rlsgYQ& [jdf41yV(3n`isS_r4F. Μ&/XLO;:xL eŵޫoաv(a>@7b2;at<'3[lݎ>Wx\a>e7ono4<1 ɀ?~Z< 9OE~,K2eb?Zf48>t-WP4ؽ5x2M֧ 1zK+?^Vlj`}6 y~~+oO -n㝋,Q/1b6>lOU|,…~eGSOT-ChNl#7ZxĨ#Fꗟ;~ OO-ȩNg2O|M/ dG/Ơ4eZf_UHu7PˤN~嫳~ɻOxwd O![@gՅL-pA켮.('M70LogK`<>LΞ`tS?b9fVXw`4;vZ.<3F-Ёa?_Z5C V0dH ϛ@>{#LB Ot?gȞ,?gSyqVKE~[2pV]A#[0z~[|ی-Z3.xʀ>ɰ>YfȈXPl\?O~LͿŴzY)z:uPk?@rnv^,+zv캅s=MY;fȟ?'W2<ͧ`6g5OMl×_sej>s7ύaO2^]%szܧpl;.Z思W_o-::oRp:!ʺ9\q{???hi='My'MAHۢݖ6tNlIqnK9ww'^l*N:odFgJhۦVA:(_.s8_k$y<>7's푟OO%} Y c4W`v)c0.nLǠ n7X-챳)b;ێLrO9OOWm^h ^wٟ.d1c_9 òLPt3>O]^h>Ƥq2`Dշkּ}+CRؾίJ7_jof~+Gt[P៊;VNꚻf2r8GptJvmwik5ҞO㺨l{2>yXG6srlZG]ꇥڶlo[a&5|쌩?"׷n&9/̳Wޝl7jMÌi^0!4'[l?6˫?QF /?9ͧw@4>Ƹdu2+s4`R t.h+,gv<1^x/g._x ڜ̀&ct} ?djcg͇<<_O ṅd2Y&O,2s˲(~7PΟboSnm o@qឃS\.<3F-Ёb?_TI5C V0dH ϛ05ʫ ٓL~:}:TIYec0ٙul;m]o3s`>>w1s>v~ yN1|w.f<|uqyOr~ZЛg_//tϟ^^\6_2|}i≚OMseqJYx_j~ח#/Psx%~oJx 82~ QTh<-'?j1(/|\V'pb -oޘV`f嫟>{xë@MtbQy[c>VFQQ5ԹS.J>5hpj% [s4NyQ-K8S.*v~yE) 1^⮾U^\ 9ŭ F4 *Azq5%/fs>1ke쟛O31aS=s^^}j<f`F-y {[C+Q\28#쵘9dzyN_ո~F#ti M;$MXZmҶ}C۾7hw3S˄9E , ݻ y7oټ]Yn A0gc ;- 8$ =pzñ: yߖU Nwl j-MpE'^'2"6Lza˲&ClۺQC}8v.v{]y@:זAKϊ@m(߃v4Z4v"}N%e$%m_(_71iԌ:3 zkR$n}4M9ީګOzꓖ:yԾixO7wV2 i^^͢~rC`mᒺ1p[b '#8[sKMͧDH`)^94kMP &Y3*_3\Q;I Vo}jq $.7GQ7S%f$_ߝT0=-M2Z>Zwid-$C _-9n$9}Y埓}I|19+(tNAJ<|j{>ȇmdlf omN Oem2⿟Ah/q}'Rզ U}@V~@VdWk50~~ ~~ V#ﷰ!!mIjH-˗tPCw[JQk%-Y?"Wh9' O+Vﯖ }nL "Nӌ]~^) ת"~ĵXCdzt[>xNX5nz-lA|ВFXY+,.d]@X+9f#@$c[^A>h'x[EVJVJ'%1=njɩ3Xʡd=ơ܏ZC ( %`C hTC mCK pƝI,2<YggM^eM+lz^gGǪijɖrώ~Ee@ֺ9dCWk琵A׎H!^} *;qRV Q xt6swxtuf Y:v+=U9vnBB@`B@NT2f U2:`e_F즁-גQb D,o8 i7C{܆?I<~ǧao^|=vXZӸ|~Db<4PuT^[zQ-ҿIiGwU'Bj]KI0Ei Puep&Qf7)ñ45i`K[HDiDIߤ4jP]KAi ښ)LQWh@յƶ"li (3雔Fh^YR֤ -m!Ѥ1DIߢ48aoư|c(m!a&}Ҩ/vF)ilk3L.߸.a7KFfAlQ7ntMZ#D9T'{ך4j7F.Qo-Hutїo:KUB^{k.uҸNm,U)ilRzz-UUi,U)il2*.,%NE8hǀFFGIY2 J! pk`$4S-j hpGI?EB'4&|D6am颅O(ɗi\ޙIiFn05S wMAks 8$C?m'FaphlES9&@ $t}:@sF#t2m94Q^ȁN#41AAQ!4=*0iAMyKZ:)0 >M8|@B20i"UIm&O+0i´M68қU8a8Di0*r8;4ĠK4ÔY̿I8ɮѪ]``CsZF'>5o"q -ȐGtd8t_DI]Dz}1cgY"i|e.Mhj>؈O;tPM&H&>yqgi+]WqY@wsE3GpfH@<9i"-νnGx L3E+ Ҹ=ƃ$8T ":F{HErBǭ*ZjˏdG51CQI/Fکk1-?03Q$@:N}VRЅeTR@@IU6/7X`׿]x*yeZ}xxlBxUZ͘=pq8=9pa̕_e@^e-K|}rvAN(aI\n:"o3*xn=aȨ桙|բbMiai< G,.`ZS}jCNKW/Wx?;#fyiɗi3Z]Zr${M z>9&*Άq1dg-b.aFܺP/óɒtͯF|$U *E2+ISLb0c{Øgg?\%l--IanhR,xjb~MیY w0 $ q)ܐ㫝_@ !$Krn؀ގ%'fɦ{(2+8icґyw+\;f/>e1 i}{}z\9-R$h@*$ӷ o!_&c3SsJg0-> }:w?!D$;of7`^64| &;_św1*^0(>"n~8eSWAjY{idnpnͫ&1bEӸlg,HeX45UB9}U[BR,5 Do ;[eU|>=ҢlYGk8Xv#kT<lh>8V#T&QZŋ3 aeJ-K$tLxRL5(HT7&A'$-1uFD;ęŀ4&@kNI3 S$تaRI@OK IzMq<:a&dăt#:Xu2'&(_uydM B@~hBF^CY@3y㄀.dc˫l|h%|lD7"Y r4 BqFi"#XWzl/'|){2PRBory [ӪL"Q&SJO 3IKؗ5ӶLBRLJf# Z5 E@'̤@]j1I&u'bPd+~CFپ}dɫP 3Ka~YG\ řE ⣈ *|0QY~l#bHTäk-(4LJ+U0)߰eR(;&W985^(NJw DXNtЭ &IaBG\a" k=hPj<ħ ZNd#@& 8 T G6\0*li2*2qhQ5:+:+qq8I8tlI!t|Y!g (d8tCvǨ+%ORn d*aQH1GIw"|4s0G"b62U1@9Mqf U RDҥ^Cj?%|VTO*,3,ҒR%`Q"| ֋}B|VE!>m+߬͢VY#0Þtx!>e:NӠptSCp2PZt(@aRZl}tf |R'UH!sƝY%kmHHEQ)ĆLlřx#F)PpItLҢo~}1 Qf=&)Qy-]jh]q,GOЉ3uDZOőOѵh(d$=B5HWwI)&Tw^uG'$-N4>Lkyw!>ȤXn~ <@f k+KeEAD !3H˩M&?kIIC);ԗӣX A'$|Qt*.afKdQ Q*%/gR-T9)hJBn+U &IR%QM ]-U9֋a8]w92}wi脙pSE`) ]28eа`ހ.~DI&IO ϒQ/QOXo:Q)wZ:G'On'WsA GٺAa@L>Zz>3($|ZPI~R|TEZ%k=k?lc9DLOTQTѩv o$&$JT7,ICx\ x2쑮C@LAW灖*iW q^}`i>cDC(0g+8zȰh8B$|S),䵿rLё'b  8kt]X~tXF$!eX ,5GtW,x2zrTi0-|J[AUӐ3HK>߀CAU,|bYAa@,N Fds83m|>Wd, $dIh w4fv 𗲕Ks|uSB]ZssR Վ0#c=m5^PETq>˲46j *4ʜeieOmW4/ [0JC$3 Yb!+;R#[;;/M\%ߏx&aSe MW")c y7yθ~D ejxg=ͳhTƻ7 >-llw`i2 Ge\LV11{Oؾ.@pI c:G՗`nfQ2Umye+ X`K4  ˵A~3I*i3 8ARoJYO?\oyJο~N[j?{{zp;l%[Z&>ڃY\`+RuUa>)G ו[6Swx HpP\#אY"&<ǫO," ޸F2-M=O)4 L Lx! IhĝC}%ިo5H ݘЕj~ ۦ(KJ$} r/VuXY̪b H01 53Ƃka UQa,X50V뉠OwQZa6P7vEJ+LMlLI$r! |Tw;9c*b6-ڍ#sZ:ipr@gS7a4dm sXVkrBFAaI4"'z*]rW] )--iΚɇR\ݚ!C”۩MZULa k+-u0wU;.LGXp'{0RѨ^xw0rQx,&V(7V#uPuпn32 [i,X54hy,q3'7h9- ܫ ̭&Fgv2[[Y DK1i+w{MڠmD"^N),MJh0qrW>[cOj gg-7eex̀_pBg T;U@w:!%3>RV(NWuŅދY 9Ks>]\ہ3V]Mp sŎNw],ʅI{tV!<"6CoǶ /7V•G-߉8cIj Z$*^`Y`Ғio7_A,䛽gYgS{|m:o4=$ߟTmoK3i QSbKX775!E2H] -O-ym}N~ GʣCǷOo+ǛhZԒ' zXHmH\ofklcQA|Ao8?Z`It9,0aA0 #ϑ=ۘN&1ގ '3fgM:xF DC+pf.`u<Q_gRЇ νLqi# oن^⑔&iob8ewݝxsu Gp#9ṏcpMN8&q}{&Mv% 2m2b!PD4Ovĥ$O6ᗖ.!cD !ǧ~1ʋo?[Ɵ3~CI{3 ⹓9\hB !GR*iL|+Q)-5A%o_.jdRFojHԨkË ka]VQH} 3J5r/1z|_IS#=? YHJQ䷔|Kk6Х(aK5`[XCǖC 5tqiPMI\4[f2%Gq2\L(s^ *P5e@ݱ3 .Rϓg8ɱhBUi ; P &:9P8RbB֩KȀ@6tҨc:*9J쌜K 2K z~SFfgWWE7R;#⩝AKOvĉdz JIKNzYFb#ǜj^L@bmH`&#GR=l'yQq#GĮG%v{Xr,%v=C/%3N$N5;WߌnM KxKxa51ui4kRHki5%8 Ycu|JڵZ#bዴN73g!kiO~@k\ʥrk{cW]9IVklvv\Ucz:o>h R.ڐj BH-LAƚjAR)KV5 j޵8K~5>K}Hc4X+DjY_.5XcT YcHS3R_.[ "֨UTTnK}HUkT YcHUj͘vԇTfZH r"ָ( DV4uQ؎8:J! qD\P푨:6W=." <$>Gb$yFY(JY->{l>SYl@3MPRpLnh.*8Ur4}\~ǁfpiF8`B@H4Cԣ@h$=5Ƞ4C~|>͌7YQ!45$1i+IKDY$8(`ӬVTCf'ʰq/a5SZWjaӌuY Cfm ayJ1Ļc^-գ4+uq(b/*$"6D`z!9TQAςQ2p 8t("?$+dNdL9?{uۮ'*N")$ƍ y*F5=2GuEPF4;B:ıCI3&auh&2Xql$,f0CD9auÅqNEf+| Ef*]P0cZ8x7(Kn׋zٲ%mK(9gK2*DIF(x(ɨe4(i\wIFSRK%$1 .fd4(i\wI=DTh\nչ^z~ԫ+ה.J]-Y5.)WOUWNi. zOr%M".$`$pNrI&"T3J2XtIG.AI\Ru[f^&J*oK./ktI}Ĩb._x@蒚R]RǭKpv=nǭ_~m\wIVzK*fջ.z뒬Wo[ͺroլ.*\dջ.z%Yͺr %uvAI]R&J\]#J^J%k\cԄ%rIMve+dNpLp!}2É"Dغ< ~U5X\:yp5avҒ\;z%5rBM||W`ns `Tkv)ʰu#E,Nf>),INGLqAzA(}[[-^9,kʙ(+Od wxs}Z9;=xs̝oe&^^ ?1dª{Ӊ.5pvUS2K, 2_b%8-z]pZ[Du!;c&_gWI/)~`Q5&oqD-Sي:qv9 Gsk6xKNx1}o3q~kavGTA%$jnJo.9@@o@*$laA9QK;Mae-y5ıDV>X|;:&J|bY66; Bx⼆ml"MZuފ?)Ob1f |PmGDsSrh~H.)Az3Gvx' էf t_ަhb=OћM咣3=_LߔӋKESrz^iÇ^|>^_+}CtpSmڣ%0x9ϝv8WRptu5O:O8V܏L\qϝUIl@~ zoB› DMDXE08s+a' <x?9qCU%؞&nIhr(_+ 2 PD\{IYˑB_8+Zh.H. P?+U1]<6p.!qHHx\x3@W ڀZovspgo~4p/z@1w7nKע_2Ba\@:[ z9[q>NwYNT{a*= k 1:\S ([TijWީ0*uRNŔ!)Ĥ̙p<}ߵ>\~k; Wٻ7)H/(5Fr<C }_ dᅧlWLĝ([/W9?j8dbEi]z؎gs0(vƷu_ZWabQDZr|,<ɱ/E }Z[:|ӌh_ȇ0-XKĹtqDFNK>'R7C6: `/f:3sh>26%<"Bǖ&4=_ί.8M~Z /f`9ADxxEi+D _ kR j^,ݥMvi%ibI$bJ;I@7oP'3SKJƓ;:$~!\Vge`'c D.()I NQp/U!{3e/.|ciSDcT,0-S]B(f>wI5DgvY)$Y`Փ9U`w`(jV'S%~ G ⌁M+gl,|=Mc̻Lԙǖa+:`%jrD 4bft{〠vA2BS) }"I=@0 a0 ebWRWչCwdHx7|8 gM{QxXٍ;@Ftc5)DE;:??>_P腩8-[6LF~!:4~m#ơnY?mP7 hY%q㶄j%{O_ήN{^ JV9 U£حPJX$}G bw>ɃbXvSUTϘ7̎Y)1{o//BxI #]Ej ֏ ż*ߜ VSoPmUͨmÓU9?~h} n|) t4x?[PI͏ȟ6x3QYF]Q{'|w|Qf pΏߞLR9h!o?7,̠'`zgoK{:C{CKt9pLja6tw W9XeA8,cO0NpJV}'`[p}>G|fI Ṙ:XMbV Ɂ-I[(~S} =#7Ү` 4^0{v$y4}uL Viph,YY58a/*|  ߝ0L*{* 擡Si a5mu^0[>(G)]e\I$2A֤&dyQj/Ҳa鋴O.0b\%##:N}-8/]jCBZQVь==Ymi$ @qeAOWakJm%g,+!gasrhM'd>\2s؍HI-;2DXJhOa%e}׹`Fԡq,C.Iq3xŦB'-V9^L X@'#U%vβr ( U9_q!c4lQ3+23i3c:#2;^B, )A?!qMT4p4Sՙ應47XY|_u'S8fj1A#]0%zOҞd5aX<ϟ;8syr >p-yܝFN>>=Fv8"Scc~Ƣ?ve^S ÑluoZ`qIºsl.l.gYuUp0نFf_&_2,)s̋f/W+&Q'&;!-,r'Db|!Ұdgaĉ`p1mN##ECpDBz@@Av4f4p\GYpz~Ѹ_QW yAa]QFsOw.+̧\~~ '?>fy%l1a{CK_A/<,c?}A|47&<:C8afiC Ix,=y Gz@Nxr r8 58F /˼3E@c|MitF)l6 c7*-,h/bCtk'nf|"_3ܙ=wH `iV?ԌgpԬ5NAVE6m'ijV#1=<{<<'_'ܞ>jɽy),dKBe&u h*cwz?pld4&ity$f3a)/C)}4W8$4!CCAǽR=;XyqCeK}c`D"TrRE#HJܔ`؅/+ { w|56dtzC_M ^_.n.lr8Z[h;N.jڞ)*ySono[{v||@a ܵ^_!j[ç S5o7$syxYmj>8 7FN,2U 俺Fi27M}k*w*hŐa%f]mpZDO%98heiT6')u{kRo$Ղ&g\W O=Q[K֫Htf6wwc.Ԛm)y11]iy12Fm'5242ڴ~Mσ3 vr#C n/%U 5oBL;$Cܚ< N;5qi|95Eb'CU۲ቨbztAx^9B_C2 EXt7a_U $cWsċ%PFw` vTMS3o<y*Vw%yUCe5@yXZj"=/Xe;%,S/-`Tk0Rb ~-=`U\`Q 5k$BԘDYmE>gj~e*+R i %,e]XFRւ:^e8ru\|hA*p(-֖sKY3u(-e=XCi-ׅe9MKq(me5VCie+kIM"[x)u ̖m ]CY٭lϮJ^En(;/5=2\~ֵS\Hn(+R-ݱk(k2ތcǬnNR=3] z"۱JqV-[zuXح^UcwFfcN}S]SqUV3iJDB]3մvߌn)oE?j>ɣVB"CV1|q@c> 3%.q_/饣NpgF.ˊy9y7[jn8($;*~~4$N 1楱;4n Z(qw)[;fj+$;*~4JJo)45R.~~42Ҹsm}wN~!i\ַűuKibҸ(]nǮ8tv}wAi!Vqɧn뻛? ImilmYwQ\l(z{w}!iTމ \Hih8t^Eq IF9 (]J8.SD]cs@ԤєH,lHK Fq9 ҸSͧTvҸHm0cn9cI$|hm-OնvyE`rǒ]JTmkZH7űűvQ|Q%Ń82m%ЙC$7t%x T5jXwnD ƖDLg)J[mRM)q J$ S)e:<=Yk$H]2X D[ a:=^8_l ӹZ0h w>O^v&ߏy[hjv qGbss#Z(I 7΄{Z!|-; xl|I0N'b@zxBs*| b!z Hg_ G/YiH ^lZv{}>p1LONU-V r=#  tolCf.p _Q!Tf(;A9𖧅bLЭ7>PTA=nO&2t8qb'"шϥ2 & <79吢Megkj >F6Rl۶8-\nܠۊxoFLSs7/jAKXl^b[,=ƞ_i;;3ՂX}v 1ՂHڜ,Zl)9Zl{om'DDM>OLES+u3 ֑H yZ)36&Z iq@Ml ,֊ /׋]n 0);ߺ<`m}Ã1bXyp^l{Ty xp^ QPLJ`1=byۓǃCG'atTfDgTfdNiT` 96$[7WhȊ%ڬ$2t! '<h22Kkbc` #`kft +'7GD$%Z %)ۋ!a)3 $Gs(I٭{-^v&Yʠ$m{$K۩. {Vdi"&l,&%CIۋ&b&R%=J*ʣJ҅.)^vK҅. JҷK*ʣJzGD$%HdQ %[܌ nƣ܌ Kʟ K*g`;5Gi`[Np3V%n5Pɡ}t)ewF0(-X5|%2M2MYp()زJkv$&1Z"y>JjTePRQ"(*s{m#%βY-(Pko%.(;Kj44@I˧JjCI@I;Kj yٙ]R)JVs{vIEPR{(ܭCI)Jeg%-oOUR#^/}" }o,a6[o4v7sGF5YUyc+wɆ7-wϓ[B&#KhoϹ[jB:~xO CSEgУpoW'ܣ#_sHmČG1I ˣåj^0ve6k^ȾcSߴ^in ]nO9̶{;fV [E KBLX@p߅V.`l`~h@I xMd >VUDh. I'Oo0Bۤ%f c#`Mq_?Po.Hڿ @ oOqLwx} JƉE)6|n@{a9VA+*ol/__|8;f  a`@xХznK{t|Dfo.=?H 31쭃7 1a,T}6-)e (`sx'tI,'6\ aoh:p*[ 4sPB y3Z mMXm\AO\[/QH pI&y%s̭n w/mFdxs osJƝ;R̟UMM>پlkxZvHE2ͭ/e,{2AW4e?G)o7vjs mm}ڭ,P4n-q"+rY os >UVRS?rqc͗k [FK+zUCb*q7ō16^EY)\5^?l8eiWUs(ږYlbRu(0ijyHkgԝ jYv!:fU幅MnYPw,e3Wi(m'̃Vy`c;z/>(H:VDܻsK"tTp*\-+\ 5QjҨBV>jn2"TH1,拴UV-2kn/v"vvS wxSm_mDoE?,7.|EZf2E콎)&qD-xÍl'7zXS6 5Yߔ] YU/J-7zS+7uF&J-SY$)ܺump 3Wfo3( Y w"q#2įFW멫*JKɉR"[|weMZ EjmooPxVZ;r~-^Eڡ]׬UH[׺+2įO`u^,kEڅֽ@+U,nYq~i'xi ^Q=^&kԝhڼ3W( u'=f̕ 7u@e tV`]h"Uf<*Ƌoi]f+X$~jiº"r-5WD7RCݚZPs[R;R͏9hlj.@ec Yyǘm%F݉ZܸW{hlJOu'*!kIf6FoT\~˫ 4ujD3.P(jA2w\eSW^b/\2mߐosdk22֒crPP UTn:oRݔoE݉oP.oP6o:Y^=3V^_o=v5[$ q7uqZS[KDZkjmWٴEfӶ@e2td)RuKI\f/%qKY_Z"V^Uk4`\#՜֜l<`U`ULuBk/ h:uP!ZY׫} <'*Q7èP1*&ɪffT%$f7YMf?xEUsC&#Nf4vxڃ%A]%A$ACΒakG zg%tOsH;/N%[I 'A+m{Y+,/_ 6ܫ}L}'6:ՒE|u:ok˳'U`֕VNLtkG갩eƶnk[5KUYTۺܧGHݢLG|vӕ&T|ʳ >D*VSymi;\miNBCqNXZ20I | NgK[`$<U;1,J 7oK[6s\ rkruY7-4,K ~Ѳv'Ƌo9Zjq*IPEyںZjqv٨ PֶOwv^`Ӟ"m7Qjv_UM?ƋHb񇵪h\UXV/.to.ll?[oQjvDxlX|," NJNi' +U,NcBq6_NN's'ғCS?\5}?\EڡQuv|vr5oFY"[SVH&/%EZ`X\o'+^Ml`Ol[al/ʜW~ Tnh7 oQImce2M?J-SYTt& H5M~kjj(M.HI,; RTּ _^+b_Y,3Mn.X;4/[wetd"ģ>ItTHeͷhI?EE>kz"UlUlUlU OTT򇀨dxMZr o4,4Emm}y)oiK/Oy*lUXAImm]:d,>(<6$Vw/=3ںiW]fyJ(h`U/NrYW%fW!,֍߹[~KuTk'9,m}l)ɗ ,ٖVMll^ 'vҔLkUp6^ZTyƶneKY Y;en@h}:“P RYf5)Ҿ]^TkvXí(ZY oug-\WU-kurDtlʛosv Rծ> SDMHDl̷c@d[-[]" C z K+ЊM:#؞_:BGpyt~4y|Wts 9j圚h%plI㗟'-@FݳYR`?׍aZ"Y`y$h^>қr3vn_[$ڀ/LWiK-4dY:uZlug7bv#q_4`ލG=#ЋrX E9 %apqИL朅Y`K69 Ґ΂4n@D9 ^ rdKSƑghISϝ$M2ȏT F+,>F)樕'_wК4(Y=efH}/UL9I|X`Q̇I7 +jY9GR_䤬\RXy21t; p;۝H./d\t*6y8#'tLJ#Z26:&l]haN%l^s@'0c s{@h4`10 ~D9 ?4f eޥ;_ IV|>9l\ލ!sC;kܫ h Ɵ2{wȔpzicfH|C)= ??G< P,L+!-G#8|H'6X?tt FOJyspŧr0GAO&~CѹU ۇ_ȸ*[* jОŸPo}ߝ(+77ekʹR!{<a RڀhilNfZK@\rb~"]`j v#2 \?jlM/Ѕq덝ѠuMV:>jt:u&6HG pxċT"Jzh"уK{ Pw'΀7VX!;e_u?p-231m! XM$VMUlB7Iiaپm_r0b.>!֑a)emOj]U`bBm^}w57ؼ'{!w^d@.b`x0i ;e Vf7I(@ז жȧk5A+Jbb82o1*CXy[7\ĮmkC@ev^ &ܿM>B1N[ݱB=f6жu(݉@EA1OgwX` #1CLq)6K&LشCʬ_Pn;/႞I)p-"qcwHHy(gHȮ<-SꌃhdcGFi`f7[ ] : H3 ʁ3h#B {aHmaS6HlML.6wAsy8|'c0dK2;gn-0߸{/oufs[KϕٷV1=7\ _Djm^ݽ%wJbtc;V14>d0Usx?En6--QxkwA-EGU n(&rVd< Zd̹9ڢ2wFu'MCWLJעUAb'qm 쾚B.hd0#]٘ -ϋ(q^fM/8 ͜Mdt={2=f-x@b`ZіͶ|xxkO#GqO]DNI豩no=8o#x? O߱o7',ܝҧ#RF ;[Doج]xj7mnyK*61p>نϏ[mmahvfC9"ȕf.Ӆ9O+E'w9=̳~p=PJp>OSV ".v$bjquGP)L2a %f #^(p_@~#8ξ)8w^X*<<ؒC%l폽^M>w>1 ̲QLV&IeUQ0^qy(Ll+By0 ,`V`)+$bLQ@'^#-5jt falY,L`WTk0 #Jt faDWlYևS5UCKT 6Iaix˅ ¤}YVo * Va Vlq%W**)Y%fVaXV Jk9.J,UXlkhB2+Pr_ o['7EnDkJkWT&ٵ HvUHvˆrɮ]U|.,T?h.GڅQZѮEr0DkF vŻP`.#ص #*;W)ݚŝXN'wĊ)))ݼ] vq($~O vz]Ų黒P7wFE2RC$ ˅$(nUWZnUWvB JžLNZ:~kӨrO449EҊ1h F@_i,ͣFDӷV:,cӨqfOihDJ-)x9|qgquM/uZ;>%Ө,teN^Կiw9R|qgt i^&!] .8RG?"uhl/nΏT4cl4"S`Ӹ,PQ: TaEpBS4n/=n)vMC/4;ᨛ↣i41Kۀ< _iYJvNo8kqLa?/SjhmN O/4ZSjӸE;UkvX=/;8NiܢjN#O/4vwZ21(S;A6 Nn5xZ@vy9po, yL݁sWObkA-_/<{ٙ~?m>hQpvѹ`|-pLPo`4d<6>vg'z1DLOg=mm9p~[l3ܸA/#^ӍF s7/F1rϋQl;}67+\rǝ6 {t(bcCڜ,Q )9Y>O0E@ΦvRR{'anJ4ZGFKF3i i%xY0dZ i B4)𳼇,v,f(*v&\@ u1N.b[`Lvy7<UPMJN+ހWZUP`1=bHwۓǃ ޢQ\:V<xY/MAt:UP{Y?\&-# n1 &n9X nŶw0!\(u~ot;l4&gLړ>6k$[7WhȊ%< ZY mܴWG.dbE4y1|D6"L #pV~2Yڔ wQ#Ossvn`6F3"\,ܼ)6Zc\$a(I٭S}S2(I^HZS) BI (i@&Oj/%CI}[DInQ(QҎh()=/;sO4Er(i{f4POݣ9,$D_"JvD2(I^|b(#|825(^vE2(I[POݣ$}M]D@̟E@4uqV %mƭ|b(?xɦ!B$<JZ>}[ToB(vvC9"B9 f PO ݣ $,_"J2w4E2(^%|b(?xc)bβ0X%YhZB('|QҎHӜ?/;KlZ"Ms)4fPң4JS(IxK('|@I˧o{ ֣4h%newn-.hڭ@Qݶwvn;v[AI-w~>nz{% (VG= !;1:^DX$ZA&0 {!A #h,MZo0Ɲ~;_d О l:tgKڗ_ɬoij]OqonQDQWc¬B~Ňo pKJa!`09i.kZ7 Aq~pA&G*Y0dBœ€.$+yNj06$>I\z'55C6ˀ)$5)6R~/Xslݑ[^f ȉw q7&yVD&txe| K_wb{,]˺k+{cfE_Gg*Q\j—O/ȗKeHj .G"3}tN0>K5A]+5GݎfuZ#u$_iz[;Ԟ`O0Df` ;l?ϡ$ c~Hv:iN1u7GG:N&o$Ngx}DS۷AMRa!>fH"2 >R\}v?1}s(y#p;A }' {G>PUcb4)8Xu)̡4vaqx΀ @Tc^߇zPҌJFe)W&Yg``` 0.^>ӷhvx  'aAvD pT 0Df6D,ْ ܶJ+f+YzlKlQ^4OXGB^LM|v3Booݓϛӟu}=]LHYmԾiw )y7xב~/ug 21}o<'NBV<4fHLT#\Ul '^=i4y@ק_x:rXwfN&ՃY ^M<)VdE9}h OZjҌp#8+]-clb8՟."])}t6[uUVT:ӑ"ܑ>kSOEw2\̠TWpU{o}iCo6 g,&7TC~ߟz> g϶lģ#ZIgWp̘S({ފ_{SPmE#;X^DEE$VoB#P~LIGN1wwٖobI[w Ct`)&tIKJЅAMF.3El)-D=_Fx,b~Oщ uolyQGmak5/A|{+@LzC ^H0'cޔ=H M-QbkKc'7Й-traXP]Vʅ]sSSb/1rXKT;]d kuUIhBX]Ŷ2>ɽSΝ+ u'wل{2[d93 8hU=x"fmت ZΦu$z̦SLjx tZ,xIL }Ŝd r{Xw1X8@'(YCd9=3->XzouO [4%k36ڻKЍ0%X:HZk͞ot!|LӨN$er@$쬀L'w0?2[ qa,C(hٻ@"hL|p)r 6 cuP>8yY1 sn.ُ(-k{6;01Ӕs:> wRq~k\\sKݡ.ab,br"՜+ mĜwuS4" [߄v(wK'n-z{'T#Uxsfhd U+O$> UTH"ңHjRu)RAmĩO6ѨHǩU\ /_:T+)6MWY Q".QRVɔFo//#ܠ{-iX;hlSЋ=cd D/6 cQ8*U2-QN4 ^LfbIuffN{N g9'a'u7tꌿkti T N^`5f /z>}s#߫g?F@rg뾄_2_(wѴi6UiI꺰3CE$]L2[~7|q"Y.>>;=q }"]$p{qr'1~Ѹ4oWnx/pA8@1bo89zޝ\IX6s?cjًtB`+rNN;ND2QR]:;lRk9-mB}{vz##up8t;W{ܠ~I̺2Jɦ{R0 U@'UӂhW&q%볓H p㻃}:Axۑo/ GxG N֡I{b1P{A8}{4P׷׭`4?]džڌh|;vh0[ECcrA(*=u Coͦi<|IF5)Yxhe Db;z7>zXF"p:'qlԑtNM}~#8ua|_9 U87.6(e0{2D̚:J$򾡷h%>%@G9A;Tu|%z2?:73oPBBLBP.K8FO~}Jƒ6\1y"h鞏:9@4WȡZ N7}!(9H Bhri1C kq O$kFj,`e+b&l?H<wWGߟPgMeh,@D ^,{}; ChD balﻑ=a*7At)…GTnOirxoabo.'4xLU'9snkb.FbXA`X|l-޸V I)Dv t/pFN]Z#w/nnFΞv PipoJ}o6=1@UTFqotJ3_k)-]xtl8EPꇓק_|}s}vzy@m/PF6nSO"C1I~8sw#rrr]xC^xgK'8=IWd6%g<:ѓüL@V<䪺w39NI]dsͻYlu=̬Nf]Y{x 2<]:N[mi↖$E \]wC)ymE+8ʡY^kEsI4VIMr++@d&dP9TZ@ GS(9 #sP< 8=h,4&G\ّ%7`Mŷ'"9Ewt\HQ(x-6fuy6B/O%dQlF'7;>IX%̒X~Oğ cOܦәg&A'f~$ea-KCXN ż+b 1??yv1}.ŋ?.="Atc\2 'K^IX֘t f~сۿ'yK*`t'ņ1 _YuS;Usejfi>TS7J29zAyF}n9[&.[D9ɐnbpJbJ\I>L&M,%\rXG>_g%e+TDPVI>p3}r}~g.MEheN"2n-ɇ(ta,e"OOKi mA ١~FQX|jdTׅ/g'ʵQxUEQ÷aF;ŧG/ur9icgTSTqOQF\.kE児] L͡ &B΄"Id|vhCxVDڇCPĒ]"bJb׽cn4MSt{x#:]z)Y0q>3HQ̔$9`4^ۓq9"1put\ZX"ݑC^:`99#%~D,^zeBauz慈+5:7'Z-¶ۉ LYcYѺ2n zwN1s֕pM3>)9._5%μtMw`] R frŪrO8'!nź"0Iwef k 47Y7vVE9 *:MA>pQP?$RѴMhh*AQz*V}hcl ?\joi)FVkiô2d'~HTR;fsJŽIjt0xؒXRy_^+:R%7{AP:1ЇԌQ%`c[(V`?s~x?.>ۿj_wzpkXD=v?(شэ#I t"H(tk}8Yb?LpŗasIkAwqtEK\p+/ꖀKQ:Z_n#v}l+ѽbN߳2:NTn: ٙ^}mOebsE$:zR##wpel"'\+peL•I2 WL_jt:6M½I7 &$ܛ{poz.M6.,֑1s0)EJgلtL'BHD%(7VuFS$>COnHJHwj$㆝$E1- cD׏WН#~g>{+ HN5 o~m͔Íj?g Xg.kGG&I$ <@x`T|ۇ?_瀬{VE{sѺy$w!^ x&w6_t=<>_[kLN$aԊJL! m#LfKo}I<ɚܬ3S"Njv\X-&XI S a/؉4*=`d*'"o;@ p @8@@P2A? YnO̓'>kJi@2&U-0_ a"Xe0S+`ev1Лd <"Gv@ z&.pa6HwX>ibwQuG>_7oHm^gJP|Ӱÿ7SD?mk*zh*ŧbߚ=ǩ VdŐ/e*9 Y;K27cd3,]K$ӓpzZuaΦu4^^ weVxL ~1G[sڈٲ|g(- om`kI[HU#@A gĪc_$_>&_NuVf"_&S?<3NZ獮<t̲| 88쐌;6q5MD[.$eQ ) }! ;w6^a14bCk֪Mi]նXEͻ!Rdj(CSq#noՍW7F\݈gvuSVw7_KYKv)zmoЙMiyo ]6Mк"sYwu5Wt).>|]m#]pF1pO׻qī1 i>G؀"jQ/CC 4 N-N=h ˀզUW6;z4zu;;?F>wsK[LqwyITGEGQEGqubT[q8FK>/oYr*" *Iq GqP̡7fdk,"1uPf{9@ DlW<Q#Geų9&۫2_R?~nC7'ȱL(D. [jVD~NQ$Y"sml bL8n|pc"m8ͼ얍|N7mÍ耋\drV-0vuM[Cۈ].Ovq_-MΏ;z3D{<J_ J֮ =t\s^yKCDB }\;PJdHW:JMG%805Ч $dxGr=7b-{ه?Kƨ{t~ggo&a;g)e@|7!uEt#Cw1dWg8,o2%?A"8Py>'bJ (ƨA ? T/ՇT{YScu\j(:Dp)/Mg= ف0fR|"/UP*>LXm^N&:Uڞ+pځ|@Æh &u- oZv_߄/?HVDg@6$08YhwO3?|G࢚Ğ6ݕiA0g?*~~<BdtݩS}(xP~/F-:$$6 G FhM9j h^2c_\^]ptu=x߽:龢Y:ld^.ܖIo-3Ϟ5,]l^3;y45; -qБW`5$32̉b/ ;]}Ƹׯ67MܪɲֱNhp=Fwҁo&ůn=SE~3b{+ƵUNneZZަn81C2->,oɛCt01H&]nH['\2SqB#hH فMKo.OAaeAch Eͨhʘ7S- 7hk[ٮs/=dO>NWӕ!p;EJVrr(QŚ).mnyb&r(<t>t8q?zF{9R0UuV˯6sk薹z" Y\X^+U$ ?_SFg'u£ .Jx'R9q21Cto6jn4jP6qp3o=o|K?s`QDY  OѼ;4X{BafJ\/ '$ a-ɡI1rCON8)+(Zo\ʲ4-T"K]fWMaZ}4r ," , 9I!Wrl6A\vM\}gP:خc"R@]"<B2XTc91bP䐐U'b9EI"YN6x*ki:=GDrXG)IQ!nrP5Z8˛~XJN%ds'!EMhr9y@9Çd\``qA2+cRT!2@(o ?}8WtCHr,`wUjɾ`FہnE/`O(CW . ֕g+(NDDNDDNĞ??N }$wa7 *"t߂#H"Abr~ 3p8:qAzCyFA`9Lg!%z!s [iҐ2j#6jSƌ4,螺=npP Z#h5ZS ,3u H zA,h,FAkɥ5ڭEk"xYMϒwY\|Er+Ku@SZx'" 4CnUll1%1rsc.dqэ^2>H((*l?gҳ ' )\B#FWF LD|P1˰wa1<:#jXܔӺ7ᗬehTMXEV#R["q͸ӁYD@ůA&Ya~7߂[v*=74ŖRIqS1DȆzX6LxE9m3\1ǽ?am[x!t/ѕfi1~ct8@,ӈuI`60I`W& ?1ݭXDYʍ5MC.CHEbdmu];€l^gI0e\9E+vZց ]3l&G_puuiۨb}AYlƼa:dcSIgX;F[D0N r57`λt ^jH7& 8 Bt~;%<.CtnLX' bcƹKO ³Irwuv8~2.q\q t3&AMKc, ʿ$oC¢Ǥ6CF2)P9Wڈ٨1#L%b<.9Re9zG-T#U2@ (ѢI *Ѳ"y1bA^ЌMCIڹAvB]lmz [2]q؂g 8Vx!y~R+ctl2ȅPH(8z~ZX'B~f7 'Wxq_P)*QQ, PmNf_v|{Sg,2sw* Pއ3d] 0z NKTI1&(- ivr >v(< ]42xzC8ShP$7To2eOiDIhR}IXj*jE]|DL)2 "/2 "n3/ 9ExOg0%O$'|~f>&1ThӣM/2o9|sO`^dYo캩}ƚ~W;FZG+J~!nM~GR;>cd&2".2; .2%C"D"A#BЈ47. ,² ,"'."R!2}}i"SI}|Ad~Ew::RD$AbBIN@A`F]PAmFPGmDwAkFКܚֈZ#h5KZaYxVVEwwI'B{_5զ{Oƴ\=|rY~_bԑfݜ1)Uk!;bKgW".r"s,ILsfYx_ ]"}H/Nj"}Hϟ>,(Nj"{HR>+᭢A*JXY*f$ ̗WGߟ$/LKsU1J[7D*dVd,-SR$,+b s]j>&C;'G~)%}7GU|8;l ֮w$g6Śm`#3 N(*JH&PH'2J0ŧć?Ac[m2%_u#P럔Il"'e,{E.>?blxT0kn]|*sqov4~y^-8vY/ł3Vdk+NjoI˪h$~}ɖvut"b? ht:a3}-Y?KoZϾ3w9t&ĶK]$?hO-wq|Z';B<O}K;/AF,6ԓ[JʻojEHԠ `bÃȎ>s_ hBY(:Z8 3iWz n$\%r~>LCq*|C:Hٛf$W2gv6bG|9|v~3f)6y?/֏.!wRT4БM8_Û}*]эbT\8;  uaSv %AbtwS'褟&T=<:r$z$DUR kJ$))Hy,4?vR4 %HI)VՏɌc5R ShiJm/[ GUOhi.KFR^ Ea)OԕTl))lsAzCrsZU47(q\EC88Z Ȧ̹dǍ?(4'OwpDmjAk8`/n4rbu-Kص_]^< ٣E(ŏ_x{v%"9?0&V&|}`/ P#rޑ阢;-:6 f1uHelw]ߧd| 7>z!yMnOp ,BXҳt4+A2sZ\\|7yl`wx^CLL&oA2bjRG"O}o6X.ڛ+PEqaȾP}m ZXmt3c+%waf)j?Q{ގDyk _ $G %D)fGmvHQyn5S1Ll dԺNx X pMu(>Qq} }DŲܚ+,gY*vY彿8T-%>{ Un5m!I]yhtHB~Dj;3W%U` NUW0}'w]ϩlΝͥ`h` ZUt)I'O we}|¾?>>*j>"EF$_KxUU(r+͏;<(&+r0X)kE;,vk 0%z .%\kp]k&\kp]µKv .%\kp]µKv .%\kp]µKv .%\kpzʮ]Z>.__f6fiŇ/k;YL; i-|`?Knr>ο44E]|Vwqt:Msgqxw2ב }#١N{[TkR2$,K$r-YRu,}C4q GQ^͜C lNC}?7mm>f-{qw߼?ʼnxNzvhzC_rSDDi=i4黻;N#}7Fmf7Au緙1ԯ^y:Ce08Wg'ߝS!]ne">vc 9y.pry٦)ڷgXrup/,7hr?:2H; p0`dZ$Bygg=xGt0bLދa߹lRꍏI'''@fűuh>Qaq@]RdBA8 rc]z݂ޘ4$z"_5~uK<@E>bL/$ɕ*Li0bNL!C~ __-K! ~m3q<09xj 8]SS?,SdHq,?uw{T lߡ߻<+f0ud m<;sřM&:&flF_KSo.e:c! 9ݪSq a7 ;:yvU oBċ$k?!tDj [Cmga q^RYh6Doq ֽ˫O)UB}:dCţ!2ɞЛ8kXIgAn25dYKdOHqA'1iE+Dv~\A2GF6! d|{)#P >M$O›ˉ= n=vߠB9Śm dH'+ eii4E zGTXW C̀lâ|{nrތļsFXrz3(b }$_ P/Pq?|V#ugDċLS[LK_y>'W-(ƨA]< D-ՇT{YzScu\j0:DpFTMg= فY> Y*LCh6/'b*mOGAC& Qh&u- oZv_߄/49H?3vP;c}Q:=G85 C3?5Ls+8@kUkB,@zKqگQ1;Q29ڑE烔- CԶ8&ݿ>w8k䌀bk4FS11>G:iGv&A,UͭBoqCdI:y֓=e7ހeq$mZH&kl+sS+e60 @1_S/x`h4ױPqTh\DZVDjEZ6:e"&֊9`-u:cе'׊p[d۵mr"jkhB~n3< q6.Bފ"y+Bފ"y+Bފ"yrD[VDa[j%ߊ"|+~os %i-8{- wx|9r{AjhZe菥t`@lK `K3Oq?}B/x;۟6?LHG@7#Z|g/dtwqbӿȃS oΟ;A?x٫9E~١K 'Œ)0k_pUsoO4lt z,BEFWhSYg0pgsF6"=dvJmFC/iujyn;:zw '̆Ďu=v-K _?&I_jYx34їeI^MKjZW\K՘W:\ti8< NaDrNaL 04?ŏ;au )KgF4+II(ATGtjs*4ۃqjk/Yl]< 23N鵄V߮rY}=2gĹcytP4 96o6'Sߙ3i'>ёKC쫍3"`) x) %poKo>z}w'5yީ fg4iu}^> *&%J_,#HhO|aE(JdD(Jdq%"%r@=PL@ ܓCeUjo"=TP"Ԗ3@%P !@,P) ԭ7v].47fhUI:U:lˊts?Ib*~1asf2D'YO"$2?O=j=%RdO7ɚܬ3S<`#O Iђɥ!,Clݤ))SLBp"SȔ3?h 9aS$~_DE$~_V'~An5-!˳Er|e/>P4Bf %A"AP p^/"PH\S}'a߾SGkTjy-X%dTޓYRI2u;Y) !:&~ ?Xs5.v8CK^ VdE//FbDGf#I dHT8 EgX bi~ DU9bxsטއޤ1@siڍ7\Eƅ\;(pZݨ[u٬[ͺެ7euh֯SoohW' e= J;nÊjW#q(q> =?2l.1eۢoO&^X%4Ø&-}Z 3[L[phJ翐kWjRTP%6r8097fB\Jyʕ&%^峯hW讇/vv M VIyRstǟ|'!$]f oP-|u;`l~~0= >v:^O" t\S)ә 0k@9 pFhӁvB~lF+Jy:Swz>qI=Q\jD"奤Jœ3JDJE\Vzh}S' AxgC7 q uOTsۑ޶v̮]e%5V? ;I!4^AT;/Q+jFx+w SHMA SGSkwH%UלfWdM1.>_Y%.>Wn6عA+ i;3X%UtZۅ)DJr)9rۿs'js1fsCjVQUz<+@ږU=X yWĂ] %bnq/njjCnqݽw^o+n.s\sW;K@#ѫ}]Sml9g2AJ{LM3~ _v/i'4W^wz`b1e,[6ޡ:7߁7u^})/~jZ_THپ&Xz`\U+}l֣ ^sQ/t>οfϿMqw:@@j_K4:ĝ$ vmD6aZKS"PXˆؒXVEkӪ7ےwfGk[وׇ^}rn2m>j)bE]|o\25ѩ(T&bX".bXkb?|fEРͰJ#Z:zs齉3uʆ=K~ܿxgˑ-'^E$ŧI;/L^\^b?J~N " ׾wWe$x2!}ĆeC&ƋNr$R$[VSGaF6ha=@F o)"?Ez,y-G_|nr[.qU.y]_K)s.\؞0VtHkv(F'*u;FiڈRWd5BB,bDx!VWjD ~h~n;DB }\;FJdHW71Hn@P 4 v+ Vw8!|{4_YٛG;g)Y1ԽnH}WHP> @]UvПh\xџ F2|bKddn;x+qyփAlOj8)ŧ!+SE;J|qdBS I8-äN?uo3X.tem?::ljvP;cb?i}/ڪ(yX%m~V{ T{jQ(vݿMw"SߊSP(4-B[:S#sv /L=60Y4I r7zHbey 3VGrFʌ% 5Brd8>v/h޺#C;l;2}3sgA>0rY&ˡLȷ~tARx2x4'v{Vh, c8#DƘ~E:!UɂcH 6c3WvqcwB% ߞ|<|o8v7q?9lf[+FWsNci?r1FgEASAETrM>z @ԨYiH@( 󝻜r@XQ Y"=RSӺ&bhk]'݋txL0F>b#Lt,OqWDHw=~;77O~ DCm*mLM?7ꚩj~fc"7^~AH&Eށ4  ͔ t w7Ӫ6qZUhuCV]QMya7r`up^/QNt̷%Lc{9mJP`;ԁcZ~]R}o8#5Vr zj6La-]XS+ fn7 bIlZph.|^8={C<NHxˢ2D$`$HE렆DlP ĽX-TW`p% cF tńkr4MejΑwsCz|_$N-dCp.=#pWR}nNr9yԃ[ޗtz7O}z?pz1rKHW(GF:q{'ȅ7 o)GEhV;}ׁ^= حCղ$J1Egxop90 CTȵ@xB: ;tL4f~r$]4K_%/ p%/ K_ _&+Rbr_|fj ޒx5,}tcyj-vR:HG#$ jQ&)=TJG^~DH{m`{&JkW}2?LA3tM\i6[+5ޤwѭzYKcgglk=  ``͂JG$N&QZ') N<*<_ũ}BG4ZD>,uH# ┖ XsC ٙq&S{|+ud/؏t 'MK3=2cG G]vFǁughk.9>7sv8j5y~VEI?jCVSs>'uhyc#N|51u,~8Vёb#۸ƞx# ^&@郴kFNt'H Wv'Ép"1H 'Ép"1H 'Ép"1H 'Ép"1._)ՠ"Y\dqDuڸ|ij8BFKKICH@J+/Do/6Dj!kc4xf 3`.cSD-4wD9Gk,p/u#NԞԕV0\3;@ `8I1#.Q-&Vd`S1Ѣԗbfa;kDVinYx3MKY)D|D)\dD HdDgZLC!r@"sHHN0=9P6/[EӣM$2m9PJ HdzY0DzF,oG sX+rSy.P%1EsL0f~3?"#2?"#a̎nʆfF#,a5@8!:߈<gh5s~c6j #6{^U9d1N4RYDT Rpk<3AĖ! f[@3|)>;}=58ૡȪ") 7qQ]'$TI1+A5h'efy}3t{ il_?E4]IcL]|9M)M/_tU QJktpAN`*B{`Aj@;r1=ʘ0\@/rrQ_rzPv 5:Cݝ +C63J2~͡koɘݑ隃6QB椬;HGL:3c[CoAva6v[ӆnZ{`^M{زtoj ]seZ}UWVc]`}z'0:2(I2MZh65hkj۴[p`:Sڦj 84aoAگ7e"UUM=5hz̖c-C4{ZbNS9e9nZn[aCm04zƼuH7asd֑-9]f@%$%+0IX_RBp6#k67d557abYE6P*%ݹ\K0: W,K$ʡ{+E[czx!XE̻ljAeo WMY5d-GW*2on(ZhG a*m932#/j*/3)qy?ZΉGk쉇|׈^`| YV(؃TRP;yγ(."I iQCz?!v" 3 \-WE]mWDvsOmWDv)}Hс2tnUsߘ,H\` 1yrbw^<&<"CW*˜/F==2~yf>hcϮ3ْn#꽱7u.tix5ip65C"<J~؏OzG|\5|L,Yߗ +ͺ9#? bGZ  Y-f.]]"(?zGxGSn"&!Vb^,plK)G"~2~P EVᒔs”R %bn#DJ(@5r<t|+Q@K y"<$RvɐXf:bi%F"Kn?EOS?EՁ?P")$>U6R%T˖*[adH.Vb. G"V 6P5 l%9ħF @ߨ ZDK>aIF|O'Qxm뿓9wBW뿋O:F ?mSu-jjoª\\R' ڲ9fA=bw4E(𗪸h ^q-̻jaUjɮ)1O8< %^%uEP|kjDڶd8c7jdKhnQ4{:#Qܴ {db{H)$It83eD;Kp+0%xHLް#') q|C"7О"W>nhMSQ[aH=XoH ث4 *5 8-t:;O5& n(maD(mn6sOnƴ#t}A  T+I"A*j[U맵U׏ul~9dMițFi-XjiR4K5"{֟M͜(C6Vͦi.>Qj$ae[Vk,7KJ'fTՎ,u\ZWJHҜ̑01|1KY/kQFX?=ʥ=p?ł?oOϮ4S=QQMX-AKFסIaV~Qe7W%1WWѩlΝͥGX -gCTuQKVaqN]T)Bi)nߗvWA?q\;qw'ݝwwNm \\=Oqo??MK]| =+uқfXMhjn )~Y;dL.>ՑfԵO@;_C5;Y- "fI%rêeH2릝}AÜC4JctVtHng<ل҇^rndX}5в? ϝ|WG,/ѡ">#0" +0k>|N :aFNft{gpY0zg"bw)ҏ;8 RΖz^3!bHŧ˓;pxT ^\`ّcyNJL0 " C׾wWedx2!>}>C&ƋNbIhEO+?Q>Kzr-Ϟ!BQ/n,S W]т-q|R.ꋹ%uf.ct@xh>w#Ü-n EWQ>Gdt~'!AW, Z/Vv5I(՟H:a)M=;ϮD䩁#7\a7 TX}uh ;lipgN,Gc՟ڟe],\RW>R;԰"?kshV`IПhxџ F>|K]%d<4hV(ƨA? /ՇT{YScu\j^:DpVw HϦ fsTN)> YL*hCh6/'*mOJA;8 C4:ׅ`-o—QAܠU8Z$_jGwOP=F[JUU)ޘ~{d|UIjS{B㑑ߥyVY:4/1Z$ctY]^ĠپgOZ44J sۓװ 7D!;rP-MZlS\4>@ь(-ntɄָ Gb:O; G̻x_jM݌:oNΉ.,_oO_#8F[-/r ; :zjQkQkWІnB'tX-.s+9E1ҮuǓGةnNv`J<MS*'Ƈg[B[Yqэ5.k{/ ? HURqH0Jp"#"H0"#"H0O3 dr/>v&ݕt`t_*CfC0ʼnŰr"b1;UB54R:ldi\zݯx@<Î<=8@6(KEӣ  "l9@H@DxQ~ |Wg-:=/*oFj>:>o&3/<Lx /<t_ד>qU PRm?_[KXR4YusF~AnE/Z ή.|" /\ ED؞Cg~ ߿D=@DD=@DT V"x< \S6bY.wyGQʥ :Ym/pwDeSS#L,Qa !BF #E|"EP)FI}}781nQq c|2_ô럔L*hM뿓ٗwBWX]| 1DG9ncFf i]|*sI0dI͂yľ?i'ajz7)B)VEp8hn7j%/['P>^h?r?:{h6 Y΀ދDFݰ?3b:ϘK,~ߦݕ۔BW@mgSغA@¦^ we G#ɫ#וZz]oTFG:#U aҿIEK] b+3">ѲY7L@m6yZkvNkLk5^9\?Vɵ a-[Z[mbF2sZ7iѪpIJzTxIS%8h`5RV]kU ]כUԕ^Z]+:*ù՚um j)VWz3 U7 _QL$m R׌꺲 xެ;] { 'o.y}\ !YEhpJSH٪9)@ Lf ɂ?",@,!(i }\f*!kR$|4g| Ni2u!)bQ=%DLAzCᜡzo*kV\Elt)>S~̑Fp`e-s @b ~Kg?isAfZ0,N~\EXZhu{}(*H@[{snƪJ2_mo'dH%Hmv GID(J$ID5I>VGWgIW"O11ea"˶;~`,Hĥ$x?3lx _^|ɤI)nNˑc/7IYD.'y4B3ݮHRh҄wJA߇eE//tvh5)|[dwj೺Wo|FG\- &n []~-voG+4h-9C~0gw;zaNG1:ATl: 1HS-D(lf$,MRXEM21*tPOjK!"^JX;>n;x+&QYe9Hv`Xȭ3 Ch6/'* <5kH&u- oZv_߄/ѩ9H?N3ɹۧ{;U>:u׿ݽRGb{R:8HzSQOG)ե=2L&SWkrsg5[K8p8e:2xO`}r1@|t&?|u H|N8Yw;g@*u?x鼬eݯr#H쀐},u;8$Q{YG J$Lv:Fy,UTE5ⲆZh HaeG1"d8D,|L 6[{g_]Ցۯ^䫋O;Q&{376/ڱ=kWvA0' >!j=ep0E Tp pښ<1~Oړ=u! v@&a\Pڿz4zVRpa c@ nQÖt/Oqكɀ&]_ٺ (r MA`ÁNP2m@,P.Ѧ\HHElJȶ3d5`㟿}mJ'SsY;bER&#}}x] )n7Lla`f \; >B-`,"@AOxKq5ݢlZma `I+P[bQ2=bn,džG(> Cw=l(/c$)+ @ I+4|N]zjPs㇓?w;ɛ룳Zt;y*U,(:gH/Y #zwz{"oTۨɫGoGm% h>t__+fN.٫.]9dv(b/MьVCM%kaJߟXlo+:{v%ө?U C#߳3V;B:۵\᫫X̱ :kgQ1vHA`(W_89 =:<5mV?v7 3$>kS5q+ɝ ;J)& $AtSb`T4x^IhJXz8lA5񅍸)7 _>r"С;qa6Eb_|r6TS]`__?@WhȆUN$Z)C)~.r٘JHH)xZSi5-ljkW1̥b(_(V[wVMEQfˌ ZEA?CUl fҬiIӵY dJsRemI3$CdT^;880[mØC2UdFBR='EFuQthHa O!}jnRS:RdhB'($$AQ~#Hq5 0qD4Ň%.hv'V #7LA:8- @}ڂHznO*53%X$M$M£$dy㧩I0 Ix$#5@S65h -$$ US$I$fUu84 jY ދ"ctQ|ҚK*r39]HBB|%,4%dMo YHBBrFB^dgME$b$Xpp,$p~@`!6a1$%_E3DJo`:6p,gza{3-a.'OVq"'UR\uz.,;4P`\#Ӿ  x,빖Qݒ+j>"6-]/B #_T+ۿ-'-x+\B"&-˿gϋ!?A ]Xl_oaXPI}hQl>GwHB6!&I|ozC?=ƂO_B;t$kQ9d45/rD~c!p${pgo.Waj%P^$"I\G!'"ځpT@s|qq? 3I\g}i`[ 0$E367oȻI0֎ +Thn3i'B/[w?8=(mnl6ǑJI{ѭTCw05zENSʵF>19dSey$0@ᅦP@2g(,H30;Ӻ] [NNП j$SxA߼_\; :>4&?Bh:Yڂ_1בp#IBq j $~AK@BNؾG @X30!!!s C3;#}š|4S 8̖2o'Faozk1m'wNHSfd)+1؃5e#3J/(w=*_D<\{#4OP'P7NlFO1V{& ^_|ۯ@b)_ E]#D`+WDQ&!{Z[f~/ vPhvqh/QFNԃ6Ճi`rD|D>g!r jpif0'̚TR-EtyJh1`yմuEZW@w5@MdIL! VaGYv>IF5YU>&7,a0l> s pcسsRMͷ3[a/蟿8wt8x]Wo52lY+C./u8Gׯ/QϡTeV|PJܜℑ4l}rY"j#·R#D#rO_=X66W%L:19`Ɛ ~1sJ_Pa05bPfG=k@2^U*TxWhsv_1]6oUGdDDE", ]DSw}G}0O4Us3vzuQӫ^]ta&5ZM?/zbYeQXf"'$?xTVZJ YYZ`h4 T \8fZ9 _!W@yk݇%3AI Q^`EEr1 o`v)s?ᬍQF iD19+iOH=>KWcs/<AȾ?=:Z W/ҟ$ e6;Ng 7 l%]O4mG&4ְl4t]ua/hB&hB&hB&hgxDJ4DfE[dgM5(:g$Xpp,1@Dbl 0phJO,O&k^U4CΔLѐhR.ڥ 'ƛi}%:uM^~kG{/" .NɘFA#C` zfi)؞ -в -в -в -вm䌔qMZ6eZ6!'oU"4V4۶ԛmi A% 2#V$C겹 \%"!!-iTmo]L#1x8P, \LrMkѧ{Έ*~ool<9{um`*b(y! q^AϲbH2 2TۖU<%׺V'`s IjeRFp@Rbڊj[ kI&듉Ht쓩X-K5RTZ/@LEe V<|-SS6΃"+&tVÑ(TtUþ@xB; B;P\;jjkv@hv@hv@hv@hxD>WUr:#;h,sd7s׳9 rf5$m_PMẗ́ki96]t(, s DcXVŸ0#ޔH>h#38 @,)H vź/Cu17;ݗ*J J Oۥ9uZ4I'C#ց:$!=GHl^" f>X|[1nҮeQvU)X %"I!ath#19EOeVCg\9"[oFstt]v`! @r>j# ;4HPE)LSZN3.5p*8?GJ3a¿Rƭ}kEm,ӤP%PCoEz~}lXLf360Z6ӆM;1QuC D>Yxf[/N]ձJkai&rM]ЦjwkwTCG[:ˣ-Q /hG<4apj{|^Xxڻ970U<n2bnWAH^ 3ZHHgpi4_ae<1v@~_#p{B[ͺk%&uQ81zx?uXS Id#grs hZ-W?,f]Gva6rhX5gD{@(2"Co_[9ƣ3J7f 6 @>3廊*>˨BHO"@MKTKTKiܿ;rVTy:eS**ei蕨 lf*eմ9 Tj[f129}w kئׄLF㘯?n{-y/y.N = j-KHb[)1=eF.h==ū6Zk{ sTM(N(N((U)m۾.+[xM/]%(,"7]("P("P(r J.@\J.Jr*gհ7*Grl)T9B#T9B#T9B#T9Bm8UR- m4[DX"X[Ko3/|=yJ~{00QJZ:OS{1Yhc1jiCS- œ_önZ Th-=0ZAjK1Za9Іj.>J3Ucd G%@m?h{QJeP mWU]'ZvS3SWt>Lj> PdQpDkf9]kX%4QB%4QBn\1kʔ+^]"| v\)oĤ4![E=:Qc Q>*&VHm bJ()3mC+bުIH6N$A W֢l&b ȥHAB[-Y~jDOXIuj@jBVڃjYi^ QMjBT % Kc#3B{ De='dmzv6Mmrm/垫YQ9ZZAԓ+:! a~t@QG8njפk?pY>NWBlb135TĈ"BϹ(Xεt~\K8ג9ε乐 :&ov ,d% SȝBr;ܹgyr۲ xr𞝄lDl^stڽb+} 9K< 90Ls%F0xp:x#^Jo>5нRCyӲFs'M4> B;c}Biݳ 9QtԸ"ӥYhú\-DӠ+se)YB%YB(YYAdcbDve*mVϴRŠi*AieR*Dy~bĢĢĢxj5Evfov0t)~+Wc.*ooW5%_G >A {Ξ| 2>zqM>~~}t{w'7? R7jD[+ӀG>p00CCEЁuD N }{X#|dwMV+ʣuyۅIIbE~R/V8Y`K]*}P"k;H~ ^9}#E*3M8{2zdu~q/ `l08//͓ͫxld x"ZǑ]S` o4zP s Y-T8%YED̄w7 B߱ #fK'gz0U=%3vFR&w)Ri[""~R (L@%gIA^BifSz2PlCeI3UbbhajSe)3h&@4gKF4*b_e6+:\uΰ@XE,=c̼^?D HmDʡc"ߗ<:K4ŷ|ӷ1ig*&QM9WB{(Mw.ZMR7pHLR0JoNМ/7kSe5|!lpmݚ+|WX8jT &q=-Yfyac#t 3sk;RX", <\ąZfdEab0[ 'tO~.C\gv%x IK"VtIAZA4MDwZU|7}ܳeb13,ŭ%r-ZNh;6eR"g6MH"aZ'DizD4[oǞ‹&@XUa@xƒ3 S0)M`6xm"%[2[=a)tU'X b)X DS<#Ma.LS )L^ zG8K D/@ D/@ˤ D/@ D/,tp#!z^ zaBlljUYe \Ь/h~6DxAe"< ƒ"5'Nk49,4u)G՞0O8ƭxlܤݓZwQ]Duuo˰"ۉWgx]Z}Ʉ#i֓[2''Nzj!wn{ ;8&3%0]6^e;Ɏdʶ2r® <^$#+!ՌCxʊA4D"8"8xY=싮)rLyjx&a<'xpcrPof27t1nXDB 1.g\B/.FOɸT6Q*CB! Tz@GdDaOD%F؋J`a])1(ՠǣÞr?Ns1 \DTˣL Ep?Sr!Rvy4^{6"f(b聒۸GjS0t3 c?%F nv'z BʁՃ˰ s|I_8.aDjdb~0?)IgѻjsY.P3aDt 0`&'|̦b^ |bS,!fB̴O]mpvDO39Ce lO*D_}A<7z+}A %uό Y1(r=s],mmqQ U)Fj$Tw>{t0,iTU4N@(Q DKzQt% J@t@T;P¡C#G~֋ :/* L-U3DFdiD=L+,ʥ:҈K#|\|Q87#G3:mwi率BՂlA`9sxWh!4Gh2dt1Ɛ9]ʹ;f\LLs/jp!^*<7L=Y] {PeLY!(8 Y){8 c`5, "  "@DsH3-D X$ A&s^ԩtgVj5Ӳ.gb0u-2qs<)v7 zL0jxKFiQ#t)6BG(?nѷj93:s2pxS{R-'|󢋙^Utnd{gDW!aX>bzzZRFq?/sM; Dr|w.]~DWT0S>P*ҋݺ$ʤAz82S?vvܻ1$d%[6@QsDͭ5Wvnu4yzs9mYr99(X8eڞnKV /E_(dI[=WY5V[2+}DN@ 9k,t((#=a{iPv6u+TdnI2rܽDYK݇s(Z b, zYv=6' !j_y0 3{ z&FWCQN0T¤K~ڮ#ڠn`u iε.O{L^ O1.|o\YvdGZ\;9 hJnJ@1Z\w[q4L8oO,ԲBNjAarK<7UL15/=cxx=Vs 7E&ԭD^Pg] /t@L`\KKkJ*+Zfy?)~2ns1H)zi ; ;L|~sk"^ivTI+d`j2 8_` ?41ksB+ B۹fQ/z*R Jꊓ¼ӁJӝTإR$f2_^bVX$7m*:N@-y;g0${Ćx JLA'@ .i \y!cLDYMnʇj@iƾ5e𻜬kG (8Gz071Oͽ+d#qlސuYEO*a|'߶C4Os4senET_Q5o,s8_9/f'w/MnimX+fm˴M9-˱]C=Cnlm_뻾{ۆ ۱T.ljque9㹖'mG7L _w5, i9Lǣ-`XaF&qBXu|o04|Sw\ЦwCq jWϥƖifgu6cXy T&PM@5겛z T^PM=ZZ̦<_:gZ$wo& _N-LZ.8 ; A{B\U ʋ(/ʫО' A«$}sG#G!po=w8u]>| Bp/7cK|Ȗ>AՅԅ !Y/a"tX`7nWv;^ae4K&b >DlPXB XBCMRvAx̦X~rX_V:kZN$IH!Ͳtg5w&AM5_Դv4^0pײ]gI Μ|$L^Sf@de Gq;DpL\AAnT ;ږmJJHҋX7ɗ *azv"U6c4݀TTBZ k}C*A*!-Q0-ۑT,۽$ z/?Z\c% Yq7ir0׵]M0ӯԬvnA.bO9>8 Mũt4l_y0 z8*c^~nL Խ[9/q Xښ%WqlC]铷TIRM.Mam\fgJ\r^abC^\ cⷁHϦ+ҧuԭ⓷v>"WDYK]S 㫈;>;R,~NH١|w㛙W + S5Od(ٞ)DvlbxH:1zb\ 45e8FQEvMHs=h3M g[‹´qw%mN6a.di!nٽn(6g"*TRJ]-*הJ5ܥCT*QD6TkQDJT*QNPob\q!ƅb\ʮ2.-q!e5VyD|djm"[l!"[l!"[l![Jڒ-R"[\"gKtƉ"g!r"g!r"g)D9CwCܚqƑ{FFN%hqƹ+3̶! Zp͘G{z<vf̟Ī` JoPN DEjQ& &u5^Yj|ݭg6xl~m\Gm30yydcՉ0-\R9P_Ne!R˞\^d<=[T& #RqCWm1H 嘀h2%AEeY:uw$W5ӲߑJґJ245\^hbrY4Ubg;Mmbd%'o_C!k6OQ/&(\yFUB¶,4r5edjyIւW;~Em62vbDw4= d7zl 2ԫaDŽZmξ$ʻSx(xRbͿ+,$Fm9%6Ozgܽp*.1T ;; 2$JA▲=;( $[u^oM7ujhE衢7)0,|զۊb骫Xy-|A`1$髆r/ul'HAٺJaca[pDBoA*o޿,g ܚG{ 6SrϴP;KxGsUjhHj௽%KnUj~RKGɠx8ĮI LPֽ'ø>шf/6(}OضtUwU :QrpADI?c='![QoӚF /ղJ<Amj]7eQU]9XT;ۆf5ͯ`=ܝA/|cՂ4R- _}Ct tEɰ Vz)jM4 g[yAh;[B_0 DR|Niѣ>|xWɀŁ`?\ +v14!8a<|[(Bn1KpATl +SQt;ϛ|F-Y7٫e')|lbQ<~؅ NdnAGgf|XW^,Hf8bޓ8M/xub{U#6?0-Pf= [7z@-ݹr,[5!W?\XzSTU͌jIǝN?x( C U?W18#[QU fϪ'|irQP1{'zzqgTKL<;? ZWL.o·r7ON B.rFo\̖h^a [C9}!.AW'=~!wۆ@:ĩ22eBޠ7xO'l"vCGW S}"0!9qyLgG3z1K UrU+WLfY(e>+G*]wxV?iWV{ {O9E %xlw,¿˨V4?.#CfovJo2J.oj_669o/e[~kwZ|)5k5f\F OݮNEݚU]`M}Qx!vj*#Q 0 *ͬB5[@fih5kuh5Z@NGXCɒXSKȭ,Jb-f-B?bȉmQ s2zʹ"حY2cs-8t2Kyً~%GvD[i5A>LI3SҠ=8kœE zL/rr&2,n)I9tvJGtO1+n6]$N]ا x_˶m^ᶜ'~j\<y&g6)z;ՂUO7>tvg c}̧~K5c9lVh\Udbf'(9-| 7U`[x i.r(5 O+zmv*H"=ʷVa,}t0was8UqU|=(DQ MSRe|: ??\|<}CW{L[OP]~x?cFS-0l\tp~ 0/iE!3-3vM^O+ӓCeVjGGjr1 |Wm)[W`^TeQGe$Ic5Ehθ޽pqg |5~yuȇ ޒQmĤoT+J88=~{ _`CWefUɡÃRS?-ŻeL_׹ק'gP3U+ljK tM.wxϳo| UNy#0&GXU{7փ~;XNq9F^p˖3vn&WJgn9>>/H&L=6JAOFQ/F9'o_Oe c^6`d/Wapð4Bh-1dM0`ZMܳm4ev)4;&} ϵ5!o?;? ~w ~I rU=W#9'^1IC|P]3(I0r .@9?DI>ј1[ɿ^4w'xKd"FHA1^BXdÿjs= <w#IF[%j53:EEXmKenলnŽw*QE2恵!FtZuXt]2чN}eg֨E!w]rq낵o+Z1Ƈ y nc bbo9Lw^ tMܿZ4fo ~LƃWp"1ՏA|j*VLBp71wUP7ӶL𲠘Q2h}HꆈAjXlu/0B΂U2D2u-{BdyX`Ub[Nʹ)+ V*NJa^&4>utxWtD5f A&) ~-Z~5sSw`^%/Tɓi> ²(*L"H-pdUzew{>b %$VOyif[j{e >mx5?AS.\C 7۶kŷ.âIuwO }ap ,/7pfK sb:imJfT=`@Niqon16R1g ǀvM<+iq O*O+/Yrfy1%}0" nyj'Qr]=bMyW4~[uΚZhH,.qEdUUCC:G9bro၂>d1m< Ky{O$_]{?|blcF KTS>q)9)70aj v| 1wX,CP xIG)('?vn¸?` a)(h8,$7LH:fWu;bg̿IB0[˂Pz'I^VAZW,8kMxxMjR%?o.M:*$oT=oGlL^zU !~\dzf9uX,T]&/gѝ=FVdMcZ}8\C(0|UT?ՈGI$fRsU OωʼniEPN=bOM&2yb,A9+?5NF?pjDAV_Nh_O/OS>ooɘm5aj>Da=.\`8!yMzMjq?wP܍prMJX,i$ Y$C~( gɰ#VΦx&+lD qqyKҐ54^ D^cj*7yB0l#c /ۜSٰ\H ͗qrf\ <#}e_QRNsy];;yƝ<.w&ZvcĽϺ+V>3-Z|;eix;Ńh3l75vroHo5s4:C/o`~G 䐏@e$c&%[IGIz䚾\N@/0t bFkn~2Mi܊BҜR6O>miuT pZgkjBُ*ּ{ܚ˼}< HK=2\ gOg{ |\׳sL7ƀέ9q[Wp:9 !]{J*HB$O~^}!l#*V{=o/uYYοdtoQ+;j?yP~4u~_x''7ԕ?2,NL(Y*uy|vzy&2ώH'J~$LbN𗄞=z6KLj*%[Y|}.d@YW0>7Jڜ)M|ks4IW0诿_v?vk-/cܔCO|7=8Fxp{bkؿZu9oØ5:ϒk_!4F-s{(] ֲYy=@ -I/$f9Әo}m,{c}\0<|35AWxdO]K~I?jtjzk[t0$Ym'ej"aBm][2V r!}{T͗Ƀ90[5:>|&RAYo鵋Ko8Ƶ]ϸ zv*VcQK5͂»<$V&}]1zӓ잱@?0Ws9}&NwIc2.SdJpx-&=\8`'鴝 .(m2i[FhF`OXc4Qz]lf Sb\w9BY3AbAcJm^ܑ[HQr}氩˙ F'`ƅT=`BsqNe]gNs=]&_~!'JƨR!Yݖ$Pcz_~S۝+g.XXř#2:"zBPڳ'rdY j73}_^SΤ? 'Q5'=uJk][Ulмk౾bXX3)?(H eiemWT jJhlhj0'YҧLX_ǯ/O)k2SN(\)p2fC ~%X]փRw<T_nG}};õ -j2؏ lUZFf8 vfKE1\_+`0̣f̱l|k?DXKZ*RT@6  ȮdƊBv ـl@6 1|μxKXJR*( M[-e<,x`/q8 P+$@TKjl:LN915Umte7yKrybhr'JnGuOa[dVU1]5Q&.ET {Xuu;5jDI[b[mpSCיկ4S2i@ 7 yN9[탽`ow1'(Q czyQYݾY'7pɺ&B7LQHL0Y1@oàGUaZHdjаJʤO5*@E"7}FE'G T*;nE /"y6-̙-] >(+QmvlPK<<{^ ڌ\@u[J0,HYƊ. OgZT1EC :C_cۧ> !:V !Oo&2n4SҲ)v;t{|E`2UV'/u,VѨ^da$ZC06 N 3v7dl۠lP6(]ۭ=%9IlT`S'!f ۓEOvY?'C'<[*b̒ I$H$%$7V}?%IpZS딳\@ I$H2G l筼eZ&!2k1.=&fb\MҘ0EiQM,S6wY\J-sb2-4hh^oA#F4h,(J/ &,Sgu|׶RU]vP=ߝ3Tӿ,OM~rmB߂wͳ%"m]&4>AU nz@X~@ Plmax@P*$|ui ú&8׍X_uv\FB(xZp'yvEOIL6Eҵ(LI(y]%Lb ?dK(.a]jd8Xht{ӆj*?sP\oq>f^e5y@b@/(,mR#joRIchdRTu4x٪Z.ŢGVe]RG&Ifr6ߝ'3rVQHwnOQbYR ;=j}EOA86/_a(toK޿ϱ??kGwtϤd Yn{~ont #ɥǺi??x~yOQCEڥ)#d'N\+,ڨn}CnsE5uLf*RjjL(BFJ͏8-1lO ѷ4T $7GC5Jڜ(qin@!;m5L(:i!,iSqe]AH4![6߰sE3qUi:%GTyFitnLZ^~AqS0Q":Kzw( 9zTFs݆7M q,+rVs|o*\ Wr~S~͸?(-DU :.='8sjQY=n8~ELzG+\s}86כoo`ǶE"U&ӿͼx8'颿:oMC.d:fnh2dܕ7)DDޭ5=lrr,jTowXq5#[APNi7%p$ҹ@&Ao|w:\#yp^(Ti1f_P_0nKp\Ax@OssMgkjeo[Ru]K'n5p[ jVup[ j"`r,;̉ Fz>OO)NHu:,|0s/Oy<`0]*yN2yb^n;ek|}+8o&Gz3 @z =HoIo|@z =P鳖EI zk༒WL A}˃}G0^R8;tJSo%}j&}EQ>K)n|P>(-3] (9(Rv{ q_˸O]]8{)ͮxpӄ-AX |-,XڂM7Վ記?fj73-庁=11I d0Nps ̣sQ سޫ7<ץN*fx?h >C 3݊Xކ3$tToeJ;lBN#S!J:Zyq >9Ӫ98lMgKg[ݶ f&I,- Ti5tWu j5vKE}|q8og gY,p8k9kngY\$ǮN{Df@:WT+_z]Gv gDFmĩ==>:7?:¡)50Pȣ\^soO~C=.H﷉y]PY7]QrE+Ku{~_Nֹ ܒ |Q&?-h'iQE1>x؋hԉ"/+)yނ&I4wrȈ["#VbӁ5v7ȦM!B6l:al7*-xҲ빐mki^P R -La>^|Ls/MjMerf7d*NJwOjbu8A8~ŭDn6-Ki{dŢAl4o@zJu :t]A{<ݮ<188ٯ80@hWǬȳ ^0!B9p[fΙUT0(]Pi9Ϡ9Ž@y^|^sstD$O%<8Q7%])s!ʆi΁t\ӎy#kK+1.iYMG4TDRIE$Հ{/sH(ċefGɴ#f^BrQ3`b/!K(YbĄ*YnFdtsI 16.h@NU8CR8áuupg3A",bH*eA(2#Ŕ GDC}9@(Bl%bK!9U.g06l1`SJ*H$t6ҩe #'Gxὤ3x^Gx={#{:_$aNܲMНW9 e@sob E_a/hA3k 6&,RնKnYU4 L'O> |L)K'hN8k2|]1T6tE˄'-٨`")萕 bp9hi'u'csw\SyAsڈ^tw D^#:V|v\Czo ׯA-bN6kWy䇗7nZO~ _Or$VJ.ֶen+ݭ"JEH,.?`e{܃dZc\4 ć`2//Գw/7d-:խoq)"kK7c z8vXk!ٔx2FŒ.r9IZٻW[M NA "ryaS&Æ5 -'q$ !`RRF &9^4e!.qlÉGGBO8 G6!ڔ V x%!"aAe$PD4MeQ05C=HE\J,R,5|+o{Lf*BH3;t]"k]B4I fRj!CQ[Bh.#/tyЀ/7k=TfD,mI64If "{p(.f5S00J0U [a()\ L)jK*]Ը07<3f!΅QQ0rL&'7ı`|D͙Mn+}|=bUJ-YoYgƬwۚu<~ow,8K o}vx<yC[ؖ_!6Sc4MpaZ92Hvtx$Q 4¹fETa@zȁR`Rޛ0=`l1]XP/BhCUHY * bB7`DVY ІLV(C&+"d $$JY!8c 8c r (b (FB1Ȇ$ 8c a8CQno.̊iYe]Ьl.i_z>7zA$I/h= ڃh=FB{Xn`@U0Kd=RAUg=7=v6hĞjdƌ!xq=pM] 0Σ]? @\ wZ^ j1[䨾}=㞤N f[(G7݇1Sv+*pn%ZRzÿz^fW26#!վx2_uUKyv&i;鴱}uÖ_ATIPf6HJ R,m:;' Ƃw@R+k7!o`pVg+?LM~&N] &;r& Ĩ9LXWIJ3@"xIntn"[@gPhS4C]!M%M&Gʑlkgt>u}ѓG]wun$t{WQ#9:Ed3L:-K9񨋑#^ 8ӃW CM3Ї1 K "G9Y^h1® <$,!nzke+I$MpD1=CL$2=ItZz:=SR=nz'pdbM%p:IF9uC'"^x9bhCKiKۈx9l"?6jt@Q 1cČ3v$bNfL)jBϩb>aOC5 cDc̆~U*3zR#_N:-oS'(~g% Xg K%0% gig?CXa܂*)k9}NaA)Ճ!sJw84`P RĢ uaSǽ*NWqT'\ffn ɬgl&L`33h6N)ld͓v%LuM.'pQZE6qy :O^2RcA$Dbq,#~N)*DbA$#h;b#4] 0#t)X ưkd Iңi<߃g TU94Nh(QBgFtQQ %4:ZqtU'4Jht 虣@y#w eJaj#G0`ި' m0PE͵5b~)EpAxX(5J 1&5wR/Aq99xNuxLq,zD'O;{s$2@/;NFr '?j/Fɲql8&KXvys:;)QUD8C<9e'(')'D8p2d#'ʊQedآe脓 '?ޒ-+r2cnD[ՈV#Zh5Ն@%ܖ)eh jĪ9SˆQq uԼ/u6Ҳ*:h_a+T7Z܁exӻ 3Wz+ ^Լ􅖟 }-2:Ps~ KsVˮo=Qdyg3*y3pSS+zTv3zkwEZ":gy%3AW!a (%Vy*J ΣL + J8%׭'[ Wvy'Ap3'+5|ݐJTY." ILS?Ջ£sH]d;U| :"&K:bx惞52tb3 ˒dIB&ak4I^7Hs/)=z~˔FbjF~= ~;B8*R1vXҫ}a)T`x6R3A:Y2-u*u/*Ϥd 2q G0eqyxr2fQpD@v!gߡV/#>E(A! PK䷚meNenڀJCŽf`sTs3&vrV0TCU7zLdmQ!%P90ڳXH0)!Q0h(|ELcȻ$QA`զ|a}!c93:Z903gB̠Kػ-ը62ojjCM Z3V qm [EuE 6 ޅlgU ]a+Ms W$5&Z#keqp`,*:PlvJ퀏b4R37]~F>u+Bm {NJzpI 3]reGϓS&!CMr4'|^w jha#4~MFC=$RLU' F?D8!zai!جαbF?̂]L  żہΆf'Ʒ>6oxq}`Xu$T/,K8)5oHfAOܪ`Z t܄ (" '2D$eiv\5L^VS<|J7DŇxvKG5&捲٘(ll..KdEmhXїXŝd?عo^@nߧ}ߟt4"ez_H&s,~O3SGOL&zk)\w0s,Yb"4, >iU%%j8Ld:3S5u]Oj }MdE-#Ȓz MUDA! E Yg8jɑ лrknuY%?Y!M3M" n3^HFd{6lH9 X&`M5Q뤣D5k!UӔ*9В))Pf)\M TT,lST%Uͤ]#h׈5JѮD~E3J-ӺkH05v Jp/^6#G8p 2T#dHp!B… ~aiR ` SGP]8OS 7V ݡGbqhǞP^Nj|' ^MhpVe;>bIŴO.?>ʰj&ҙ {&M{Rwksā1eJHzc&M)YBgcjQYN:' Ҕ,AAASd:)x sjmfUTa9HUX]KJKMN $Ip$ͤtdiIYuT/N8 p39vCJAJQVTYt%Sp3~ۙҁΛo _4 wn-a.2) 8 c28.LX)].9R@H đ}2etɣ -mCC:A:QKVIJAJ)ᨆ%V R RdE+)d)H)bJ᪺*?SWmǶDR RΌ+[-OAJW .ARR~qXvlIKhl"h,îXVيo<Ǯ <-8fp'OysPc-qR&%qQ`viYgw_JF,0bIX3V ۢ骁3:~v؜N;-i ^qx(;sSoպ$(֢/W B.M [57mb9>;sٵ]I/ '{% g^+qXe )]aMs W$5&vuύ_:!f \g)M$Qڒ:IrYyAl}p [hvdjގ$ [|;|,Hu]ˏ}ҳr0l&c|a}! D/ Ɂ*qv3Wf$Y؞ypcgY+ll!JMp`]YTr ߋ,cۯnq73ل,lj>ţ8xcYNّ@2-@MR{~q7%/019%OWG޷*pG/EAQlDA~7U"/ k)QzJQׅ׶ t53d'AS %SDK] @; \MMa`%I] f‡઻Q' n+`;8)>/BS7u&<%QC[?]\c`JGRJƴ+åjٽlD|*ħ:i|jvO)*[ ѩDJt*ѩ|,O%>TSO>ryLB .DLtϧwux]yKb?=\r)"[B Q.DB Q.DB Q.D=tϧrP\r# 9_Q4(h!(h!(h9{&O-E3!\R4"sBueՖ 9DCd_e; TnF{ڍJ`a)-w0 xt7^FO}"vmW*ƾk2[I3#8] ^\a:2ܼ UbLQsD57"j.rnE!|.]M)'[w"Vk(v(m(r(t(]T|| y({!֤l˰E$*lJV֒%R(K6-IT{{-ECIҜnwMd} HkE*:: #rn>67fl*,K3 8k3WݖrBsxe;m ju 9b`DwvŎvdna̛G!.G+a.ئ_RyY<e <ݙ{g/_,냵A-UL`52Wd;Eҡir9z(JJ=`L2AE?Z ፖ}҆khLB9z8Z[X=gq.G?q^Wg;eÃ]ӟ6n OYʩ`f6PJ63TF䅍L`j,ywYؖ,apwxmy?ghYMm~6M 92Cqg ۲ H-?Q4!u`:RB$=Yam^h X39ә `l]O۬Bv[(k`T@UOӗԗRKu'NN!ZНӝRO44e]0cYUW: ׵-WeVƴC@\JR1Gr;Ar:JE dρJ%RHZK9)y^Rq\pHh<_LUrK @E:Qa%&;T=U~,rd<}ܮ4 ; Aͽ<װ˨VKؿ^6ԟB]s^^n\9,?W*%+Ýz.VqB&&$W${52^wMD=t=d2՝t3wje]^E)+Y:\hjnAA lLT9p[ZY-~5f5O[ f^e-#Li=Ө-Z}S/jzRY;R#ЉࢳлoV[3z}*YQ].6o#h5z@hJۆA$OT`.7 Q &)H`ƌn{ G}rLUp^N|`𦮖ʭV[6! nu[nupY-y2bP#Exy +a*>|ojެnN*7Yۆ}RrLJoJj^&${Tݫ2=ZB/==֘Pkt +\Vaq'p6Pnn]^X [5!WlH3ǂ>+*4G 3 ɖa'}'V@ @ |*`t/WߘրDV7MsҲ3U;fͽւM[ie<(}S1Ǧ.N ބoX.33e;lueS#x\Ujz'zly ;kqN͵뵴F?CL#d,`Wz8wZB?|n:<8 V~ caz*X<נބWvͪN9>G\{NҮ;>T΅/Ju63N`W8RcYfv+pp>#-źWtvR# 7 ѵ%a.TpWAW|"w;5{ܾhXYJS2>TFF1*ʨ0RFjJFU ZP,eadB"fVчL QIfF(X B0 m`E(HU`oưʈ:]${=#{/=>ؑ}ʎ}я+htiiWtS_3;,A]zܓ*FAǩGilRD[Vn4U.4v-]9UfȦD8ȧi8Y$)";Q*tR3ѾDhgi#V|=nöiDkCrFmSUFF|HrW-Xh%_I83npvV6<zksm 3Vğ-.<:9(YV}tj M$].⮙ѭ+ [˛(lsW:J'O:@,cu>'HVc qvb0a YHoB,(/뎗G$Cb+򈭵a]G(=JȤP@"^ڴ+,[i ε?|Ӿ tOj^=Ԏc7a--M'%Z^_,Qh7e('[I`}lLK%BpW^u|++Vn$1k}K(%J)7Wrd"],dή~* U0)E.~=n\6w@7d!d@#&Xfcv+^D멘ΝBn^0s/SOœ^W0x$;ERq*BX$Ĭ{u0[-IT C},9s15T彽jkpY\||E.hRX%Ym`pk.w7pbvOzH;eB,X2W3[&攆].Vdby<E /i7S;h nu[7UXEV6ըMgrh)y> G_C[:UCxZ4:h^hDQDξ:!cqp''%YlgAӄuw'ۨ$i,*F8~޵y/^y~GUHƵ }3Wʳ[7מg=/_yœo>?)7~[Wg_x嗮'e~Oݼtss饋_뇞oy?}mm?ڏ+GۿC??w7}>O?[WO?wl;㝋~{+_wϻO޼S/|w;6n5vίz?z\o9/a?hIkS_v/~yOO~{#s_Go~1MYȕ|K8|7˿~Ե/z?~g}bf =Z?~7c}bewOoMO><}yMo7~G[罷SKOއ޽qt'+?wu~Z},]x{#?G_O_P佋&>y|حg«^c O;{'?O GFQ+~J ,44ƛ۽hFYcMgnDžj0t-!R?tz=C!s>+;1Z"Q`/sd["J֩{-Ű3[<Y85WXuDnO҆+z#Y堺-lZ{olYwwDRRu ;wsG[ ?&>m_SДy91-F(*H^arHiUWH3=88nzG&l' cm9dQgԓtԁr%EoLhyLO߳^zUHOVoS힙TeǫG76(]m"?\X^g'4>ɹmG3>Sz3#[l1kɹ[ `no=W,vw'm^J~[{[Ewﻍ OUD9͏ܬ|QtpE#%ΖUn}Ug3T=OU3:Y׽U^uwߞDzWښ;ξ-3a{}dVsLGUpj]gw l-+hJw}ϚF3w<5X~VVCo9»HQ#pLKģ ye4Bpx)G.1g|%){޲/uuNm-{wn5Ye\1X[<]Fd{E&XX\5VZVq]v(Nvm{}ѳjyw^r+ _#szmZ8E_vҢ)OgX!nZ_:hpsyNQ;+zv=I,]N=?P\nJvjj%)(|jGÃ6s8>C<|dž5 /<&.-ޣjB@sj/NtO}hD@@+⾅â2y'6͝Y9p~ruQ} =fw `G% zѶE bL29؍\4C,JKoh=߱FƛZDV%<?;'4X20]2Gj<\5q6ܸ]1ff;cy2U.춏G_4٧i랛b3Zpf)>i"] s^b2Hˆ{:PR 4qe#[u.h`d6@mkvn4Ont'k n5)qҗz/}h Eb^ >}#֗eй%ާh?_?s k<=NνHJF۪ N+UoM~@_kxI[c{'*z5 %gFhu?ȦUj?|刞4"QAŋA>dSp3]Jչ8,(2a+Ҽ5AfFsط*%)u`T}!\]#8/,`=\aZ!~^'B)bڦ mlpqA})L=M<ۙާݤ.>G#s36&k=Ru6krC7Ĝܑ<;)R~{C5DEȷ_7汭 j#AӛWLnސVrrǗ ˝VY[3ƧjxsTq ,_=QNfK95-2:^|J^7^ŸEo)ylOzG-%!TVcNðM:t%<65©SCZVJg%S@Gxj]sc*agcjs÷Dۜ\6in_um]BbT˹aP^sL+^ͥ < K`a5]֬^w(MNBK7tdMifٝ^G~$ZCM<~EAB%,_5")ecw ; Ɉu>*^ W.@w\5B..ѷ{1R[T.03>)h'bUXa.B MP=l3W ;J1> qj|uQ?;S7.!i#0GiA^ 3BlZ<20+:ŤP-x+yrJұ*EMV"RHF]hDsm̴N+XMTNWR<ݏiziu1E:ɋԚS.< `U#=/6|8}0g9ald-bfuW"$>FK. |Y!|9k\&p]z-q?0} ^ >}T*11C`svnH ?GN=g`?,'wPF{H|ሳZ$ ҫ<ƺ r'5U4~fqֻER!=mX96SdgiF]HgTrB3Wdm7W ف /̭? ΅"TԬ'׸ozZ2QmMN"ŧHOAn?oK`Ż'si%!>h;|N\%\[g /V-ׇ ls3C5Tr7[u:` P7 UKL}ǭIY0U;e3Okѽ.s7Sghzswg[Im[Y"PV{QTeqAF̸Jجa=gΑ+mJN9Cl-}%jgj jӚ Oó>NB\4 @/앟ȳЏ:#Xo#,:R|XsdUon7bףŷ5l*/각Rstxn'@|kaWtM~{9 "L4Y+':m vatVG2N`f7v(KvsēA9dfNj]919%r~Mtjh>9ifk뱫{1>sYj=DOhSw!@ݫxOΪѶ *7 Xa4m;jGB&.h\n78긔 Gڇw10+r9~e QWW9n3^x|%jM'Ys^Ha#J*y+(NtL7WvCZ)|_+c<ȱA6b0\O9jOw`'W?!5d%뼩!@'O}_RK~$1:j}61žuFkYo⥹^:OƲEyqhdS\bF=+V?Wߞ]fɱյAf1y<o=t;:v!} QEJ׾W"@戙#+R5ʫ)T=Բa:NkuE\L$Q_Eϔk]Bܗ^?~fUwRTFl=8lLzPMM;3{4hLZZ% 4 b(wĬr4uz7GQ{_  V̄AJB^+z\i;R&V. )55u<4Mv}` FsĦ0䮶Av|׺\tZh,rY#exNF!^3o7%'$3힤G!ȮiDN$Jhӵc&S z]nTP\qؕ1hodKfB/Eī,.jPw\&u޿/򔴻+>! W) ȴ*VŊhL;qҿJqɫ4H70q~u_qqLIt;ߞOyc.SKk'F:]WM]-&^=a,:^yZBYˢ[BS6 qy[͎γT5p;+n_aNk$]1%\eC0صq7WHn|=RBՃ?}%`vYp%8Te"7C{_ >r=(n?ژ[5\*)Yg@iq[h{-2ai|8jx++&vL&Ob&N{2d~*}-O(cUQ*>!MS.~{z5jZ,2[TtmM+ۮF)): n'|| H&[%ߺh#YȪ{Ue&tœ{v.܆p~2[#Bz"J{RȄ >On٬Pa9abD`rcGP峏B;o=ݡy[[aŻVꐅ܆3kˏo -6u.Ȳ?[V)3x,snbff50aQCF.uoTd$ 6׊%]8.Qݨ[}jW<% sA*ȰN Ie͆bO+B~7 _da8U3[g w7*@жl V3.Q:֖̻|e`6+x;\HzZO)W ᅣp2ӜR/y`D:."'#/ x:}K@3 Å7G'0ڽ ?k/6sO~}{b6׆ /ev.zlڶxonxX)ei3u|G\.$,ĹKSEt_DLDs/\h$fu/_uƯX{?j>@:Yܷ48:߬ AIᆴ F:hE!]m1p*l] 2VAa>>`G'<vw ?鄕@Ts$y#PIewY];evYu4ڿ> -G7䬯j$$~Z((()(Ú@!>0M?$ZR\# _P $#腢#y|.[(sc<(͝X$?o`Fy89~)#騌]8C#vgѾ\ pK}+-:u#mۗHq_8:)!-/̟~/BT۔ޕ`H )y~O `hsi#fQ yB ?qPg|&h $Tx쀖G;8(z,-xW[ .~(0todt$dW'suEZ,)Id 38{+#G|! !\ֆ0SSn!JY..ڕDKn`q%GSƅ`keE|X FԱ'&5(byxRh$'EQHR+4曣 X,<< ތ#H=1L]ԧB@jxƒ .1b7Eh| SO~X>x#$2A. ' $1NB$܂qR'"΃/+!J 06gE$ExRx%F?.j. W @^O,VAu?ˇ|ThkI7<@ #@ f=7. $b!q|(`R6+`&D (qQځpU (q' G~,ܟ/`d臇+Jm,F @R< 0MG-*9 kׁ.<G8ĂA@ԓX#1%\@ ¹u:4g S_B,+bEj7T:F(уρ)'my@Z*%Em1Z+d|klg;,eV@o5R8w .dM@ ?{f ;(a'hXH)-ڝ # E̳|P=>/D.ZKJ#Q/:[;$~e|$!v{yOhUx%uPWC}@P@t`QU[|g(%ZZ7,Z $,Q|:m?94? ur@o>_Ė}(/ 2oWbO~{GI;j"?U@_"?(򫀢 (E@BJQPO> b 4\D g,@撓 4TAPTP6$OiK^%J66@QicI޹DjUtUђp',n}G"$Y_,H,; X, HvڋB~^j/ Z*D~OlUH_Du+)=o)8g 3Pp @(8'g^5{VuĠṜgnKhڬi&pG}̏f[ p~#w80(aN[(OTWe!NQJuXtX #oTb)|4 H0w1#Ԅ.Hm>ۉ0IJQ9v.߃|#7r}a<VXyoxGM+`|1'~q5o <84 :/'|h i-~¾ qaWy*_<UWy*_<UWy>ߒVW=^엸oD < oZ˯7Ҟ=szLB0%-ݟcod#^z.kW&i+_|}_)bh"}iV##!YwzW䖦܇rV}XG/97t =E]WXKS9*_rMw=.k6!/sreQ,w|>v%_׸VNI\9I .~2'B+7 Cu~ /H^jZރry'V^Qfo\;zXJeߗsE KP,ToZLFnec>cW/M\k]r_t0tJNM̧`\0τ:(5khy۳u+Ho4'8 ugYē_ kg , xx:sm{ 48}s(;o?E/[ 3SVʪ_Y+~e?ߪO 6C ]~xH`H5PZDIGXmS-jڿKN[n\5!ϡ_+=šŕ6p{YWH~>ck,Եki˱v~oh?m:-d1Hggć\ː+/~vz\gri;A.+l`+apF;צU b04CbkaOk0lfwx.Ԋ4'V(Ť_d\ Q?jGݟݟe99 я rV >״O6y&7yRM=is3 }AtCɕaiBӧLj e$[ !TH؞^(|X_TeOSK\? ^yRba_M\_?mT T@ RAh}Vѿ7lmwVY/&v}x?/8/R(K, ҟXnD+ބޅr}H!CA} ~::qB“ Y!xJ@,&`(ڡLׄ-rVw)+!GHHa4} ,ʤbzvҒ+o.ŖwKL.umNr 9fxS.9ةs+ :kO#'K+In&9>Z>5*'1ZNA,˾4W a\P_gj&C]!"ax2}/7B] z\Z2h}~ՄiA^{]cAnEFYSoNjU=e~ _# g>1/S[tp6 ]-sO>adPЇ^L~dX {A9ZFT 2FM=ņ-RH~,Eؕ} ~+UL/Rhp vE2vI+t <> ?Bf Fr$n~(ŁjP`.'?.|4lAu-GNu0v2MྉX0WXy!%Xħ!%㶥i eLU."ZFO4]%Kc)|څ#" 5}2mB( ?POtVo4.Zn}]2PE5tB NGAyrorӹ0z02vECTokh9C]!!kje#<1gd ?:| X5{26-)G>2(+RGQ{_@"OՁޕF[hiDViCFgS0QPnӼ&j} ^}Jllȴ7dLmi,{i@筴L_&4d7AMvBL>*ޯx#ߊޯЙد~ޯx+USC{ޯ~o^T~&ԯ2߷Aވeҭh $B}_.ԯ$~ C%h_.ԯ+Rm!Kxv,&0A@yC&|/Q,Ǖt"oi+4IhepOB<JOF(/(- (twqG$v<HLI|X0Ѐ˘A:᪺H ;ˈ.E xwǂ36/v\9ʣLۣ;|>_e dKaZkXkV%H@e(],̯(d8At'[f[L}۰ۓE Z߃W*QlZDŸ(*)c) } E]YĄS)@9i '(+!b~R2Шc /7L6+_̠x<\ǾSD">@bqApNGryuhǝmP."š!PnךFng4҇v>[mdâ+ų}g$|. % WҡEm%# n@UHrSRQkP$19#U63p1]TЂ_392!GmLY5';2/8gں~2xAr?,]<=-^@X] ѻC_=4HLmdyWT yf%,PM6STWJ: +jBi%)k/^1m>v_J5?9Iu\gr JaR}T΂ۑfY\OO?IWb6SxV JY)<+g³RxV KdzJa[>V5yϱ!s z>__y/s#kjxBiB O/KffߴZ\"QeN`m@͵r\L,bv=@NqlFQ*,{qSq ^*M\ )짮BRP J!@)M"@͂( (02T(&<Ld|*ķ&h@Vbԃ!@BP!^P Wuey4oSP) ~z& )b?~ Ʊ&= dT!?)'B~RO I!?)'B~RO I!?)'B~␟R%|{a}f=q_'Sxi>SdwhӰcŠAG|vJſAӎx=P'KKf~RO iO 3w&D'OYΥA¼!2Y(P(SB)P( גNaBmj)iJśrJurA M 8{^s$ k rm ӗZ8/ 8ŋ.sͻ /0rXF(p gim\?Bao/S8 g׏S"7ҥQ? G,2z#^+|׿ml{CJ=*d?Xz8'CC*.=+8J!?K~2)K1AiO7q}[OL{\N!1r>i5IFdg0cVgbͺL%/D3?=k0 ^od&E>xI'P4{d{J wbuLŘ/ve"-.GfcBBK)օ:ζ 4T$\ DLH^PKg80~`ht hUdbQ033 T/ ;޸tj"$"l#WyWJy`3ɉԝBLR:kE ^mx<01FЄ/ORRm(T%3\Bv͒fS>!]˒Qꃐ 4~\D6hV+6Qȴl|էg46WM{_N7Ԣa%(ߠ~&ǘ./5[R'i=$:Q9/{q*v=*E*qm{ֲVL#0T5Rڛ##?09/IgվJ^jjoؤyo~VJ#KC]uMVԊe&]tmNH̯c J *lm/LD1f&unelΊ- ['e;ve\!Bfe 2x<6=ylYr; 퇜y?Q(rg;XN{o؉6@Q=[]hiM}E(2'Ij5dc(ʻ'+Ӗ C>Ghё@zG̗$#ҡV#Xc(һAAʱ>1ꂇ{ eNBC{@}\NBo4u= ‘E߼I KûbSoWy3-b`Pk5K yC|$?V];3lnI^sLwxߋJLov+"L=z$BY/lK'w9Պl1f"BV' ̬YyKSەݛ"YCBHa`E`x%Wk% Hdks+n8(MX+$؛0ÿXKޱ'xc<6}6J+n; Mk⮕C7qY5p,o=W#MlOzMZL_8>z[:~ $GVNc~˲4_^l-cVS7f_wU 0y}h.S3_ى9￯F_~6 K.}cE7<ϥ'>gh1-sE~lzbZs}=0E^B3ZQ5mElm?(#Tة1֊U2d\Qj3F&y>4E^ޚӏ7}21WTF+':ue?޻2-ِ# |i\MhXie:VB$#4̺ 6jgGYWk?"QzjN ;k0 *΄d8-ΣdW4:^ rXU QcՑkC SHtq& 1<9p)'+`ѳ<El:2 `%Ƙ/-\`P{ћC>o%`V~Y4Q~H} oW<,t<6G#fXK)!E<yoN Ҡ!Pt{&#`-[Bqšu {[IE. y$=6vvy2?6 ^nF{Ѯ^-M(,d=iڊi-ǯ"  t cvLh OmuNxG8-lUMyyȅ2ﺭ.8v;4oee\#[CynkOu.}- V=Ի% ]K;1ٻFd2ߥ(%mkE ,*Nja]JVBwͳj(fT;Ƈnժ,>xgMG77`NW?C5;VCs\ tzHl%D!+cLe:,Nx;q?pB[! #S3pÉ%+݁iB|+Y3N@[9M'X[SñIP _3saKx|L qV"x0!8) Qp >I65: p.<{>ך4H56t3Rڐ!i$\֒$!J=r 6L S68$1$IJaxH&mj&5t6!CI/瘮mQG5/Rg'V۬G8;Si6>aSd2Qm& T<@ճ!p.0 mz\L=Ǜ0"NjF\ ꁯԎAf+68 q}! O(!Qf9L@#:T- J #o 2A٬7Z?;89 uOdF# Z9nի~`L@ѯeUP56-C*D+Z&b(3S`(䊣_BŇv$N,eҨh"/ kJϷ>AJݨ5/zD L 3I f.BZ I qzI<>ՁPzqr~ւQ󺘏τ jf^-yoy"\?2{}w8qM|ʪ7r#t/JXbע/w݁eC{ߢGB+ze֟g-!*$؊r~./,j*ׂ/V.f=}y=G'gu={-=N5nE#7|D^Le%d侶l.G Ԁo*knu&<KÑ=dP!W] sh-j~-_z =gtsEXb΋/?d{W?';WG.FYKaf[8ҁ,AlXWv ]AeXIDJ[UfKlhXsdS5]& Ԇ؃ dT/@Gd2I2c81xO8B'9!I M|M _: 1Oh}?2kbXZNa ܢye+l[~"_U-SZkiѯV(=Vد |mu0N r>%yk;eIˣb[}72:> u92py/p*촺.&>aZA/b~ oZxݩo|-H򸹖6}?;=L3 ĆMl oll_wMP`AIkaO\MoR+̞ZmTcwf'u[V(jھ++?_^^~9V2ݯZRnA(\]KN@yw^j/e' }it5E W"D7Ah1z2yS} 3\Mw3t`u[ H/Nv6Z8#dT8^E} lu= !C ~C5_)*yӮ35vC;ds~^y^b)& _65ޗjQցQ(L\~Ŷp4`֮K4;R^ndۮ>9r~N*1ij~~UKlvblɅ-+#M*c‡lt7M&Hw8 ,#]&B5 vkC'8#Q0- x6ZuguHS8_]*QcVL \FH81naվ%1);{wz;-MY` U`*=2GAIj7bGgVcx.ԅ:@ 1i'tvl4V,U8 <ފ`]R#àyۮ(18kUX$s<;[T)v?v&$ h†T󘓏CGЕo5f MwBM(p'm~Cg!0Q"幯 hv;~ ?&Dj!|wC6! o[me|ϔLnV/9EC(x ضr:mYq$+ YM$7WlM l[g2 N[JA%QX-c bm! G]Fl: Æ2Lv|ٳ)咝<ە1Pwrf){ؚ[EuVx.A :!R'FĘ0K U$r8nPxR&N=hԭ74΅S6!ٖB7X4kȲ:) 2}0=~ 2NwMVV0f-}^ق '\Ƀ_) N<*0Ju%(Zvdb9ZZj.nxQX<_ݵ.־`9_Xn!A%$y sHZ\B09FӗF:+Y8Bopti{=NbbThrKI;䩥^5aB @*'n cяL v{wt) #} ց~C⛅6"ú]' cł.ˍ}%mxp$zdم!4wXN`nQm%M~W)DVA Ynj ѭtc n8LQz`! nw%o7LY{:⊽ǭ mq6H ԞdN"yakA?adVxD\qM[ttV Gȿ̍VN'RL (xg[-^2m MR7$ڝiwm;s s r_HDb0Nb09:NBrpE C<:c!s52RKEmБ˄D1ox}O#ջiprnEf_}wOx9Y _&v!ڿh}~{ R{ x}V{ ux}c^ߪ z}l)W>@0ߊ yyu—WVKzym{ۛ `8Ǟu}io`-Z-[ˆYu.NWÝ^{{u!N{RKBeIWz܋oF gս_\cb:?ńث/-}NF᧫/}_F _oq}cC0&-٢((E+:xD7{Wm^Z{xi)/mlڳn& ?U^Iu!fփl!wJoRbq@ڲ$ 9:GŇmwv |ދgi`\"V_/{0Za{8&ym>~|ݽ}ZdRoG7da䚗}^5we{o{Kyou{;;;{X?D=biS{vy_\iu0|t82Ak2L+]Wt&;W:,\|͗q{r.>g-7rXGE)sMq8̥"lt24)zpc :r_p$|Ԗ*z) R" ekNKzVWms;}k< l9W?]\t{o13e(N"?_SLG[}ٞo}ތċ~l܌K[(5$݋ r󋞀۷N[zJIw1ߞ|zGju_ph }ݝ⟛&-h~]~ 9jCQxy-FwM9ٿMDxrWܑ/q`O.vV>fK?nV6*o=vؒE(wbރ0oB;^+ o~,^*Ӆw87>OAuKs~޿e–kpL[ZB"[c-Эa PzJk_^C tR[ȁH[fGa+7cV%>*[Nr9GD-VtRVm+g"?lն}^^@ [Oa[_aKjœ.&l=q!";l]FG,y3,ǟ0ECsǎg\,W oaFca; (PtF/?!p 4/.PDycK|>=$@P9aVWDzO>vyRM*X&& ߀."l5B]~ n^.6`vA[qZ4,dvlh"rbqEq/f#Wakb1j>b˰Ҋtrpp8Ng*&[șD^J.Pur +.'] 䰵OHnR^t< <a]41EWakgquX}9zwobxjj'j>L͗MOԏYC5}/\{JW#} avke73tPK^M0N/SE,y}($u: &k˟χx|V_ٹ^e#[/r}@qI:]wd+[%i 8ɻ$-[xCn$/ae$ $-%C[/]9dIdfIF6K22K2Y9iܯ,$KJG2FKzY͡G~fIMK8as d&yder{Ȓ׋\dY%%̒l ܃KΒ!K_/bYBFP\N%rI*͒TϒT&{C E,KR!K"t7n>2%=,Ie7n*;ܸKz?X=|vCxUxީeq~}xz5NNOE_cѱҹE3X(/qVowr퓓5׋ G:}wx9=n8NOW|=M {Ce3_~mY.+}y.nNWw~wo?P6,[q*w?o>4]CϾL2M|lG%& Okq}H9Էطt~_|-'doOV]dz਷ͯ?ſk]{_؋r; b^&ļ EaC`/3[Ϫ`ټY^ͧi_ˋ;-=[9`'K,/Êbv56Z:_u׾a??2|Eɧ?/$xIZ \~tz5G㿿ދ_w7"wǫ{_ampO::/rWu:~Xƞj1ev9?obǿQh\̖A0/Y4c.Yޒݥ*͘~7 ޳-;74ovߝNgWټۺ|s!Cgۛou̹Q:xCxlDs\wb 觪_ʱ ާ]'Yų/_`ؿeOWҴtk~նo߼Z௚ -v{/Wp`28 bҟZv/k})ʲwx߽y-m^/Q/o쮯gZ}{xnޜ:nߡ* =༼w{[_բtObkox{6_a|y)\cu N`D4Vv#V R<ȱț]A Ł6k^f@KAkVw) Rz^x>/~q:oSo0wa@g7p%fvv;/ͼNvQkW8hr7"* ƢĻPOD1XFo%^g\Z.%w2ؕ&8IWV-@;ox¶8@\׊= {%E5H06hvBa*d,4}*R` /~qJ ^; %B_bP^ ! c=m;L6oK%Uou܂^BR0*ҬjQ L۾~KvHmsJ mFEØfHUm"^ Lo89U r*ʒUĉ^u?"-,%D/Q#u$Ә~PŎo buSm*AhQY BH*VM/DAנ:b9<0ܛ`o (/9 ˆܘyP`O HS B+Månȷ-jY;k_#3@&WInY5/ d.:~_>sUO (檺)ÕKe7MC|z)s;)g*M0 Q&rm1cO m4pC G~>7x~M2ܐoc4pm>?7st0aADZқGݐqqףXqyE8%PF[fP)eCY6c;f3cL? 7p6jO8BDY2.3r5UN@,@BV7\+{YP~1OQoNV#jXzW_S D9?g* 1  H&FD jfM+#h2z5p j`+1ޢts} ^OЯ{}VOhjЩ'OE~yK{ym ] 0Vyzy[zOxyP+ǥ1܇o!I0w[oKƧ\Y$h&/)&LD/ AK9CLD-( Q4-y/I&Ug=x8Ez!-k^Xrǣ%v8Aoá~C%> e,4GJ\ !WC9!@d!zz ҈Ј!<+f3/Gʽ0jһဉeGg Û\r\x9$XpHDIVSQta ^‡ Lp5:9uw2jFB8x֍fkfp׻He6r^GcL~"/L$0v>$Q|^0 r+X!W8k ^Os;.z{/'|q0Wtq\:OfeX.N.*/Zn7NON͛o[cU)s<\}3}x3yz~ W5hVE@/f~<^|o/{o9]?Y7Vxqvr~3X?; JSC/+ NGT;#VuMW?m`Lݜ &&W||韲r6C!q:E dؽg 0xvIdnMoh%Zw\5?6Ǩ1+[,P1Q sbĉUbQd戀禗%Q`/:mGlbQ('z-$⍹*S1"-"%&z)H 9ң"}M!RpSH `.d.7`( AK gBb0=Oo"G/ ,)PBT/!*DJPEw}`!EK( K^T(k7#G]AI%/*DJPvi!plL&yj EiPOq>x-U$ʵ :|[A ^(m"Jb"|:皱#|YD6j1#D zBH_T#qd!ZË6XmD  /0(Q׈I O <.8!Qi^g B;;Pd": 4,-a*J Lrk2pt%$ < %(ApɷHJI.C C)J\mlHؒ%.6)H)N 2AK&N\ U!ApݎHAHIznCВ7ߗ2Dr;Pf1QRLD? @oMPLT!Zy eC^Vu8USps"m\KcPa84tiDKU10EJ .uU 4AZj40|h).Z&o(Jj> _( DMitFKƯItF@`Ua.0*릀  bR0%X 1ᗮ$ ve|h#\05V,Gd.yT'S 1%QYUJ d` ?U3̃wǛA|#lT ia̒,ColJ8h1nxIPVUQUhtԆx򌎪+]NMfk ~͗W)̅_9 7H^f7=@oSz_[Μ'tt;o$'7vSY/Z~õK5 t/_y?~llǣ99yx0_Nڑ&/S f~17jxOx9Y zvĐ)THS@'S1m2uUҫj[š'皦د1Zut=1u|Nlj+@vfN}t5 N 6E݇Q$,C3x-4Tһ /Q4|%qp2;GKB (iJ9@0V͊4Zr`[m-C`Z>l8q<$Q\@m-~.LJWW :1coY ^l Kp\$/o\zB^SR2 1R-ŋ9$x#;|+d]ᕕ#&s0@ti{syQMEoTԛ^]6ųB4 bb C__@c&otDd2'A7D ŋ<L$Ɉh`Dd2rRpNOd MEb Lq~ҿE) $,:Ç3m d jΚ_/4 KD->1} <> `Ǹ.1HP_%wzE݁1 K(!7b$~H!.qA2Y>Hktv iIO#u,FᢍW$FrI<\⦒ ; IApO^I1^IOq,/,7Ë<LDu!h]A2Յ(B;:b"Ў!ev,/7HW1 c1^ m$d$ɳHjTws! HFEY귐'g Kv ^MCjYHS+qׄH5B6}cߡ3$4{$DvJApid !/ˡMOo 'K.~$졒Z"9NF4NF6N>br 1*yL.Rca R0 b/c#^% W#E@|_6 y,26y3ݓִ_/&|o|V߻sSl[:~_VӼ EwXCGT?\䡊M0DKϧ΂?^f7f^?yDWׯϻ6͜r'P)>Aiq|KnU޿[GѽۓǏG=is;r`2O{r_[@i*w+aMB^ua/S]G=ˣ[a y9jEzs4t yne8џ /Oƃō^_" h!H;,対J3b6~Qmwuqkxs#VuMW?m`Lݜ &p>Ox9Y zv:i8/-biyHK C.*KPe}U}^JNP‡,H/JoZ*ŇpU<\\eL%Yo*>o!91BVLU1*}j~hE7$t_ÕB CU b*7yEZZJIVEY}U h1rZ7TGQ=AM^[OTV(PAUPX<:}hz{v qwu0UU[T'Us;J(;JdYu B6,cS8V,.4rPӀHw8c 4@G]95ޑWrc-s;G~ƱKLDDJ#E6cl9"śH:.4A%p#Ga! 4KAp]΂D2)XQrrp.$u!#)HVYIg)ÙHF: ѽ]\zwZUi,~3XorwpM::g庩sf yj,'B K> %f9!QsՊxCEMxm"Ux"P`'@2#_TXj@!(*essp0| Z Ihl^uHU HBHJ֝OM/<כ42q2D"E+.e!N/* AK^KVŧ$ ī4xuPcV<=J5>ʍOl7NF QI&=ÊI -ʮ+~L{B␦JOĺx3H\u7_EDt]#Q+iW"rowZdϨZ#Ө,Z3DJHwx 4LIl욃7fM@ A%9$uI5fK8fCf#c5y/c( xQ(+ZDX^ qf>R)`$ɹ:I:%wu:puLBbwoApɝ"R#HYO#6A1>Hto1R!nվ0MΩ!:7]+*xPv{R Uk 8TouzE QA!EA~xE"*DE5u!q;azC4[ L;ez_8](V&I-YJZCqӑDH`ɻ4NI2Pw7XO!ZK3]ԝiڐB搬`2^(2j]!ef!tS]+juYȃӋph#ݙEx#F.CyjtM1Q"5A2Yw)< -֚OkU6TW62*:91!FԦ5VzC,g6 ´ex#jl^QY6\qkq2mNC3HϣE50].l]0{C\N}jI(9 2Y-6_DiW摕H?ƱGZd^i9hyrtEs&«M$I"@#Kh"@ \h&1SLD&! yx;;*BAZuv*Ç4DuvAZ{T#E FKyრIFtw ti$J#ɺ;2HDG!AiMFqwAZuw'(Fuw8fRȓՃ&ڀo$wk0$ݑh&WƵH[O-p J|vb6]6SoW|WeTQOkko՟#/GKo]z%ϭUZCMM%I\ $0&S1i]CMrZjd#Rlƴ!Qa  H>!Px-T8$TG7 /!q|x)xQi e qCxLԓ;z{j=[6O්VtROOxڿ`>lةdŘMo8V?Ұ5!{_?nj~)d=QmU,QX[ TÆa\7oٓl:=.O?<}<}/?]\=~K敂zY2+ hJvWD#Jh)ym+2i@1LCo^-~1Fqf^)WI3';Doxʹׯ&I,[w>\{)i\<;9K5_N4-x,Nz>/櫟-Coٿ?͟d6]@,>^9^Q%nq><OF'Ƨ /bq2_g 7'oNVZF;OhVn…lT8oӪ{"@5#sV##S6H7vj3-ֿVl+;̕F:~e[ ĉy5n˯JKzjY}½S׿>O߿mHWodk ++쿑M l8zuQѨ6֜꺪s[Zv_wKn+ {$ zݢ;ݵ+8VJ&p4P{9ݻ0/櫗J޹9!A{;Ou{6߾zmCm_J:~'FȾ=$D/Ǣ~F,'(RSϣH=82sO=RJ - =}{ǃJR|KEl¿Tl$87vFVmj]R~姦7,tQ^orB큄(=T(k(a~x/(RKڡ`"Q= ZD\yzJ3l91o>r=\tcFK`&G:fK?7#;5qEUPIPcbbC(1فh9SLDL*vmphs`sUGO1gwx\T xv6,@"o o{`0m 3´ lgaxNDF28=yo(>*B1e-mH5=ʾr6YY[p?i/9Q=%'ʳ7+Woo[=rI6YfQFQF1QI42m+nncM:mz7?KQ0nyC=zjpWrsUr_'/GYUnsjoL-3 )Bo^v9ʹ)6} ;-]K^Tno, 7Hu2j3tXy9=͋-R}#8^y%C+ho㏁>wvZ7?/%^aO~]ׂ梙%&B4-V6 >Dhivwz7sMǶ5ay(b^(ʡY=5}f$s6xDﰢͅo("̆^<3\= n8\uᄘJ_Qd+"^g.7\8ao4Igk~z6͖FѥĖlXM5loxVwwdrw)>AZ?ݞ\_>n^lǣ99yx0~ʗt[ k\ݥe3OZ>ꍚ-;i^Zg<ߢk?>nO𗗋ZQwt`d}eמi s/ =_p)Q lr g*`e1ѩBY1(̞եBMuOVz1;f͖1 07}.GP&"N}\._"qS/&M]pB %Ku!=d{a$#uW? Q:GIV45r09&Xo H:b&DX 4{c}sӋNq0f ,(DE!,#(BJw@B*}F!@Q3 ?I+"R^"KLr4-}f!@QηӺC]o5Qnb ;xS!N fT9*ţ,PJ?C8D Ter\(\[ɆɋL-QA٢4!ٍ86#51gMZD^"%f hV4L8C3eJNyࣆH<I)I7pi=<1>Db|O?$PL[m)<;QśHC~LDhBg5n|˽:>'HhA;uOXG8ZD\>ׇc}]\zg!IY|,>'Ho'F@ _h#maa6RNX5׀H  HF"Swh#.9i2IFtwx(_ⰽ2nkJy~ⴙ/yogj} tHQdq;0!f$y-/\u,;6}_su-D!K,a}}"$ %QsV)棳pT NG̎pb |XVLm%`j`jkS[ӝzI`jCy|%! eEOm-q:m5 Xu8"tsj-q)geN᪓烴xERv_(7Ӣ~!7ۭ乙9f./Yc%Hl-!i)Cʞ5GImQz/I0Me}Ok~-ÉeT}(u H?{߶q˳ ݋ˁXq;:/ˡnK<|1)/sx%rt990K+tTf9H):b@ +8@\EW xnzZXZ  u2Sӳ *}F6ӝQQ^Sȳ1SVQR/yEZg1#|CɹFr%SQv;KB@娗 J&WPn XUzgs ) ziU*#JMHlNgF1Zw4EEJܝ!wyblUQyq:EQxYYxy*xd;8,$1L/ڌ?6=g8<8{ cLZzGCLDfBFhBg58DbLsåwu8H8{}4fG7cƱr*H9NYE0RQ&HU' yw`$68Y5iࢍ$QĘ<$8rlL6qHi-3[u#_QaEAYxM-ZFsO'Eys|P0N63!vk7CC chQk6~=Oߧz#dѰ5BF9TUԢ_nH*MMVL= f=ާ_2$fzth3h3\ >B/xm%_+̵|5}UX.Rslnj6N@G9ir3_&!fd ?{RǞP#Pպ8VèaD׮y{./+ˋɢڠo|ԷhԷcd:8#s=oꨬ`&]eHw@NOtz*A`x@z;RER{üD<\!.Z%2ǩj3.(99*%8:e@Ӷ THd oU DkIТLDu5!J :2 gc9CgPuSq#82Dx5$D8 :‹-Y^xo$gG5v[IᵎFmmWxep?p?#|E(rMFC*z*>@٤DIWfzxHW1Txu\b8p;w6xDſ^ qo$|cXG}6A1^Pǰ:uWI5nFwv87"H]NcU)JIwWʺ;|8|Da$Yw7+%])ph#U|n{MUu1}*'zzeS#ٮ*|4} Tl1_ cU0<>!f)sGȇn00Jd| ӏHc|-g:VX~X_ij/BP~fGX_ij#(ZtÏ2tUY8辫|2k͉uUf Cb5}]u˂}WtQ߈F} }Wgaԯ3j$ |QVXg:cQg<5^;ˡJQr'Ռ7:}W眳aGx,YL(VȚa9Αq }2铩Us3%{ |ZU{ c(O|M)UP3 jҺn[i В!*jV"-}f!RYݭy]R#(r re-cPg8dv\Hz]YHtXUIOB>a~܅ҝDD O*JT-=QM$dB]ALF`CEEJ=8@^G2M7PC0KCm!(H"5kWax%<1>xDz-= w%#A1>D5>d"R @6T[87o6:o"uWgXGtuuOZ7H 9]9IFuP8Dvi$4Na$Qwx#I;i2 b$|zpU$kaM7Ā;Uғ5^vmq^WA,]4\Xw~Ǻka\-XV%d$;U Iƺ8L2_/PWҡ2PI>T8$c]&2P\ Rо7=. q)[Sv.KrE%@$+Iƺ:L2_/Tԯ;N:XW̓uP+L ,i BkIƺdkBHjMhF]( a6F5N)7J`9_'7Z#aa 35ӸtM.EJR:]3ic5ӘvmףrK6A2QwwyxHy\^s4^㵨Ǡ&<7x(dI;oHb6aNoM*9C܈oQLD f`19OϹK)U0>-lY$2wg,Xɑ,%BVy29HFP^lH1@`( !$EQ5%|h|ъ6Z`{Do[raҘo Z1u{[lF<(22 xMxUx\E*,0(lxgjztTWH?Pr7+2nXۚ xE+PZ|F6Y!+ѐ9QݪdV8SeDΟ[6pvM'B.)\]{upK:XrΣ%vu"(buL%>r Iy0Ag; i F >YcC;H..qn!D3Hk5.qͤqw!Zg)t7c[G&zOcxemGsHVS"ˣh$^=J1]5Xu JƊWh+uӢU)ؘE#Z Ej̯k8@c5p[s"k 4;J1c%jdQ(W1+|Ww%yԯQVflX@r7B(l|C8gfDX?\1 hrd=TcJ%@QGÃM^2>@1 hwrd5]BXKd/ۋBbErxy9, T^.1K%@y1^GOC1 yp:zX#c=Jwwyht%aFIuݎ3 ^+3W5DUʗ Ps4bmb1 x2VSMɷ#$u ^Eb،g3㥌4T,ʗEUwv{aH{qه`rj' JNy+Ewy#5qS~'+X$7H6A&GsNFVӣPX&gǛH$!y\t |Ap7NEY֑(} βF罓$NK_I&,726櫒cQULF1C:îFU *&WiUI^+:35IFvmܪB61kG1ˡ[Dh M*IFގ`ުFv#ȴK E@$~+RL5 k{_|q(%㕄&IfFAqi \L(*FJ2TI5OTs}rR9=hH,EwW^}ޅFjqi]f\-Ȥc3XV [7{Ƌ:x5V<1>YF:sXzC d;dջXOO/l[5T˩`"uwxoHc/,C?La-{\7/7CВ@LM@!1eƳ+nG]bcz5Zf ,ebP4Uu|  QXm%%di,ܭZUK|yD +2Di8rěH ~^9K|y##*αpx:2fЋMuAp>Jd$jEd>CzQ%?k7} F5\uRՄۡp.M^QƆU%ޢWedܡEoS/ZEnWM]++#cc~k?U^>|oN1ʷ,p6W[?%9)=(+']>+*9AXW;c|Q_Cԏo̯JS QW<#*Ax 2W"PyWP_x%TU?0VJZL(!*.7J`ɏ9 H0VD TXőYTL ~jzVC%W ;; )B1TOE: xp Ck*,@!nG]bVдЫѪp5+ihħ!)m ̕vmܕFA`w܁n=b4:*/y6]e(n ?S4M@9@PLNMG(֩=:I]-DEF:]U"lwvyWDt>vsc%&j5yF1?Z3UM$hj3YMOpq^O\po6x]5>7d"t:=3`- X$;N?V"G0}>\i|.C$ I`$H8cS$ݝlakWw{{]t5טO =Oٮmk5Uqx+W>sᬗ!H梺pSpy%^Kq%M^]RCZoѫBEW|hK%ԢW##{.Ք|SeıDc~ˍ?7ۯ1%zLߘ_2>7׾7QԯAQh䣾j 5-!G4צ/ ~AjSW_Nf$݅yYV !5T% *NN/Qu$tM޵E1m!)J0t L&x).@- Oc Xxzt!)Yg 2:Y: :C"}ܜ!k!:^%Αzs%3-I8J:K'ZU U78܁br( p M1x}%hݙ֭+@ /j$*hEDpG.uC\֏Fz|s$ugh.tVr%)EGJA$)EGJZdt IˎGJkZp)o"WOyfXGguى֒#5g\V.{Ir)yFԨ)Fuwu$i\zw'B``֢:pv8}{), \]O@+ c>f.zf8fk\6sCOqv4MK+ZE[}CE[jnP@#aі:aC:DRYZjcmmvsJOɪչZc׵\5԰;W-5,{%i3ɩD AQ@#wzIM~)ouz.ͬrpR,e8FhD$#՝o4ikimF1̪0gV!S}U3pF@ӬR[.z9- L3ʐ0~ڙ,MMb81LÉaAwx4USr,iݳ;LMLk9T]˜ YW;XӒk)g5Ud/%D9 Q9AMFⵛ+-͂W5wCB͔!5DJ5xucFit7wri4B7U@dyZ?JM 2ܘ8|z`1s-"4xD8pvhᴌ$I^<1HOo$'|;:uu8;d$ =I_GXG硌5'a$ѦH78x#6EZ|0|$ܝg3 >b$|2|i#9$ITFuwlx#mdޡvz,4p$Vd$| qmM+2ޒÇNsLqv4M-$;Wm;WmAmaA{XlazXlq\=\%sD:Wm\\:Wm)ҹjKU[&\eU[Iv*Q<;,WB ~0#=.H80cCEQx*Y ,`/58QD2%,FX yƄY B@  RV?^J1CmƒAy ¬fQE$A7)f[ff8~q^b/fJv^+r$f{AfH vCߎx^od+c3H,823^w|Аb6aԦd/#PL^GWbxHUQ)S^od;#(8f{9M=\ MGKn^GKhprF[J+ТMTd5EUp HFtu=ZzW'0ݣuԣ=#fҚK=C8;ړHto g(Nr8{\pQ䆳{0Ywz8H_3a$Ywmtw(iox@({1_|8;eSE1qhsDskTUG 1ŗpb5EMmJ[NV-z`'xt-z^/H:ҡE/P%1?/<8X3OgY`:WDZʳךaT΄5cu"[2U3j[zHϳ\4^PC7;9PpC媱cwt9SjNY zrѫ<}j.RիX7}^CjTkW樳@@֚1;q9SjN] xnygXkZ(|/|G1n̫ngȝC TѪ0JE#"U9܈{oH"5ffڌ#i ԰M_c#SCph506z9T\ ׿(L:#os'\U%;Q4|m-rcVo?\C߆w&c/Lpy8'<5Ԧrer5u!$EQ/hP2|Yo8 ;d[1UhybB`8Z8892,"Ȑ-SV2(W$A7LTdݙEx}!)Qnb'(nG]cB/G+(JW*n \ɝARw;N"GA`GsJ&T^(tnF/(9g!RXss7dNj#(r Dzbc%.$PkdhX @6J1I7>D8ZD|;^=^J$qIǕ1&DNs 2ϲiF!HF]*do$ '|0hW\$e!5|=ph#Ռ#eF/px#$Z2qвN80nt/tTo~<.+73Go p͞-Lc LޛA&Yo~a${R^aE{ {Ϳ_/R==oG׵ L7ڇӛ/}o2/oy{{,Y/3ɸ~2?"q?7̻) \>D".`"^4-.T.+|;ǽz\*|ȊLbAVGW"#Pg1>>Hl1HJv${\DܝHJv${~${%2=H lApݝg$^ycF^^6yG^a{ӎF tʂǢs1!fBި~-i}UgΎ ѻC{H=zUYJU%Ш{*_)ңwtы2&Z`F7jnzJ=|gO7{󫪋67%dͯ|jT⾯O}xq!߫K}};6;֧ziM/Bbͯph3#|h[ 7DgwzFtr*Qoh*&wqF&6yOh쑌5| @~)/V>^-G1M7BoW#3PצHo Pr~M1P zo"7%D]j8VZdt-8L:aNEXpaJc%5(d"Qҵ(o$Ws 2#z#dx:|3:E :!HF,"C38" 5>lHe#%,)$#QoFfHo$FɚZf2.H"sk\1tNo$iεj77 =\3c)4B 6^>J1^9e.|\Kƒיѫ-!:Gԣ3CYyыoGͷ*׾xӛ3pz[{bڗϦ׷{-'{oUiΩ}!q_@[|śq_凸S/:w>~=$N+:M& zrsh3൸#|C.xZg4lxHꂱ7_dh%OGgՈr(9AƫqIb% chBR~j|FnśuchBR\oKRYԜZW5$ukhR6Qnbk\֝î1umu^2(K&iJO8f$h}ɭ5r Dښ v+Di޶xtb z=|SZ7z(qxE{>Kqf(9cF蘊 ;e0_X_*ƥ1`lC.>J^mD P y;N\y n"8)@E`jaae,h Y >)YwF7y )B1d6*,^.̠HmaZ{BLC!7f _6i7y7vis+r _6xY(Q,^ogw;Nn#d`1UUȞH8kppU#ѽ]\zwO'I`Wz//.4rlinZ:j[wM'j]gFIYdѰ5BF9TUyw[^kwz$_FLiV<6[Qy 6 7xlm^/j3mFCqUT. i9aF%@-Dr\:*3[ - \_6Wwڶ#$jEfȜSa-!7ԋͪ쐛r3h+zK|#qT EemiY[̴"}T"z" i z HkZ̴`-D{07q*3=X w#SNv>!|45 ~;#v*mҔ)ؓ3>c{܍\{8%r*-[kZA1^ f=85J-F<;\u{بs;25Tfgt3dg@)3*}'dp=zNAw>yܺv>ۜ^f9>-zA9>\YO7Dn㔄lr|t$69>\j>såͅ"R̅3 KF53\|pG |5 ( ԊO=ƝOQJ| K=Ks/4g3|i{=g,m߅"Q 2͕>72)Y.7+k -U)aY|YE- s ȎVsE=8it)mɌCOBJ{(m7D@^uAʄs3-[1<7ᐛmuz8[(WCG)"E7Nj̅ǛK7'OcWv>x9}V%%QnfAs3KL ,ps3KM!7{=x~tH?OޡLi=\*K^o>1tY"sLNSe4U&yxrz;Cn;M;=職8P=qf.Xpǜ oq oj2g.3\|ǜ;bojH)aEPn ܌L!17#dҍqͶ:=L+z|xx%M lCněKoj2g.!\x%7+qszC* %͐nCnU7S{^O 4j4*=ͽ«I_]x<ҧ8<%7&Fr3 ELSyDr3}u^&F)muzj*}qM@a3+](W8S;phșͬ4Oe4OeEy*{~^ 28!7 &)z{V.W+@}DKȒ2]!Λ^7Hϛ^ܬȓiܬ@s"7XÝz,N3{`./pZ$. %}IV(KB%$+ ^>. SH~*A͊dE! P(EgЧy^4YLnszsE/z/ɊR⒬(/ɊR_UpQJW{8ҟJb'*IzE-ʡQԇMEެ@(Vwz;{~gE4ÝNC%JٹiͅRr3_ (73fyfDxcnfތYަ[!@(lCnǛK '$f2WXs81!7+dYI֛C7+3ܬf:7+CnFJȖ+zY'JRKD\cJ6\Yr 3ΰm.ޖd7+C7+eg٦^z @"[2=l)=f=f8m$gKqrܳezR{,ܳ-eg0~H(C/%7k^=Y%S|fG g#,q d>sM_z[5rڱбi},o_M^Y.&{8.kpW߸~Z./NN|oNɗގI>~vtvļ/tZ4_U)*Y}g?|Eo߶?t1u|quY 7zuk=[ _ vڟo?MfыzߜUgE{ʼnj<'/l~s|9O3\ߜ9Y݈t[)ؘؽ .FZlV5y sktTt0ҧۿ~^BVl+; ̕Fz}ぽ6ˬvߣ֍VUºխa|( 2YkEO 9CKҽz!ߢ2R_~9;/q.żqY}rcNe]y>瑧mCvŧz,0w"_H E)Wq62]jP*+eyٳP"P|o}~[,,oG ج<pvށ޾:Ut`g*CD'$Eڃa1cV1#=8ǰ3m= hF!Ϛ|5ñg9yc͠qwo`~ *uĚ]x,YXiѾ-j2@k N1BH^<77,Eo@x:4FD!,!BR}j`!7Z8=.8 yiJۭcP^W{2(NGձ$η?]\cx#]lek5+wݣt5ë|YzA9nnaqbBӣ+y=t}-YG'p UQA;~r`;\7ͿI3mkۇxr5~+do\ }Z./NN|aꗓ/Mn4v|ծyډjܺ-|鯋_ &ʹ/^p>Wz//.4rlinzl^|MpÉZmWߨLC~ GZԠ. 5ԚS]WunSۿ~^RBźVlxGiNhjwр?Sq"55cQ%wyV'w CPF=y7y"=Gekd^l Œt.i*1fk4-!['H{={l" NaXM|] 13c0: 6 NѯQ`_el$h. 6 c܎<&bO-/3+ADw`Oܭ"k"¾<;™ û`@Nx]ҷ6x=dkFK^~$0OUa0(FY@C5nrOf_Ewhi_+\v%(W"¾(gY3|5k Q (_~}Q3b4|7ެFgzGM`v r_3&ޜF}QsM(/}Q^>/ѷE(/E}DtA1D`"Gǁ>&-=G/aW#.DZe%!592,[ǘ%yV![}qg?GqgF4ЬF@M,Er-(lE׋Xf%[[kcXCf"@P>5R(N[M2>5hpkJfekV4[1[Shz^HٚʀC}!J5D5D=FK9A2nBUP%\1.%܄KlMnB)^C"d|k^ah4¤/!HFCha2.,6h|)<ek^XI>[y 1fkV'鐭dk,eP,9;wRm?]E.RˠGA(]HAˠ$3Ædk%B +|1([+sfkeNMl=l9Oc~VD%NJ 8)Bo4K]({9(Vm0F!(ٚoI)FP"GI֐Vǘv\Rvr?ezvܲ2@4^DK 8h(FˁhY?e4]d]e)ePˠ,EgMHu%/Nob!~g38%W8RUVIJ$ᠼFK^!ZQlC%ſfypqg/\:ͿWm_Wo'fX_ g_8@d6X=Kh_9^+…w=vxz5N^Oד^d6?9.oNޜ t[nfWӑ۟q&gcD~ GZԠ. 5ԚS]WunSۿ~RPźVl+ٻ̕F:xpTՃ,dK/CH^VKʆGe@rAiP%RzYOeEMGe*}e+.[-0cT>[#ekHc )8@y2`_DFK^^1doRBKE(9gU9w%:sRE(HEF(8=p"zVFIIF}NDkNO2>#kEx&hxU&IVF!("L/BEZ׋Xu9TPE8a;c YcHz*Jh95}iEV=G6h"E8:SW;8Ȋهx_T;?Ewp}Ѧ^p_DDl/u(k}hxCh$c FK~PM$lVHqj%Iax5%JS)n$ԁ=b^:`cM hU 5ZZUGJ(ҧ،,;Kl.$TVʞZzI5J70Ɛr?;~6:"gk` e5NNm4z,FK^SDlw$*RPVJZDO|ZM%>dk[CpP7DӆS履ƛmwP~z?[+͈aZq _/Ԥ֐fC3kc>ņ51bC N:6hYi\_<lw %*FPV=DM !acVI1xAQ91bC61bC FᠼFK !mxc __3.u2]K2xh \AgkNl ixٚ'ٚ>0xP5B^u#^h4Q|MDDϣϣfxQ.&QfAٚ55+-P5KMl![11CpbE  MXL@죟짟6F;]ILodoTꈠlzI吭muzbd3(6: 12bd3(6hF@MDFaw*Q5(I;)QSv%yV<(>|k ' E!FfC >MhD HFC)R!jޥhlLjJɞ;=cVRf8[+=lmC >M5c>1ӄx@9Q8.Mb{([%{BM{BM-:mE'ԇPJb!4!!J0 k=F}KF 5:YOђ=wh*[3qw%yf츔l C11!Vlo7im0F(69{:d*e[2|ϽQ|!cCϞ-]`ⷿ{s5Y.eiq0uiK~O˫prޓU}cOasOpӭ~ÁCu+l ?S'v 2*pZ?.z'ݓ-N:<OF'Ƨ /bq2_g 7'oNVFl4VDή#B g#oo>6y/.E~s6ʦitȰig][^k}v╹HH(Ch9P(Cݷ'zCziHFt©0dWO=fSDڣn=c&8{L\:"pܭ3 R6k>VE|WFzΆQ5:3; Xl)I(tzr=zxs>p{B&75@wXlQc&n "*~e.b\m;ZkZ6saC@(ќh#ǎ;V\e{^d6ҁo1mzrPR"}G?(͕> _(ҩt2{53qH?ʣwG?5NY{6w+zO,Qm6uac ^ST\!H40ρ0 s꫈y%PV1nCВ"(~~-D;<Z3\dWung7@퐽z/߿zsWɳ_[r%wo#Btj ׺778Vu{!ۗD0J3Js0k]rm烩+|vuɃsT. c%=?IAVuo < CmQ3'-Oӟ^dA0Qj>ߣPKBFg"Io$^kd={~8Y[ԛc8gl |׍ ?R|N|aBS:K7x}+ro)O Q >3anK4T&8blUB$o&¯YL1}I&26*89SYW)ܧt*+bO>^/ͯA4x8G /G?.~u݋G z}q3O½ ~Wk_LaB74X._] ls1sɦsp6]WSJMmvMɀ|1Wx<<>v_oݮ=O n_{v?zMcd9>UW+w~z6lͽ e\>SIJ7("Vbh#V,&XjxX\Xmi*nwXkugXHD,˞mIJUD,2iĪWUKUJEzN("Vݯ=q#XwqDz"WĪWX]vX1˖X)_tIJ%Xm("^L?҈WMI#^U"Wҫ]#X%Y=wZMb"^;IIJcOҫ"V?҈eVI!bF,J+E,yKXfǡ-bUH#Ye>I#Y?QX؝"}kECgWoVtڮϴ8+n}ܘ>p_}.濴2{o,5Vo_'i6p_ 8v)!1UCPb7Br8 T0%`jb8T5̷o*fd*pdx5a]`8fb.y4\t7jG0Xu84pBxs8C\{p89tD!9\ut愘١) e Mzgh{*_}`h.؇ě ;e.Kucw$sn\`4W'+rd]v.3\p6m.2YgL =D}W L =3vPONtmf~x4`@)Wf~Kڙ>w@f~Y_p1k]3?nBȽPY[.T8o؅qbΆU4nQæӦ1.g+g+u؞WN2W^g]pbTr~:!nEI]s!|,K},!KKc&>"R8 r \9~k?a,0r,6"_o} 4Գ4)xiH4ИCHHk-_߄n Q8oAcS!P*D ce1Q 5BZ W.Eۿu<7Y m;d/^:y^Wɳ_N7Rꏁ3uboq z#/7B(o?dTUͬ*͡*äJxcifԿ}q>Aќ. s?d_y S0#53&OvPdBF' AK~JsTUwT)ѢMTw֧Ľrq-1rvZz> FGzTAU*)7d!tnOTE-& :;m襦tt[]")NJV]pF4BW Niͬ*á*ˣ*ӵottF ^B2v)yJG& Qhś\d0m"qb"en"D8BDκm씮* 9htهQQdwpCMHuT١pHWdT<9q2 Zl*24zdZ6"`7jQ ߏ}HWt]1tEgA0Pb8ByTU1PfRUbFPEk"g0 %xHWi@!]&Ip CВx-Dx'-Dx+ph$%;S5VtEYA-od{yj,Nxiv>475xkq u_0rU&k-*ߢzͿ-IJ>XޯpbIJRv@nM֯hL\2kgAf:6Ϋ';+j#7/8 8>;Hy:tas+_9˳YUշ;Ffq>O>^/ͯA4x8G /G?.~u}>oA>ܩֳgߟw3׹f{^X$?YwO`Շ_&*[s*rY@"WU"V@DmH"VG#PBGl;Y?De}Cnʈe2aIJUH"^?҈WI#^U"Wҫ]#X_Ws"KZݽs%F,no;E,fmIJ;e8#Vxl"K2t XfF,E1CXfx˖+&br۱SIJ1-bGoiĺfI{+b]3=҈eu#j{JX Y`+ ZoԕPy]XEIyXjSJ$Yk?qFwEbN"VFouNVS D,/}[-b/GXp*B{zSN#)S N[TPy=U~,Uv8 X+RZ={濺?Uzov}~ԭ$?XY|O/G7,Qٕz7?5^Njh|6v?y\x8fm-*"1ځWt[IBÅAõ(ԁ EL;XH>X0 TBi  (Tx14ë`>_(6NI1e.\i'%UGw 1͕|ZB=8*3!(檨#UgXw8\e3~͕$s.\e4Wq8 j:}8&% kqg#2+lBp uZsB$Q3̥3?Zppw1jWҕN3ċ6b#A6H[Ub#AZ0^h H #AZݟR< yג#AF'dF;ldo0 54/|lLe6^]('lXM5lfcъXԾ^m,RtcQicXԳRxcQǤֈq>8"_F>x %SQ̅ / 6A1^f. / 7j(7$}A4ܬ>Kܬ.!7E@ FGZZC-bfDRiZ 3^(m.ZDqNL= ifS>, Pe4PSE@ ȧF6 44p^R@CMk冞&ANF$3/Di/ ZD=F^К%ȾsF?1^~tjd_9$4 &gz= PN7EB:לqui+Vw}_ z#v׬̪2LX9|0uq~%o_Ϯ.yPrFcoHc0Tck_`VNAVuo < #i"Ũ H/\*P%gLйcB D9H.-a\DkAn^8yYj9[;-G=u#st*}Mo!6QNe8 {/nW_On~'xzyj,Nxiv>475x3W0\#g\6?V>D~>:Xޫ9zbyt8aT?[k!&i|,h4{LGy5]dgO`_t63o?z)Cȿ?9_3<^e4këK|t߼pr>{{WGY}>oA>ܩֳgߟb{ʈEC?tĪyxX{j"WĪV#X*ԇSK>IO#:.e{zu&8b>y|EcGL?/k5iuIz*Wۤ"闞F,?cG|E,G#\E,oE,}vtrD,q`XQw^Cĺ/b&rZ5݃lITy7By۩t6^%9/wR;zjN}E .Sy;Vk34V꽹N[-Q`<[ ?qQiϽ2pg>wgu/V8[|cFU Ne838oු؝ 1~դg*US\G+'C5UQ`rK&Sxl5M3LsoM&j2êc&,9PEg.{A(\,ᘉ H梎 W}N8fQ;A$sQpI5Vg.>W"I&᪣y%(lC"'8\≼C"_Oq DC"cƛK$/b|>!HO=$8f%o|J1bZЈL#1㿕1w1#lČC%Ӈ3q#fZȈa 8@L}SP㧖<CUSj~^qUj8O]eW[ /*u74-XD+/]N8XGm7.2Xo+QIUOx:)Y=I+JKt]7ނl\-$=Xy}>,2.`>|u.XDK|2~c Vf'1OjCb Vm8RjC(XU6rq*J*:+`(D=`e:Hb$ VmUҊZ`>|Cr=X VŪb8UQOՆ Q*vb႕=Xzs[Cg2Y.RWj;+K߶rX8UwMU!X1rZXǀI=@c@/}n~n1ǀg>mU"::+`Uh+ &XU+6~T O2ա3X:f!Xm]jC<kFck¦۩oiʯrٌ<=s?n|fNh=Ev`E%eZ- Xc*ZT[d- d*ѩa񦂙)I%nɀ0͕ E%nɀ0ͅS̅Ss G32od-(p"`od-(p"Ғɧzx\8;3A%:գE܃3% q6s&fFo!Da) =8C3\3,ŝagXw3Q̵gXw3ĝ!g*3BpcmJ2գ]KM@{0S=qk 0SbM⣘%"TȩϔTzY+CqvH߼ⳫȽPY[AT8o؅qbΆU4nQæӦ1Yʊ3ݿ~^䕺?J]+̕F׾͒RIR?XjDX,@BcR3o,@Xe+\d mLЦȨ6o.b". @d4Wb/ja,Rq6ƢX"}"W7u^a>:Gՠ:ˋtX[7E쐮-(xHW(P u 4(0KRuHi]!^ZhHi] b>>s|b,K|i]ܬ($s3_rB(<7+muzx W==Jǫ%߲o.c3Tphs5{ܬZ#=zŻgsifS>`9?@di`%V2 hXCx^j4CտfeO)Xo9vʆ_-/Hk )_-Ԕoi0?o$z+g=L~xlwR߽y@vӜ e}o/Q'XNu9rwtj VsI3IjBtJS( gTS8TUu/?'.^Qx^VʋII \-+dEʋWQUu*⦬FVL+:U| RHRV1~]kHs43LʳO1u,N\tΣ(ZRx1eT|8k@IQĔkөbF+0;rI㣤ū)7l %/^ULARqK2-=۝ɣ90gvrCq,<˔<=bg4=F.Ǧ2mmw2$Yʰ2 a! |`mu, 9ԝa!|8-tl BC Iĝa3lg\ m" a]<VNhN DFgKko`6?LiV_o_Ϯ.GҝlISbƿL.0v辺RH^%-ZM n7+!U Uwo+dqsXDpc])$m*&|W]"ÕLS>o Zr簬ʽbvPUpx* Z8#9ސCjH>b8*J 9ԭf4h̗uVv G7f~J@7?N6?lC=(f߾q|uQW~b}:Vv}`%J/KPT*Hktr4pFǭj*QApf#F!HF98;4m7ٚ桳X]NL1L5L7mds`qf^9D"gkf0;9b"n"D8Ctpfh?I.kpxI0T8%4@t/,@*N M6N` 9@8i3@8o3""_qo<\2+TqD\L3N5SS,ͱ Yɥ5PQ&pn( &3ㅠ%wq5NL2Fg @ٞMS-SL-3. 58s$Xjg\#0%W$l^ɖ)"3!GT r+8sD\"9J{^16}fCFw (F#3*5rXzWC D- D2,}>(ªB7<2,J:V_!)yP]87hM:=d=05J(d,ڊSWk&+=S%q}^WT`śGım3d][x8zۥqݟϾ,gs7M?7r+3pk2樗9|߫gu{9}_'7 qns{c+ucU;X'뿫#3/V_Fm}?nQ[;r|E3wZqJz~Л|⟷gC_轛OϽɤwv5.bs ]X8>A~p*LǏГ{ycdfF[V &ѿUbn6A18A{ r[wQěGG!p.og Gƻ'j"DxDxD8nxԎowH({`x1DƐXhed~7iЍ^hMo& ~xIk7ip(}Ki 䖐0o`Go2Mn Q:5#i !z!:}ki @2K_H(fz(_^x}44M!oנM)DK6M!o  tFO g"M! UOkX=.h 4 dӤwkx4Tj\x85l[h :JӝXY~tVd_9$=L~xA}-菉{Z:TWA7Ưokfɴ!s@xɐ-3ቐ&7nL,Hy_o, ʙ Y|c<M=̙ɥ`a o]IIݓɑ*Dyfӛ\w*|gr,FePbZrvFax1-Nս8#6pF!4J0rULUu/Wx+gJq,΂iqqmH" M Xt/Dt/g d8\z9 P+nf6?LiV?gWbݽ3 phfJC3Sʂe h Vq̔ݵ)g8TeyTUugvBmhEULK^z膻BV,cUL ( mC5:!8^ŵ^.*։˱kXw/}6T.:0{qlb( Le=vFNqq==*뉐"%oC<4%v~w}G7nhlo~zn~f|OHo\?_o>tVde՟%Ñ'r8jypTypSypT$58*g pbQVw"(&Ǡw"LZiAbF !2W%?"3\S7mEuv$sQgpF[ۊ>3 6KE\"h>3 6cEcMwڣM>"GtjW 0,"nOS^.,".N]e5F7uwLPMD :}UO;4gdCC;-1B 7S[E;FF̓CCul Jh~n'z,^rp6jkQ{s3_:+-g^zʏz-m׿UYfG=^ۓ'XUO=F~ce觪8΋cM?ͱ2OJ*y?cU?)'(sDG#/V]ɩǹ?GʸsqX"s?VF}?nѱ[hr|E3w*t}~Л|[?ysw0K[]?nu<=v&ttVFb}rk_wbFZYr@6p2[|ѽԽϿx0%V%n%ITò_nFVtys+/y9jEzg[Knw( ?58X~lx>7Vxqvr~3R^̦gs)JSC/+ N+Zn.nM5/=5sz,}O&4X-nW?p>\x9Y zv|{ⲇH_Qz=`gKܞA2HR+uSH_Qdz̓ 5xT%ז;8BwpZ! `+bуws E1C5Hɑ7$ԘR0APCna5&Ԙһ6f"յ亶^m"b"n" Di H&I_M1E8dҽSҡ& )&QXHc; A86«^B61r96R=\$R96ӆc6p\slkmuݽƷr5DZ5vs5eq,Ěi\w/Dx/W#9fZr4^\wN["#3k׳`:O|vuz]F6 A9 iwu96 i`Xwyn8vi`8wwn8a]ܥg6unwcnrܦn -GʱCL";69iyZn ZdSAecNqg & a"6AL1>L6B` ,@"nϊPһ8+,a8&wnE&܊Vd$vxH"Y5@6MU7PL{ SH lz>cwl8<) ޹]=nf|`98{5}赨l/sgG8_A)~C}/k:eG?(W//>kd0?V4ϏqzRrȎ}"{O>Q^)'475'gG%n>__Lzwsw:[Ͼ|hݓn?n>PoSV_轛po$'7vk˟χhEZi@fFǏt8->d6uKh3^CoUux[ k :հl{yzl?rotys~п§ErԊl?kڿ_][sȒg~E-3:1 wh!3RKL<>8'b]̒1O48lTYYUYYeVJIp+`LR=Af Pݰ۱Nؤ*_ ` 1% _,> U x-b68`<<[M62\߂e6&u:,69D~JJrh"Zp?aQBvo'2pčcVb0+ҪfUT{ mz[\xk/AR<%baOXȽ#Uˎ"VUOXXXU,bU*m6AJeb[fEqǎ V C,bpƓ"V X("VMJkU/OXXzӎ r_6!V _5cĪT{&bUqܝEZm6AZmBЖV+?!bj˦1:ȃVUĢ֯B- qG! 6}{z4bTW~bQ-mX}GֱήcbĪUX[EZugױ )=bm yCxZ Ȭ ǡ(bAV1mX(#VzAdX VV]oq3"{'(sQ*篟Q=bm E"F,z7D,, e!⷇X5< tgvX}rĪڏ՛j"VIG"VIQtUT=bT;X%@+H⽂T~ {^#8eTo"!:=k6iSF5,fX_gxM&ԍEIdP#:3hue3u:/8ɉ :NrZU7o8͔?iV.': qU]Cby܀yfBO>/{&[eޟ7ogi=A⎡IJpX/l=H.xbs}"/1QHJg>̄*ߙɭ7,q|4}c}RG %j;-fqs=ujM U:o)|_tz|׋3ulG k9N}|cHRǐi&$=t56M IC 01Iz8_g}՟'`L-K^FףƢS_oIx*+R?ھsﷆ%Dr94W9pNd \βsh,r%BlW~&2@|0g1l>'at(UJ%{u*W|n~,MǂpJ|4˛dBc>u0 )CABpQ^H-h QMBzG\@ht`^c4|="8 aU&Au 5=OH:LrKErU0tޗCBJt~߀FY "Iyr XA(-u&!Di!-IQD`&Il=5WQ_MTec򾗳qEb*q @gyPxkt4zU\J,;<^,6U+)|Ab7=G5@Oh`[;e&urƉưLr!&W4>gГ{{;9b"H&Ţ_=!ѫ<6j04Qa˥o>p>ƀ` Ո2x`̴߲sjKgi$rBPoʴbu4i/(#?J? g\:< R/V r;Z+Ww"?_7?ߴv}d,+5e{.R XCUqq$@*2KY6mh nQE6[Nc 2Csal(ITPM@\g3+hɥշh._۰%oo}EF|Y*vrY0ap\1`BSŬg~胣$+Sa!$,%3DzP-.]LΝ:Im %Q4/B) k1i>4Æ/ʲR/ʒX7ڟ"kԇ&p64 6.O0kF#z ܉ !pi *e M#6|=Kqk|iNLQ5vaLihkFrdIb5=qKRH @8Ë8q̠|nr6߫?<@)fÒY@j6^XB'\O `I\k`Ȱwb)#-)((=;x\ O Pqrfי6РLT7psӧxҎ aЬtDžbwfUdpXCn!ccwhvo:Y!!`jQP`JjO޷m>G/3nGU-A PG#[+9^+bc|P]ݮ_/>ݷVnd~1#,ɓ>}hYfZvĄLm` ,ɒ 9 `2}IE738n|DC-#cPL g ݚ`aK 2cXbD+`p<{ X U2-IpAQsz9xt:1Q"Ǯ3<[h .I\q`lq:Pp~nϳ{d1QFXӮML.۴"^l/u2Uؖ{rۦi!~}e[ Ƕҧ%>#3. r!Z37I 6\Daz << uMӎ?}a= nT:??eaSl+e:o#LnbGhn{P/.If]]OS,;1 zV+M79½KV /쉪rn8,%gz骑̉1Ϊ}LB/_L=e'X0l"I&GN۩=,L3KJú`( gO2[1d0A0w3tL˹cM 7 k;z & '5:VgvuJI;n"@*&>4:h8}.tpN3Dry&+.qwD,A&Кp=] VDv@hЯCZ1܀p3u'̔7(Tzо3 +!d R+6S0wݗ .ΐ)m*" KM$Bj+&}!ZW}C<|BGR =ТA ݷX8 RDaᖓXy?bTœ:=/}v$M=ggo^)3q%ps3V۽ht{JZ鶔1\ƛlggydpgPi6i]BgeG-<{XM^lgԒkBK4qr\;{fGp|6ZPVܕ@dž|s9]|b8DC(ܕ jE[¡T\yIPz58Z^(q8&!c Fc\8e1)Eþaؒ [y(p}b@% p%V)A)`E?o)34kkI&:Vg3rtDQQ:+yX|)0 1*Q%Z){b5Qy=B} OL}{X}KS_MJ­ h/}Q{Y=ByK'TLyҽnx*룕7zl6(`m#; p籩Ap839z<] 0 db$R!8nRoEU]/{ժR`?7rM ]Cq+2>`Pq.OTyUl:T"Xl=xJ={$><G¤ʯ~koa75lz|?,.n`k.npj0# 6žx5@i  {((M,sMoFIGl7cgiM|>=kuO 6Dz" Ix\{ߨ:<9σkn5iq1vE4YC7 =GQ vdG*ݥIom5Ӆrrx8㺾G5ܩ?Q&>XhsE|x6v{'k(x8Ý'7X `ꎌG i}iN" m~? #G4AjSyL/.:bDTU  ƒ+<HFZiiXM-ƁheG+9j&4X3VIxR*iQ^^D~Z5,(@tr^pHw EmRbK}hRN6eJzlYGma7R/.8Ľ]Oww78x|sS lֺ_k~uq l4;D/-t‘xfğx?6oV5gw|$>E5KREݖ_q<#y.7sw ߵ-N|$:__9 ]r~:Mo+" H.\w>?}go8++%~\u塸!b>Or:=2ho2+b=f۟'~HtWwIUZP[3nv\ I]*̈́D_r 5RsnLE39hL~w_&dR>9L^-(f)=Tnw.qԳ?ׇ{'>/rp|8cr\Fa)m{k2wY&l'Y7/\>V[+ HY c/Cvx_ ײ?$BY*Y_ Kɯ`z_Wo_zz̗ɩK|zQ*9Ps9 T]iz_W2]ɶOt4WMR)z_5z_ɯ1z_*IVwʎ?-Cfc ^Z,]7hz 9z No{ N*8z Z%_{ Z%kYZ%wyj*5Րv$G: }/ J߽߅-(>RP6ߋP $&V@ >'P}LJ5gZP6A.*(ԉ䂲I~M딱UzA kFa+'u:P9w~N)6;EfY"YdxK;\vi$d Y$v)GX SDDZX XLPS0}Ɗ1^U'H,]ca+RL;Mߕ?݁0]9d7;Vߎ[~MpC6NdYAG Gܺ;]?6]:Ͽ6QŘ;4rlړYҞFP=ŧыm54ҞLo4 (Fw4fy䕭iOc>ŧQ9VcIOcH!$=d~ħ iO}J1#i$wFz >[+oZyhr"wFS-'41a i,qTOappAy R:zӈ?ŧ;0ᄃ4;d>I>' Q'O}i1갦4rh=0p±.OJzTũu8x. GsPƦN48UpE9tqHOc.N#S5]pғӸ|F-vé}RFoIܩ'28 x\%C"I# =:-S`X&x JN_+by9=,@&M]̘&LO?r2$ .Zq5>WA.erv6a44&3nۘ!Nriwl>@~yuјvA>v4l "?-yҰ%݌wbθ//Vbr>ZMxV$Q[݌OypZ\ENDMbNxdfm}H9ou ViVdvhHGo54?^.ޯN 7֩Kz><<[NqPsvJPg979j+b"=Vҧ@m۴~5"Q9r~+vӨ;s4.'B݌A݊*1\vI,QVvI'c@fVgt 䕶Iէϣ/9&8ZοRd4n, iR;#0EhJ^~8^J-2E$ r4^GyNE_)]G@IbJbrhIMҲD^: yG˪C-D^],P^修WNwך{uVAط6it64EĦݔ_&Ӥ݈3&qlcUinVyW&\,O&b_:v],7x4͑MMv¡D5Gbx|s]Zh&6 >]^L'ܴozt'JBd_I!մWRsh'=l1pL^IWpkd 7( 7-\C] Ì&镤qM{%=di>T?l 7+,܌lfefdX8sc]90 ^I!wv^I@cWdeu=KQ߻k?}77hwj;Mh7C׺4 ̳.Խ\LVW/9yoVzsnYӗ~wkBb<}>uwXG'Dvt|EfoYH~,XM1?/Ԧ{Nu6xz!wǭ /};{x:&t}][Ԁ57^'$]!Z^]3uje5eBijqju|ytalë_/GU>O:oMtj԰Jjcwo Zy{^͕hWoYg6_s3/ΎTUGW^4'.erv6LZM>6DRC%nj6m 6'n׆nu}h9"BG8,n{N|l6G"nJCV:ٔnuԹ/YOՇߊ-٬;+l?=(:\wbש`gO?~ F- ~# p!q j^voOY<-^՛ɠ6wQx }swn19=^Fu =]⪁wl/|0]knF7&Eof@OOF 1xڵD$4@N6HB}=l ($ |O#u%<cŻi0ZQ㦟33?Zb2X7o]Bܭ_Gi4~\8꼇ȹԲT˔Bըl788)afege3*"1j,.s@TW+w C (P 72lIqP\s'1,L3ŵṋkKv{V?懟HsbOwIћBH1xV֖%@r뽛%ꁻ:Gn`ngh9InSWen{KOvIugpJ36 7;"iuP盖)<;;Km[ߦ?D$!7*#6 }my7z?ƇKk|{XKX@n!*V ya O-r~6]?$;y Gd9FΒoD,Rhq]g~|݇p?;pm[TNE"8Kfqnv_ yj+ &DeXuN9DԪ E[T^ RSԅGA;P+$k$u#RCNqI53pRc$qS> Nj $\]T71ϜX=e; ?i8 ?lbpI.15_lpBbS^]h08,/ r9Gu?VyT Q-FLaUQr ǐ m3{^SM5%TD[$:M5ӔM:g"]uJ7=oHYTjriC %;HAF2m UDrLT_}>?WxÓ&9w)bxդ*I.Aa2E]K%2yE_ ǿ0R u ?ǗX#|r)IIV׵Iꊗ *HNFo%+SI9dTC+xhK uF*j٨$ugL"Xa꧌l'E$'MƑɊD$K=[J0>"|)EU71]MV"|΅!c.,yvA 9IgX$uPs5JvFP|'D$O*dY&I 8< ?g0%~bh? "E>ųt4E[q5"g l4h9 ~d"YSQ;g)F7R5)/Eu?PYjO(EPSp 5pSKN78n$JL15 TQ2~Q=CP\Cq @݊j*^Y7"t @׊)QY tDڐsыw@Mgr܆< h0qe'1Ĭ<`3:$AYqI#2t eg\A7@VK?`Df<0nFz.AYf~Oq2ua`LY]" yN?t:]g[;A s>woD߿n08t ϳ|o0GߔOPAq>k̷9h=i *Nd^,[Yjqϣ9Ff-;i}}jPB1^Mm-fYdR[ݨq@ix]3PЕ)0?cz U"Sav 4|&27mY:nǥ1RB _ |#=%xQfY•XxG Jv pP$WdZILt+enKrPݍ[% v8;k/nFYm CQerv6/.WofjuY2䙥ѡW9Zc *\3Vr of o\c*ϑPB2 cz;0GkƠQAC}BR'\Wy?l2 (\WJBvP U|ӈlG4w@!lkpCO_6+*_tЖ+õ[[q+})ڊwn4.9\g?ԧ6:,ؙ ixB6>w`Hz 0E[~Oq>kE[%kq+*Yg;?٧89?Mb-#/4|_~ۃTkuWŗ2/گ1YWtv6xۿo0zl X({މz=s6_~<^NN~>̯?%`S_%$}/˭W-P8h?8j'_ein{~8?~|y6y{ʛ'k t$uuHO5jdr:].A{ku7'O?Z.~|=oD0c4GMΧ^|y}7D7I{`-5S?L><i-jyɗ卫N>޾m3fO4?wɧѲvttuj`9^L/Uv?]ez . {@5NPp?MPAq~PLwΐ99NBr#5#I]qb ('9Z$vr_T"]rc3P%+NE{>$k$u$I8zI8*I8r$jmd5zy|$@Ns&+N?'{ERUuA|EQCEM4]]O˗8G\ ' *|`VPTkbL~U^^kBYh+ "[yu$XCAdgu70Q| (lw*(bؒj:٩:~PSO/Ë#ͧe[OPcU1+ RN *H[76vh[Cr1do>E(Do>y| 8 %I"I9y ~h+ى >I]j ?<8 ?5p=wHRW>u9GA>?"G9b5ڑ$uۭ"#?5plnl;I$õp8I*N)NO 8~dΑ.IțRFROD9>1t*-E"[`F8%᠊<'a%tZĒL0 'QE;jK2;+|' 9x])k2G}QDe.Q]48(ZSXbuU*Q[yǯ$IU*Q\-E2QԸe ?pQSR*W*QKb +R䑗aE!˰jQr.E[WAq>N`}zaה̝=5I;5a)`Y)TSQB65jΐm@Q^49|NBCDUt$(+ q]Z{ Wи A 2 3Aa"A4*i82iAfPu M%(+_*("r@w&ƏzsT'ɦ^MuaG緢j?*tTw|ΠIj959 `ur]#]tC`9Ii/zcj;M`7jG q cp"H'*"xwֿH'>V,!`YP{SYwrԖ$UHj<"79]lQ,1U(MLu$CQ l=tJ_G"T"-V(G W3|RՂVo-gpwQ]݃YC&2=12=h*=| Gu(BpZ?B&c+/HGfFUtTiVBA ?ݧ:HG*^y+0 *1ft$cHF%~$;l F{ZmƚV6݌z-AYM S 9Z˻LdV\gsGh-ޛU=e=3|N.I.s̃T9rs4[ȳ9so *2bz>A2'is\WyTgt@^)<z^@W{$p ;ǍL,<\n ?sg0q)x<ތeFmۂi1ET.*MfUH* E\/:/ߺ{y!d3c!c3}$\E,1_QOGUţA#2ސ'aя<`U9y^hJ8Vjyt1o4'GӣI^t[=^8‹+ 8_뼾~hF| NjkLb{=pa:~< ^/oL/l?[~()޾wfDO{kůEOb 0Xd ֱ[?|_|_n5o~~>8WmAɵAWo=D[F4 l=}s ?~e_?~|>h<<=oMWѱ)K^3&鬽N&b:[=_Gh9ys҉>C|u'GfNT ?JsZt|:Z^{ϗ'ݗq%}NMkaUbwaIuHkW|ϻ7L,o\u2]հo{5ˍK>'?FWbz|/k=h`)$ V3M>iSҕӏ?b"OסH]#:\CN+nVR_UJ71> VďpX+1Aɣf:u3lLPV n@" }!zB i|"hBēl`]ؠF3mΔ5&Ϝ\8VE3Cc5m@܆6&τ>IZI.6mSO1-4yZ hy g]~fLㄬ$'g"u`<2َgX2jx|l[p^o[;$Feqݎ)&aE/T~k k|=YGl=Gv홲k|nFADo{wH.͈Ѭ́с0PO ˦ʟ ~IGTF;pm[T >Jv^\d\|"\6P;IbC > v̭0#1c$Er2I6IRW:1Dubj*$jIRW#AIdj$"(;IȓFg!ORW~܈Џ2xxǓԕ Ƿ'~(*zumxX9*jO,JPDq<&ILpBqsp!98098|AHDj+ް5Zak1FS-E"\db08{>ONwH݄駿. _|D=$QK۔ N%p ':W"' ZEI%,Ow M'Zʕ?)w"'Z-jlTTj5gr|h=!"5 6cc8R[i*iB2zJ2KmRRpב's0AԢwI@},dv @<>GiZ%Yǧs<yhq,5 ø'5 *(! &Du/ȱg u<8= QT p\{BHf-M?Qu?G{V0x}E=yp9f ; (vȱ76on`p!AuuwUj;AC5Od3{ 4v r#aXT5" ZWҨuY㉮WѨ54Oq믡A8FeqLg^4zF5Eλ=>5QENPOEα=u e_w.0@NgCnm릷`eYt9sB{9E`]{B(ƪ{$SKcxC?у?i I0sOPP EP0,,0az' إ0f27UUЈrr4;\R ͗t m``  yQ!ئxiN0Y8`=$C~CAMpJl؅l9v:Y~^LFhb~1Ng<Ѻz>PFBX<PlvSNVMVן˛Nxϖcдߡp8.ǣ.ľx޶km$/br~hI?zw]QE56椶'㉩U8:~mU^w?a]O MxQwz>?t ןt\d ֛K#qo}k}~<{5vl/ vꛗ>/AWy+oΧ`ow:;3Za5Y\Lg}|ڀ5[=O_Gh9ys҉>C̗vSk˛_@k?htӳ/O/،#}Ng)vx`-5~ _&o[~\~hgey㪓2WuF,7.4Zr֮Wx1WtumږF7oytm5_ .wUQު$un)Nj( 9O(lPQEy ?4JGnAE!-(GUᾢ¸<+ja:n؎oB|+  ]EqWQ YpyqdȆ@3ʡf)NOf+*c{7G pW)gGd KϞsϣh*T\87ʡEtCϧ](% &cZ!sE{KRx&JBroTGn|h@VL>m||Пo>B( IA]ồD$CGq32LF.< UwúG+c( A)䯄De/G㺊5r_ VƩ]).W.yW9\s滨fܔ[G|V{qYb ^G0~iZC֗MKyMC$ gg9;q)qq YDrϯkkQv# @ߌ*ˋ`j#k ̬hy MÎ@/C{)ڊr)~6ttS#Dنe˜5dYJ9Z[Y`00iRAM͐K75O.0)q<qXp3 tmm̐g7LȴL˲ǰG^9bȻ696MEsnTS|[dclqa f7[- yc#'kD86S ' n886L{G9"ID68ژH@ё olDعСB48P2k+_lp2ȉ.$$EqI~q$- NT 8 ǂ18 Gj8Fdfq8^"Q$fd$Y~8 G 28 G 8 G;IJ  I[B8t$iG.r8I(\'J)+:IWuy$Q'i6$:)A]$B_$|+ͮNN>zod/d}smxXF@ U Q;ڸ鉮%]O6FBǩUF*\U8U} hiWf߽Kr}F~PF-E8E8ϋzT|Iq&ϋGprp@g$I4 *bBh+"`HSp71U"ObAi,_G1"ݏDUC/_&Okj6먧Onyb"~ik5cLl$^7A<_05Vp?- fK x>=/W|Dx~}=fy7R܉ɽ,͝OI&d0M9JBrȮ) 2j΃ߡF{rdv\?ױCÂw]_OoU:/~~5Zi\<:0G/G'tbr}||5=?9vzhm;5fdhx~_xo‹˞Nw;ɉ?D͉7ǓM¨j+ˍdqY_x-I]Viw4]}ug`tqg;lWo~x?uӋwjjq/$ܐݐmurǓ58$ܐ[s7d2"ڶ!O;r[;&4BF3 7ۊgVDJ[j+MRNa6uN?y|Lh/E9 I;ߢCythWP]kw ŏVXl%5]n@rd 10 h+p 92Rr187á$wQ'RMq7}>}>wOIh, Qި(L4ֲeS(St] RS}(Vytld2qxb>L|UU'^Uͩ m!p)4dhC`~IgO}1?[Ln]ƴ}k#K˳W_m͵#7◃v/7Ï[ϗ~l7]MGŹ[9 yuw$Vh}fXMYd>LNQ_7D0oN:gݟ"m޲k?1 ďZ&_,ډjaz6?6]:^x}zI%rnhYX k㯿7OCZ Z.ogcx|Y޸day[?vt%FVՓQGU|/*V(}j*:qbtd-7=]V"Z&,ilCofPؼ-^usEb[<?"Zw1XtsRۓ6TH*Z9_ʷ:Z{g9⛰76䄿m:o[7w_}G;6M(d5|$EowإtwKz⻣*%&ވ3@+W`nž)͑;IWNoRnQ'ն-΀3AW#xC\mT#&Ʒ5g;WArOG0d@8wbz'+;9oe%?*pZN'>وB0|GqTǰZWs7@#kiY)/ې:e.9,31<8*E/p }w$SΑˑ3rLv>ޱr~HU 2 @ e@7* snoH?KmZl*I,$KmI4'-lPG45Ӧ &+vN-B fCXG[1y!nF˷p>c|[hy1= FH_(KZh21~<U>IrwwlsRFoIh+ߒKf8WljYՋoTtCXxuPx:hpcs'+>^YxEDX\F]$*0O8F&$jmd5zyxVK BJDJQc貝8 18 8Ʌ2$H!{Pʫk fWǓ`3 ktCm=~ʾpŁOlZuˮ݅ ߤ.oZ]}3~GDȒ>t }ΞLNmmsx|bFn: '8߲dz2QgREE3㢷bEsqqQcDL;5\·:39$w nrhYD3n"K|,fQfA67%d?fڥxnYon|Bȥ•m%}#!WЌGG*-MȵF"TiHNcčq0Jچto 6< L5JS%̾pV"K?-,_x8dy,FiV)laBJsnV}]kd6y۷^}m Z.}!O7l\murǓ58\[=劚\(ڋ xFoRCQ]s}.]lh4jvC[0NÕptud3APdɦ!$|;e DqՉ]It) y$͂hncnVWY]r"!7vϒhʳrE5ѱrߪYsRTyR9"劺tLR(ڔ5 )%| Wh WSኚJ1\YS Zو.#Ǒz}):!ZTˢjCqRSFZB8֢~nA( C(đB1hj(dx FJHa%@JP%#E!,bQN?B*yI d5d(!ZµAR͵!|E!<_QN?@2;CPd &B,@M8c=Ke&WTV; |ߓ @*AV囑c=ʡ$>y`s75/~>D 6D\ 1 Brk$caN(υPYbRFMV|\6AE8cX{8(I8$9nq-] E0Zrݧec`Td;0JV<4"۴6-#M˔ߦeDimZFvVl' (Nwvq8It۔ߦeDimZFv)M0nڡE w|ZNWi$8m]@e]N1Y5yY,#9ˈo2{؜eo2",Y$wQ+dx|ŏ* 1Zzh9pK$28|sKo`8|cI8[u}h!u8Rf6Ը.'1Kg"g:`t&ҙ&t gL:0$5xpDu= Ý;Y:)c`ԓ2 ./CMKr^?. "C`:fEb4a_%x,KTWcEZZ aW >%\7 Vf˃-#.-I}XÔx_ZH5!t VUP+A992>kk$ENǐ!ۚgx<Cm,#<)}ȠR\Qx,3,4;jwߪR*d4l*{BH"C6+`UXs SMÅX C݂HNBl VC;vAY ]nMonPSmVdۥ5k- s.Xn6Lf3һ F.UA(,DfK0XYG\WȮGK[U)ڊ/P"-+h T]EH$'IP/B{ȞGKrg+m3C3uY f#3k>ƌ"<3k >fwΌbFd7rMx1\p}EQo Q;4SzZ$ 1iá 4tF0Hc:`':hݝ4){BHfv˶]]"9ۏE NPVHJ\{'} S wkxb2j:VU`DNS@E0e;̑~)N?J*- "/2[șRLG͙3 ZDP^.7S䀴6ϦCW< O]gޙjh_~+#}WMpiyGAq$]m]^k`54Xb ɛ.ыf)5x^?~<C=3һ F.K{蠽WH6KȢ,'ȢH711"3ё<. ")Oޯ`4͊)ڊO$]C!or[=R;jHzCEQuOTpw{\™܅݅(/+3U>©J*ɩJS;RzugF0p]ZGcFU%͌9cFOY!T}U3BQ3#X d c>B%@cxn÷.Y'BsVgUaJndPŻ_JqQA!Hj\:(,ud#r`&P]_xJqOӏC1C3Sp8%݌td%G.[2&%͆Wl.V32 hzVnə*,c(;X$Qh PF(^ 84{c9&Gey:dTx X TSqP k^#70:Rn2T b#|&A?FC@i\G4}SHQuOrH{fհ·DgO3I*]Pѓms|NP"~dTQDՂџ#q9Cf_IrwT&8GQwT&8NZ8N$$%8>*OpG-bQwTWBJRArf2*L˜ɨBF)s8|z \s<mGsQgWAy^q:?.w5>wXlw5tI" /e񢍨#zB#zQ[^~+ȍEu0]Ӣ؈^L>]s1{kUmq]}Tݘ}l#=f9n+ߘ}TWepG]GW}p$cc wZ4;sJv<1hGf!(G_Gcǘ^aSQ2JEr䒩B2]&v$yOAgZ1%f8fJghDqR?<"YɣQ(gC&eX8BƱCNdv;JB;QYίLD/MG.T\O·Ga 8ފ3d (%ʡq3bF.qB1silj;BOpidʓ(1 I712:H{Z|fKV4"jb4zr|NI?Wqr4sEwĉdџ#|'$swQyҗrKEGk-I8I8pW'8N$AqRq'8 cpbqv$AdcxTߑ$HRxͨr9VjaG n0 i3qє)tCWi|HC"|HY9AgNWfYʪwS~b lv[[KW&//a(@Y)]?G<BOkrLm!bO܌M#Y 5iPͰO3E[\DSFOSoIk.I.Ҳ4ueq.-rt'ucx "\&؆ae#RFde'*Rԕ3"tv_Z(|'I`d J/j(I] QFNpC$\I/I] Hnn(k IIq{lǶe 8l=.w~*ُ]$0滋B2#z~4eD +HGLɍ;=`[M,GyҘVẶL㘽G7fofonHʏٛ41{cm7Vr1pDc1AR1S; Ǻ8m1 3 gHqfo<2Kc3wA$3Q[?e[>"HrO'xd0 o&H6# 0r3 $9061,F5LQ-y1*xՖa*!YjcXzOTڔ іFq@>o!~ 9yrf[aGF&R:m0fkA7hq\|\nWYʶ ie fhYȫL,@o U اm%m \,p%YrQCiiVdm9p m!xjmŧ:MK^b4zr|K _sIqߒ~n $'% \r)WM'-Q9if;Id%L-2AI։VXŖ$ %SXL/I] INz nE'-wH8$ lMP$Hw{C2f_N4lq߱-˾pyő{l۶8^Dj]\w9RHxvZʌ蹛#zֈ蹚j=WFx#zv)=j`R2{Syrc.bݘS;`cNlw7k SŶwb8JcxCNw؅J1w.M?)$a8/Oe0efu8.1 88tjid$.KZyf́=BuG9HqGAf193p8 ݌Vs=fI'ݫ)pwwj :?;L\)pHy4G.ÚRǴԹ8$$8xi^f|7HK;*u@FќEs8ΊѴ8]߰fOGz5,6gjӐWͰ^T9#Zԅ <ҝ'X]`+rwHgHqO T\:Mh_g.kh+ޠ"5=N Fw$"|e.Ovq͗N=yfʝM߭Y%Wkz՚jM/$9:ϝd5@w7$8?D^M՚ N7l8 _$)O^ud5щn_~g\pKDaf,NfNU:i;h̡P+3:걝 za/V΀j:Ti܅ w_ʲEa8e`ӱ 'LaȾ'8-u a,[ҺZ\ȺgnջfsCC78=9Tybxpc \$vۥx .p@ޔX4W`vuxpLr |hI"Th>dC}@G“) c=H9KK`<*d.-AXZ`Z0p8 ݌Vs= ^4EoBPPn5B?<PgF a,(T#pwM(AM%4XXTX)ztHiK,̘Z &,A!?䵞Y?˪w"44 pchTC&h6MQO4]T(|K4goA#xD2hL`Zk>q32č\~gYL 83)\Dm&hwH_6Ȫ@^pvm&+>Dm͔;QD[m =#|'sowH j3Ȯ WmUArf]ʯLPAqeyYK9(Αa 縣 P㎒渣,P' k{D2`qQT\öO8 c'őي(GhpT%OUse"JqPݟKcQMCuK6˦wp][CV y&: up'iv"jb4zrxN^dl$-׌kFug[51|g3LV:U\$ONII:|gWkBJwTW|*AIbQw|'I0dB1P%+_# E-bQHJRWJ2|Uv{m`x+n53cs˾p7JN-=IgDb SrN.-]8EpeFjGϗ2W;`G^}RdDFe>:DFjL>]S1upeĜ}Anξ^z~lо[wqs7k5A:A4GŃl(]T%UuQ|{颀Ţ ]-MH^p,rah%`4j_0m+h(.aFygEX9 q8Z."5m8qGy -oQdYʅAd cTP\xL9G.Gάrf`])v(]G4 a@Rdx dCGX)֖fe+hi`vajfYR[=$޴bYme$T[^H0h.Aztmt "orPsVvR ǩ=Ug[i#̌^C@2 [Hgk"0]^Qѧ>|6iےW$&훈2|tQ;ؤ}c pN77Lh'WdO7\7^2Gm#!?l(nQ7(]lE<% d8 N`J+bh/ àۍCbpi 0 !CfD | 7#ΧH?HPV|S#( BpD 0ᖆ ci885n2߂Àx\4FrtY $B2 9xrf] CI]c;ӎ:uͰ[< uM>]/ZLYi?sٺF@YAZ4cZ!͈Wۥ?aZ!!/CVy4^4x]SqT5M"pxD\7&px\7 m!4ɢJ0r(m!tp[k/Kch irH!\WP {@ƩOeHgEGp2E"99u~cwpƉϑ82.-EV:ׄ27p-ktl')N—5ҟ#9*Dx08)e8^0  oamoXcgxJlU4HoS!/y3qD%ٌ882 !PqD#Մt x2/Pmő~^C*>T ;Cų>$^ءd(R:W` dzd<.z+c.;@^Ti2>-@2oF.-!l|;QYV&oD/Zj>Z⚦]iCx77Lf3 F.*tp;@U4W|Uem$P@h`Xؘx#k } FcXט@a Fp191I'_R8E8sidy%Nw2$" PDD@D Z8$:lfi^s NR,NASNpD_N$ gcpbqv#j;=|h~=\NJWPg A2xtᘽ<, ΅.]8?^$vڇPln'ZlF/Ƿ^ы;6ܨ ,w>^զ}T&>y|;oU_{_O`}Tz Iɜu(EEQFq%!?l(Q7o+]L/ nkEq< ̫ϢQ~T&Ƚߪ÷f_BJq]'iH,} ‹ZT)T.rݥQKS*7Sn=LUكvr3U*lKUqE`=pUvU`pt uK"7S8]8]6 *H>R #u?R8..M}ňّ5h+Y4PiQ*CTEP!!3A%up`/8R{@#%8R#đ*8R"#%8R{@#ł8"~UPgp.Jcq((|왏=zV 8b2OʇPc=`X+KtnTYs6K∮i%58Sd$r.5dnԏ17kjܬ!7iҹYSr3Bnഔ\8Uev))^କġ :%5rF47kenFƋf!7mYs(3M@͙|n&ِ9MܬoXnvM'fz7z,f,ЇY-vL|@a@@聣)G泹kYY-2 gftY-2 h2'~RnTTfE*73YJnfgf ύGl$>w@lw(}jqw\|٤݅Gr3m5Jr[Qq[Qj:l}.Զ[M,'7G+=MyaD+"4jMS|[i$qfgfgS02;%\nEs3(s3-Cn]Xnf%7G+=MyaD+"=f|nfDr3#ٔgv6;b-Y>f=h'9Tm}a#GyaD+"=f|nDr3'=f|nEr].y?f=h CnFp0W|ѣ7 "Yl%٪xnf+Vr3[IfzDs3[rRKf>f<\g-#s.-ҹs3[,'K<7q|Rj-|1j=BcjGY6Jr}&z#7%f; RCTVY'8K-i#zG)Kr=I44i˶$?Un9|7d)dl0? 6Yb=V*Z޶WƦZ]._}y89G/G']y;OGVG׎Z1oI{u՗ZNF?뺊H8m|6_|?㛟~|߼|꧟6x7Y7W_}{].ǣ ݏ-jVڿp>^[`a[It1}_LZ''GW=rxkn^I[ݏ'5ބu׼;.߭6'cNBe&uSipWfcA4Y|ihznM[3K ۭk?c;qYcON`TPzpkn9K5{[PkF(iv,͎9ۅzʃr[gn@|śu:i_IQ'Ooi,ֈpU훯}#nRk ן˛NٗlM"[W/\?Yw1hXtsRۓTH*  !|ogÞ%#Ӈq&b+F=wΫhGt]os ],Z2?NO10'Sۛ=.쎍mmlu"ܭ}$V`nGEʤk!F÷y2a14Α${G?gDng\et/S˦$ºlză8"nq>+d(nF8(Uqls$Ttg~sv2HM xcnH̶8H.2w/x~q)-pWuwg@ 8͎ov 2ןGc$:XG. HMIO ]>)$(Nty$p ;2,+͉lns񏈤䠬P1ׁ)&MlC5OjCWfqfɮ=>sO5GFNP8׿KK{'//(qi~2%e⺊ey|?=Aўa8E[/2S3 Fc&NV>{E=H&xE?HRW+ (ΦǢm"IH"/)d҄$ѻEIwI'F4+kJPAq!j$uO ' $Y^"%+_#x2AԕXHZ'X׶9WV̮.'A7y\N<mB]8(jBz VU|49LsGqy ԯAPI7$03vnGrQ?k:R0l\2`x`g$A6R{i)<)q,ˇ6D$W%)B,I1$Òpi3Am[$Jq$ǒ<Ǜ3 X7H)YgeI LHcI A%) f.H/CPҝ{>!pS>H$ ǒB6V8MZ{JugRFǴ)"K*j+|DU?"Z[e8}\=I]Q *HkzepuU*1yҍMg'ORW<(rk''l' 1޾L/+LUZQQ)j5ΩGrUT&He.I|'ېQ(%i=\K>Sj\z|GYQmasT!AcY֣'+Yj'-8iVQI rSlǫ>|j\|x6Dj79lxuAZ]._}yꗣϓnhھGjX_;jżv-'ӟOf?..u/~WSߦW&˫7_vg~蝈m;Nݑ'cFjdF8cg>ͷnkm1S0lԤLFFl4j{|]p )Ҩ۵.eH&`0E5 HƤ&58';WR2Q|+!(88 1: : ";΋Au$aƷ:ҨdGQڅ"O]:Ty`|]gfiu͞b])\h:E9u>~uy,v͈ޥeZOG;M$["pIN)R2i g$dk*dkT5Ufk:dkڥT #/=2e˜2KmqFV8&ӊgk '$9m~<^1wDU.[STlReFƣek )fkX5J3y2ϓ51'}~ j&SSTEִh%lMfk=h#CFp?c 1Ȏ!F$[3~5S|Qq-Nll _RNl1e%y}<QOӲ54bF&54m} núYcΎ!8q5MN;es 'uZ93VS/@E5-l-"!чlmKq3Cpwn ipT7!78i tZS IPArf? NZ4lekM%5c֚Z4[kC]>dklA܌1uCpT7% nFnVDN Idk8{D5U.[SZ(52xZ"5l núYcΎ!8q7pX7p|dk8 :2ț6i"ٚ.il[ùING:|sS5[.[ٚ{ٚ0l0e@1egʠ)?eЈL42h3e#Np?#N]](@lMtʠySM![{.bZl 3C4>C4'-|N2 4'9mٚN+J"[UlM S5( tMX5#dkl q3Cpwv UP?t~5]>["ٚGfN)ٚ)Iٚyٚ![{.bٚ=dkl q3Cpwv Ք#9 *(Ns~5W>[s"ٚ+ 䓲5-yipZv![dk81n㼳c~dk|$FCt0lʃ ql-IB"/J4[3 fkRBڭCC !y nN%[3Ulٚz/ٚgk YdWti|7U|x6V1ڍdlxu >Vˣϟ?'h<3dyJ>aujvW7]}d_Wl֟n|ϯ޾obdƓ埫oF_?|w?KC磓nڷZn цbpi~19j];> _=zwÍͯf'mpO MxQwunuGmurǓ58 7M#˖dcA4Y|Уiޟ4(e DR>C(_>h![u]>PPǘ8֤e'58Z8F8V္|I )!ec2lpZ|I )SlHِAI!$i‚5'u4oܡKp<c qi^\%=*i^ N Iq 4*i8YdpLi{_gpӊslSDrh !uZ#riGK@E$Eyu L] uvh]d+2=E^zvv? ~ |)/2e1e3e|dkMl:A>[2)-v![dk`XaX=#.-{]8ܟi@p?i8i2 Ll͈fkQfkVova%[A܌1uCpT7% nNe׻`$oͻys;i|k[Jy`O>[ٚ?dkE,[l núYcΎ!8q7ZZ8l wDbZ$P=l-TbR*[BuZA|1$npwn 8t^PB-z`Pl`à;* 䓲5D^>[Sٚ:dkKekꐭQ5aCp5k fM 8i֚Z#5֚dkMlMdk^([#'ek|e5}Xχl-;[A܌1urCYp:m?ٚ)l#[3Ll͊dk\F&Oylfk=ll5Jcg!@v 9Aހ&N'[G%hW!:hrZLcpiݏay|jFo5٬ZOnSG6-hӃjxg;Ǟ}3ǓUe+ 7 75 jmA[8Jh˳4jS>,j,,E'*:ptxu$$WQH\RģGQ z>_8:: W {BOSMǑ,'%h:P=|#j0RMHY{U!Z4d Kԉvݥ%ir`KYz,ۥ~5 ~11 ~SK܅j܅cj݅g(bnuWiXK OYcf(a3\{lˊ]V{l]-Wh3Gm. \,; \,j:ζŖOv?zMu>?_:, &Utx>[MfVoxurt8~9< 9OGVGvt忖bϺN]\i1gŗ?꧟/FM/.M?-7?k{.ǣV^o?G'Wܾ߶kOѧ䨽[WaGQ7I{ߌ'o~&p:m#nuGtld2qxb>L|UU'^Uͩn=r< 3 bM'92X&)2`|d$/N7] <[T}\uVWU8 +Th:j|w:]=i=;՗[QȖ uL#&Lm̶9qt<>1#sZ7DLX˄:BK˔ uMZ u t.˄fHP+}( ZC˄Ze+**˃JTPNqPiPi]TZJkqPiPi]TZ3JwĒ*-5A27Dr3-Cn]r3}(O8\/z聣U)ǧrevq.-28ƽơ,'⧓y X`7]T1 ASBףhw=4Q ii O1 tTv>8 t! $dvj8E Z)7p+J.Z1HІZeH9+joVd~%}⹶ol#{5Wox mzW?:?9۟[J}gD)h09zn"Z˓owi74UDMW0s*=W;6y拳ѬkGauevp6s9d6C9o`Pq3+T s]p$P8Emz$N1ᝢx[K}).دM#m?޴7k zj5ӈymGA6)*RKAhITo%:KAEjU$*KȬ8€JVDXJ1d#5A[Dr*TwTxt*BtJk~**b* K7S6nfh(ӸQ"ܱ)Ss:(^gF8."󹥘>YD[%-Gw"+.Ex]Z8G'8EX6O D=Ɖ hHqvۥx&*(M:Ä0°0E[%WE>? KE{uSt}t?I1+'>L1>L1ThXMMe8LeLU[ x0:;:*fqvS)&]#jDA@MyP#jjLwrԛ"L2>ݚxٗ۔ҩ*6)*4A/G&ϖ Y'Kzpthi0_fol~|3 VcِIR:SDzQԮmRDziX6 v,@>ݎe1iHk}5 .1>~GܩGO?Mf'/cN6褽tO!;Ҍ{hS[mr#+{Zm1'b|8??O~km;'߻<] ^H| \} yxc4ߟ}%2no~^1|lqB_t004Z .F_d$;|\WVN|}XS놶|k_5:Lӭgw_ 'jxunjlNs!u]r" 'b'ܰx'ջ+Z G,w+'by@˛`wa˯thk˯n+b5mX~hݶ!bFhբ]VַG(y"+ Fx]Aƈ tad#VW>KĊ v'o+"'|$*U=X`EZ#b3buV}:HXbX'kiFx0"[ jlĪ׫;5b="VY(břO"bCmnjޕXQ1bE'Q)ZcEjV}"ZiDhRkK=+b5Xjj#VkU@+*؝hP"V-EfXG'qDcY٣< t#V34~7#Vk< 1bE#'bEDWr=وTv;EXzC-;)ֻz2~xGX}[wWY|ěeѬ} U|\a~~bƚ◎E_lk_S=5_056ߢ#{`t6^nvS$j,KU'Pi @j,]b8]bJj8:ebƲⴉꆠ6G t'(]gmAۂ:-mA馣 JYvsPN 5H7=HY<0Da*jj:Sѓ:U|q8tm:7U]]]8g|pxpx.wt!_$wQ|wI]*^w%Qw%]w%_wU2J2J2J2|Ո]xjwwm;snvkh'ڣj[ѩk= u'4ڣl9n#YQWC'ڣ`V{\+ []n~5;iCżޛ鴍8ӱѓMW1x2UUxU5n7rl4&F4{d[YzEו`du#"%O02ښ@t#c_9`śLvM&[dELVddJЙ.[Yl[.5]Y&#*2iT&4LmnBߘ7ON32ucOi8I(eB5*T&4ԽIeGU&FLP&80'ApӚrls3K=UK,ps3kr3!7ҠikAM['N4m go6acN,GU,L5JI2 4)j*ȅ`Z( t:iÛW[Uw5rwmO޾"oX1~nX[V%mMWrm_7/kv=W_.[|~~gP#w-]0~[ &\MdDky~B# ,+{s88/[̯.yxNgGFg;W5}oy!7czBҥ5pJ&ޥJy`+*y@]D|OdG-|ЀYp $.Y3(.;\Fw|gOӥJ2cFv#ЍO7BלҊT0f2UsEcy\hB<٦ґ1 ff@ϧh+"yOͧM4.F$6ɴMmdڊ$Ӷ)֥3͉-F-u0Ig1C&5 t7@whm}#rzA ǖg-| %h᫷.—nq߿"  v|(6|-Irf P:xt>0@| J(t>&]8P>:;T١jt)̒Z()t N)F&'h+)q =N)FLCM *H.t 1*A헣gom~8[٭Oe &t~7s@+D2ˠ$iz4Axu~.R4Ahwt,If /ek{Ժ'&1Ydt} {ZHKL0#0?m)-6y_=ZPE|_-?nϓ@u/ϻ|=t#Wxc4ߟ}%2no~^:-M Ob}_^NfLrپC1_ty5kVKgu0~Ao{n귽jŢϟZ7[9gq߿`n%?rf8?Wώƫ_}ܷ}߯wSguRޞD ;S,bED,;bD#VzW8b:Y`{pUKcu cuҟ9jOd՗ԺpX\K,O4bv+=bEXQA?5l#Vl"VFf"Ckݲêm/Wwkj6랏xݰt8OR{RY~.VOɠ>^Vx 3x.t<^O' =p/~ "([dt6^nvsj,SQ|!q8pt&D,b8bE ߩ?UA ԧb~>_˾u]ݪܥ+JT銾+]g\✥ztїt,SQ|UW+t82pFlwtwDl':H5t-jZ>uTWAq_M\R] ~SeK){ MGNNENt: ] n:z0]g]i*H=]MK.Wwm;ZlhxG X #~+C]{݈:`SObGg-d?27t{8 >u5t?ERmVfjv7yyӏ/7E݅iqv;c'cd⫪:jNp> 3 bM'9N*)2Z`|dԽ`ibdMnd-E\u6⫫pQv]c(e 2` v Rq U+bQ wK l[ߘ7ON32ucOi8[_&tNeSQ)eB7HʄnKLUw(٥Vkh`jP; ZL[l[Zh-6wb(]8*#2{Q%v"nU.7Sz͚ꐛ=hZ*7k%7=Ly!a`ܵ GK$7a`\A`|Qa|DF=>9d)*f@0hO-|U9*S, V2 A=4Јs8.R'AWC=S]ng)ڊޛ-A\POSF?OfO+1so qm2^Ⱦoڿy\g7٫/x?}3Hh#49]|On-o3"4kzr=7Jcy2{? ݮ4yM !"ܱw8gYRo%lllwYϾA-3{z3!E[6NG!p- .3h+bD /htmFjFwdVNȐ!k C@]HTwy+/Tw}Sm0rM:Ymm9혜%tN8])F|I$["0rcGQ\RM:Uҥ|om?x<[~SOgr+t|}d44/q}_8?#=PcD;1v,]%:PXJcCrGDzmA=Z_ n̵SN6>x;_ƜfmOI{[O1)8| Cҷ.g6xHC/}zXŗ|_-?nϓ@u/ϻ|=t#W߾ۯ/:%?i˗?Kd?t߽u:Z;>[+FFK֙}c烋j>쭖~`##NkgJCmw[],kuC[y}v&ݏV/o5h}j}7{6Y'eNt`jWXQAS,bED,'|q G,CX>O4b_}UMɈl)JO2a'zh2ɥCXf=/D#VA"sĊV%#VTs"֕z"u{8W4bE cĊO8b9sX˙˙mZr?݈>XpX˭'ܚ7X#OܚPrkR'Bdz+Tx "Vh̓X~CUc̈ Rc46O4bWKc]G:xl+>و> /#VjѮ`TP+J7O+h ++bӌXM5Y"VfZ+)(tD"V{:<zSF^t:X|3 W!bGwZ+bXQSA7QX+8c1F֠'ag8D"NnhզI#")̈,]Y;! ӿb>O#9/FTQ"^SD!&?tS|o ]f7nXGM> izkяv\?ꃯ}A~/~Yb>>_֯˃//[ FjTQMл[T0SbScaD RS 䩩v*"4L\mGێ:-ԧb~>_Hup`p`6wџtcNKr ~':]8wJn::wβ$$* xT: K:|F$RPIa %pYw]/֩(^B]/n:teWEuUc5~k𹫆!hH7|vDj+uWP뮠$ꮠ뮠뮠]A]!!N$Ӊ}7h6oɑ6Sw$s.ԥF&NIfdL] "h}EhL֜C`QA1ZN0xH@հfDh¤I2a@=1{!jv-7ufA_%U*:pSVPӎŗVQzjY?`Y}VU꫽j)+=Ծy" $ձ [TO5Xa<`. q`o V>>`-d<v<+`͓̰Q']jڔ\%)(wfit2Cl0^|i⒨pf=왕W=`Z8*HVQT^p`^|]2hE )?كU( ʵ'#[rQǮVc<`֝WCJVeZ5 VQPnle^.]YE*VV~h 1.XE]`[>sU+}\ ,ŗXDg ,P7ʊ9XEZ\eit CS VC`06|>wc Vў VjwpV[0ھCboőkڎ[1:92,xuOwȧ7\MN"O=|whRwtEeyK 95dd>эƲ!:i 8 |gg%w9obfMt fRdYӅo"Kwu1eEy?X6,:D.aFNgYFNEqFN(vQQ;Mggw ϸ܅?s -]pJrxXctWT_FrxXss-]5%kld,ɨSQ|QEtQQxQxjgLjgljmh*,#]fyG~l;oeŖwtayǃv;:M۲,pJp{Gg;׊w]2xe MxQwatFd&}$.-w]wuU+XRa2tO> go6acN,GUTkj Ȁ@]S@s'jEiVn}*j!ҽ,7BIꊷ4>O&p 'L,Ni8 lh?FtG$# g⸮8]@qW=$1E) \[q H.~ 9X\Un98A ʧ A A4a:"Y|P3  d; 9teEOROD 4 htނm c!329; Gk'\F%H1")Gkq$)\&M->5u֪%HG:&wD ej:a6.t [xmej(aa5UINgnQE#&(+~rkDeJJPVjDꭆZovX]#rk %`fx#4Lhy1= /F.])A=dzd|H;,jx \~;g[V_oT77'ϯ螯[o:yU=<c{.fWox u=B[sϮ_{o[J}gDOc|+$L䰹ǁ4Z`9gPH,c,e"^K ,`&c"0.s*Vր)CنPxn,8lzSfFt$ԁ aee89Ӕ8 *wd98DIRWDe$'Q?fWFoeUP܃CgHu'8)=R<g+cpOqSp2rC\e ^d$(;Ei;N|Fr#htގm!SQ\QcNrF?q8Y$j!sDT$Fp 3Lfy(ih:F,9uÈyɰSQTQCgŃUOq~*sXNTp8YUD8ME8Ypªl /Lggj6^JZ㠻OOgƿ ꍶ6◭s lo.?Nfϯ?>Z~tt>fVh;O x^3&}N&QVCr}u'~8ڧh˛_;Q/Lojchyקg?_t_" =_)_&o[~\~hɗ卫NJ}>m3fO4?wɧ"Ttttuj`9^L/WK|/k-/^r $zjq&%Ԓ&Y~{z2EXܛǗGq,=8H\TC}#Nz2,7h3o<,׋u佮M*Ď/"\O&،~iz2$ H\Tvד))^np[|3mS?Q"[O&Y[D[D M 9Z7~Dഞ 1|3Ȋ4`1 \FCtfKZt[D:7D {m#XOͱlYNi'a(s sqeI"\O6cplDd=L4{*YvMi(Ṩ$TSF4Y"47pY247\ԒC wD(Tw+\_+*s1/x?}3Hښ{vu~rݫ?}  㷼πЈcݿ2jd^i{6{ǥ1 5PQ:F^&S [/Y0#@1l L[܃7_"ൗ0A ~d^ ʷ|F-"QxTUJBu*9HY MuMQDIȘb@ԥ)T\$Eyy[=_n{Qϵi7U_mqEk֢?t ןD ?l1mÇŗ,e<:?^ƫ _I\kt7rDhn#~zrn7Ï'|׏ۻ|>ko/tt>f$VIG Qp^3&}N&QTVr}pv'G#7򯝨htӳ/O/ㆆ Ѥ=_)_&o[~\~h%ɗ卫N}>m3fO4?wɧ"matttuj`9^L/W|/kO^0g]3MRWHF` lB=IbXg^Ű |H 1*^z(Kq%*0p@np4.ETh[蠶"]$qܢp-uQ [ܣ±ZpH-ppm$^lVUEu [LlQ*5Kq%Om)!0plD^ndf!wH3MP tC"8\E&|HTS28KmJH,ћHYj˷D0E!Ƌ++NA*:g++U"QEbhE5V*HA+JvM.PTxYE΋Y}l՟~?AB}ܳ^[@`-p~F?yπ" Ȫ$ (0 Ⴖ6 :&(`kqy gpSMNǰmΞd{S!Ksk*p7tToL^ͰKyv 7u.F曎QCFt {gpShj7 Y2%a=!b6 yJ1nF~CA]{b>DLD O.kx|7MBi4`$XL]ء\ .kt4R1k'\jKidnZi 3>3$TryRqZiWjy ?`[?wYןnv!(zex7W~ک?f} X:jʋ^Xjʋ8W-szQ΋I aIꊏ{j0zq8IMY_N^85qn/rH$_(QNЕ5z#ǣqr|HPhˋ8CWd^.™H.Q8$ Jb4:N7g뢸gh~Xq|B8!AJ(AY:"9I+énQSnR5NE=f8VsD |-92VU Y(ɈIUe;'C#9 g*cFh,E"NT"z|SQ\]qז"FNX\`M|KlўZ^% 嫣 Rjun:z| r!5of+_y!${zaV}WM S]rAjz-^uO5_HτJtǾ\b@2a!l㔟g( \*+͐g5=SnW#). RҲ,Y%K+9A\6UJF^P RL3jZ.咠RJ!SH+!CVP)%eE/9Q|F)elFV2X[ YN!CFQKp]*,y2YHۏPs%8̓^=5vILڌZL.3^n]LypߢjzJ,-7Uǣ. F~n'"Dxk[j0}LZֱsݑ 35HkQϿz'uZS{@œG/6u݆c96L1}S̯DC[AXB{Sw` bЮ@m?C@w4 V%~]K%v 9Jy6;L P> ։GW-> fo9++CxIo:aPftE2LQ*85^$x%Myp{-d5j#IF49u-›g7VoY٠`6Ȣn{N@HT|lX}zI5]}n)# )11+PLjM\1?{TsQ ʛW`xoU1=]4@3Az@*(3c4*{r~ңЩX|wEP$hFt9\u΀J zgdZ$RCX- Im# іS6Pti:1FjQ+ ByIWhDiA1jޤE9٠7.57]}Z@ށ__ )67hAMGX=pՎe|&D"O ̐@~~Y-R_e MiIdA斤:ݱF6LvhO y {$(z&MQ {&b)ܐ-! R#"# ,bD9#ֆ &ba0鈅(b{=[E1eXB]eg\Xm1U̷XxsU..3c5w8"V*GM!4iBncacKw`*gm{b!A;XXcm[} {s,U,bE2ne*㎴{bX~P6X~0Ob;XLvp-#YًW/ yyg(=bm[E,l`{ϱ]A"!hGw.*b?{bC;X#ck݅F/|=;>VITX8m#G "U}XF5mJ<%*8N VYww ~k u;_/^4BeX|T]Y]W>0Ib\hMLX^gP }c;KadTc)ۺ)*')6V/læ2=^MR~WBz4a#6M˷i;F>4.I~4?ԯُkP$/+s"#4 azK_W)ZXklGmꚺبŊs+D _=9pcơMvaz_$oDKR] #9:rUo=ϒӘMwj;E nvMjK/d774\JZ5yFlJ j$jtZI_ 2vܚ2'd85WxQ0?0Ȕ&Bd&G^1j q~{lj4;'bWXXs(lyfd-w["L &l;ۋ4T^YX]ZX'TV;[1)NN{7ܥx0_/+Upmj^ESA2DZ~u6"b/{dnG~|'V`H:DOo",r`XcqBm4֦aoO6,O?4X;DB0jGiD#k@c#q(]7juZm~_iC;h);`[J%q%n9}OwPHRJc%1  ~P'm`F%J s9w:E[RRl)F8"tPQ ؎*Bpl;m0hP2%&fv\*7}Q@Ӱi&q[eUE_sp(&&K$ސӅ#0 ?~"K҄b'A03!/uȵb!lIPr-JY%Z +څ06M{t'j[ :c{NR;#9'ĬPKߔͧ,ˏx{Ro+{W!A)K̑V3O&axԇwB)Jv< ~(.mNzl04&lNkj~ݪ_]BW\}r~|87z30gKH SFP8ި'av\hp:`.Amx|60NksF.T]ete>'o0dh, Dq?sznׄAپ LxsA:suNDZ<"D,4|$5a5WQ^-zCicѮ/8LbY.DnM z@fi?Nz^M|F7}?[^6u+lM 4&+*AuE5ZxɤHg[;!\Ab:fZf@T nW1Cp;\36s$pw9] lr(o.nmS|J,3.L^@2t,n,33myK!m} (Ͽ%ep tfl^MLu)LaDǀ,i{d/K`z 1 " rAWZFdQMDm2kvqVfB3R1k@d&F㪑q~,J*\qO#`N;KvBf\i'd;Yu'uɶw <Ѕ'r :PϺp{֙CN.kD88*DYRdIfٷnbThnĒHBu\N'a" hxQm(:XCsA MMoqf銺ͣ}聉 73̰lc2lqhj`>=5((d#g,-V,B6^7̧m,vʕja&jp|kbvP:D h5 &݈[ 3b۫ӿY8~ MOo*o);YB!lAd7ՁU+%HQ-w_sOW߮kŏ\|{^ IrUI:m򄼘I7$v$I\ ͉ۓZ '/YQ T\j'uQkWȼ9J &CC(( `zv|8#\zk:U`CrbY$pAy"+qx^$S^R?I%EQ-%= :P n4/Iٿ :#ۨkTqj0;vRzvH_*oaQ~|x2KN\y>Cj!m a>CC`F=7жeJ~e$W)*f,d9;>s<qՌ~axÃԛtto^Dg} a=^rbHICQz;E(UTwEi h1GqEf:*%elA@;m76|77O&FVQp1b13 DCaS]s6H[@ e!]~cuKǏ&fq >OB>;OKVum壤i. Y*rQL> ~0+ ʼnSG&| LMpWaV w<{ G/4\5_5Sb(-(sݥ^w! "Rnb-{Mh ޏqXEcͅ=0AVѣ,W8Ծ1]ѬI ` 1iEBj.R<1h%c!_[.$Z8O2ꦀ,έMjaph ެa2iXC@ ;GOO$3zvFB| u>E׋}ؾ pU(KlbTO\y0!RjZ"=>Ox'fB t1ȟ$)YE91\K P_QwճZl&1AL)OJWR"U5k@ LO&Yҙ+]Xb:TdB &'ƒe?(!0&xmQ6uδx7v%89GIJֆ^ J|Ls'ϖ-^jd2hEe|3볫4vlZ$uAwpq{u~`px00ՕwT4շX-J19[J8w[# E/#{5w'rzV9uy{&\r}vJ9FY1ڲP'SXta27ȣuGI6La(<` mYf< RO֔ x27H.Tq9,bp7ge=4aM4*8LfEd3< gF5g#m UuI}f"|u }xwqdCm+2O_Eyt;AmOɪ3+߳|6~}SH W$7$^ ڿrߏ\X|xfy N&tD[T]h_+Ê(r%Qv'9*| kܚ;.s0? \0}>/hFX3laq,o j62*S+TUlx$īgIO|Ӌ jFt=+^v *,$EIaB\./:$x@Ɨ[fcaPdoc[ʅ(\^_(I2I&Iݶ[v׶ .Li3n 3>q>QC轢@\/(xAW|#"sf&&i3tuSeLf};|IuKHtMKtGaK%܋)gVy3mrkfFp)4%餹Vpp+ {@ݲj&kI$z[޸َ{Gy=dBd*y+93z^Cwʸj8_W LtLrDWQKꡪAlyE uQ²,>GZ{k"1 UXnE;"v \42v@sE-vu 2ԸebTvl1sTGrlV$qd/LT"XKHU`# mXiSi9%1wcv7T#њPdhCEsExΊZܽ;:5ոϨ-h -ѣv7J Gů(1|ս;)w԰w'ػӇ@;CZİ]a;jY.u$f3`+wo"vA8EdN;~t :AP]:` zCGɖ)_j۠k8WJޞ rJ-z1kv 2+*ض8 iF ;ڵ c)wa"rR)6_Du?sE& 꺵x[)TOPu*cj( ZQLpy#ސ`Z{P賔%{l nŏHR6UpKQR*w߾# 'h; x1xzӋNI\P'urA\P'ϓ I*OO!d'U&Զb&hNLP J}',\onǣɆO0VZ Gj._(9ߋ^P,!*HEtM<Fd457~H]f &D_/I FXeO}~B9LfG? i6+YB[/Iʝ?OK_[BnP IhhhhhhߠQ^Iy5ܩDԼѬac]q]#iȿ@GdmGG7\kN+}c 6nkFct|deI:`餛:?'mNpvz3Rw3mwP%o\;]뚖ntrj4yZIoKpk5b& 6E'o0{uƾU7!'EL24agܡ@s{ΞԱx􈆪q܂Rxx.H9IDc$ؗY^"2|j\ ];40g}NdD4m6!jh35Yk#K,#'=Yۆo&ON}A$`h3e VrT6Aϒ@)vᘺE)jT{z폸O&Dž_Z3ngtQbi01|4ZPE&Nf4qS)uFtd-R5h K^ ;>#.6cѩf M_J#ݽԅʍ@:s؞+js=ǐS]K?1WSEvEr 2Vfegvp;>{ӎ14%{ٳQ $^]oT զ9~4Sp`&5?=݇LG o+15>[wg;.;T-"?aK~#RE?s&_e񟶬?s[5ls]ޒ|ԬϏ#{ T$I؇7-h|B934wZ;IU8E ulZkQcM zX-9dA7iyZw6$.GKR,Ad4(<;FG\u?ޅl1@zVG-&EU VA/ꚩ[zIːx&fyX(ĉYqul)AmF9bmmm^9Ag.ѡ81ӴFd O/gqY>jçJӇM C3k,} pK*dFa*zYBk&5#(hǨ͌F͌B^,rb\>`!4 C4B@d( ŭH>xz/PhZQspQjeR{~ZϯRI4J=Wm5.QH~TD=78rg0^}?FE<#;1,ӧ5xv^rdjkg'SkkLxvdjsYV+N6ۺvdpqdec'S/_<$c^8v+$=Bx"I+c (0z`ucR-O%i)Q;vIjűKR+q]RМjD}3z49a3zԷ~lذjU@DMȃ{Ø!c?% 5N:|FJ~GJNɳm9o980 LѿvjUQuf'Nuv|vlLN/gc`*NJP@g#~9:d4}TO丁p6JΏEՙ8_7o;헳1S+:Ts,r6v,t R"Ki6פ\b?n6Begc48K5ڱTYfHPƎڜ.YjLQq6lFr6vPUg6z┏ĜuLg*Rؚ|@+IVIR2ne0;&1Fe`+:.o,:q,l1[Ht1֩[.)le\_g6%=Ri6hTc=+X,&FFGd2i"q*5M Tq{ T jF1E Z' 9E `j'btbacd1L0t,UK$ŽK(: \AEj\ossb# CÜZ@9 |}m:UVۏ _S941%^* M B?$M9 Y#t3 )V{TznZetO@[ah0tC, tv1tDk YKtSTӛ n2UA`"6p2Լbi*WS 3tvqg@2ʸI' ݌j G:UZRf~z^-Y9Zŀӳb@+ @E>Qng8g(Y wl$M7jP8M 䂲eaċN{fzHez~(4tLQDS=nF9p!M7\zFFbɄh K,BYTtE/5I7}tcN)j&E(-?-(Kb&bH,(d̐XrgЉ8ͥ dEi ŀ4SE)tKJ^IJJh%FJJ_$9"|SI;J'OŒwNlCURs&Jxf<h,)91pg?R%ubIXC8 ȎJjM>bIH8(UPI[IS[%mST0OaRI}Jb?R%ut Jv$&䣕~"J9]$ut JQI磕$k%Ib-11-9M%h%HXt* rOXJbQI1XVUR,`+s_ g%:VR[k`|LhA>d%ϣ>H 4%fZvFA_Z Ӳ*hYQ^I 7zb0$Xi;8>0&|؋݁ii?V6ռZퟺ¸q7}v++nDn l= Ŕ0Zž/Lٴx*&|4>D9-xHqa^s 5g%\ו,i(`}E5~sHށb㙙φgfPLB 0U|8p q>YӅwh)O3zG0xېfBˁDA vɹ. lBu1 -暓:cS%=馁 MxË U1_OBl\Q#YQ]ݫhhլf5{[J&El0,ElC_Ya1'fy]s}OB]tOb9-[6 [Z;Lp ⬱w΅+Cc1U44] ;NW'^Pj(洡!X.̨{=eWsث9 |jwv- 9gvWa 3(i2}@a!|V?žG]Z{>kd5M0U}Mc [lbG5UqB=aT,Rj9Fdy18a;W3 h—-aPO/#z X' nr1^Yu\JΆHNa H4n{T!=Ʋo9* "fn gʆ0a6LKu&\; ہhB!gԫ#^ y5y$;FGQD)nh%AyhtS5s 2(0$tb?r!Mti>מZ7R)ɔU6Ü3=<<#Z##8뤈b6hdlӶ |g&s5x*0^.I ]Gюf 8ql0PpyUP+#]yǭS.X3 <<%GTpcB ӌaP"$@I{[ p!%}qs" +jM2DsZgS`ZZH߫VXiiJ014 ֖ hgE` 0BYP *ŪDb^14L|\;AN  v''Rʑ$BˑW6ȑ4d즍D7 A G.r4E=ɹG"Ԟ%QbN.1`b]>+DRtJixUӽ|\bW~a `bUtgJCyHtDrf"tv'"K1 {R d rL/Aq> ^l{gRinM2 i*r\Q>r+N$MnOou$:*s8@ȽMpI*#aW-!L $~j?Y)dH+lI L`ĝ`;sOls_qy2$6xJS<%OH4{\+f9`:@|ef dP#l4K9"10'#eJa`]2>dBNF>Qd5*CA dd4+m%M$1XG`Q,' 6<#$x 1^ȱKxq8.d˾g&H`E#;Wyݤ !z!XxUW(^} UXI)(b2"b 5%D"VUUPLWQ%Jj0CBAz'g,Ymwlq"T@* *1$ w"[&yKkg+|Q&J*Hlr|.#'-L%)ߝ= B1&n B" ͑YV:m9ؽ-*t;9u%H#}fR`aU 8=B4J +abkpZZlS rnļi' yf<x=q^Q3o[ r`bsUxgUǞD86w%R`aQlhT6Xx4D( nH ,|68DQKj,bRCQT Q<ƋY\4O(3+h̬=IG( R)cߘ=udy; &Y\mJ7s6F; ·sfjKy ꦘ 2x&1|k(prhJ[! $65x_X=,HO/:V, $N?f׉~!Ψ@b$i %C#~!Ψ ""ix @LJQixw J;F01ՉHsODA2fQYDG (CLA3N d ӁHGYUH:ʮΜ@[U)BQ;~xf s>Gߣyi)h^ZbP& ^EAD(p`Jh]ۈEp,,o5"#, ":G[C40^K  G[^g=bb!xN#) u^Lcn\둀ֺW_Lc5ؽf錉uffbV1J1 uֺA7hY:8::o0:vc+f_L sÉp\G4ۻX^2vwvygO =I8.#pLaMJ n9qd.NT?|wb7Wcw`|WgQ8"#^Xwbh3y ]bb$©"g7!,{DL"cB(,a>H0x=+kYc >'0&*Lac}|{0 3 s:`Nb(QhBPP-eFk icN%<" (Qw5yDs?D)=UK=0 @ kțs8#b1hĝ=%KFxc Rr3g&P_PC9:] k1 ՂUw~BIۋxn/:L $FܹYR$uCwln)UrIXf UTuAE(DB\Q _زuhcD!/jLTeX AWS ߗ`$H?yfAu>l ČdivfTݐ wFbJ9X)AT(X|s^ qyf?*t'yLLbM|QQptQncA)3) $gR4Kq(8&AQ`ak9&[saM1@s9&Rw[31iU*fڦ{D{h> /fb)oasf.3—qT\Wm{g\ !zGe=zfȔI:Q $sQxA) F@IR&Rup kz'e XE@ :ua^ZaӤcŀq1IGrhYH 5dQ2PN(Xkkx%Q` x`a"!k|+l^1a (/^iu{N-%-H _iQ,x R <3 ޗY!jʱgCY=qU#62`*>sS;ڷ?@{;Y^zD):g,Pa: ^:+WuEW%1nfv7!Xژ^IX^a )'. 1x%F]~cΜ@sO5D8DA8U{4@ [h` ǚch 6-@I1& K1>|6ŋs8AlH2 ރa')1V8  qdZkX/}?3&.^ȓ,re_Y5& /Jv %,,cnk-qh?kPX|.`1^)pH$Z%XPH~PXEJ+yS| ^H(>&_b.U͌,^ %((x;&Ff=(ƞD^g(8bX(݊`ipSR<!gə =DR,ҞsoY( ~W=1GA3v &Z[4c(neQ`bP J,X)E9,1Ϣ5Sw|Ojպ`^59U,(&`` *u0zfGR}iG*Vp*Mh1o ReKiIqiak0s8M_<)1z zQLKZJ=39'|'7JgrO 8;ӂ8']='X{' מ$-{h%` ~0M x˟Y.È?X_Y(XXe 3߰wKJF$E/^1Ϻ@oęJ@ۨ=b=: @j<q}3\$ p9L`O_sG"Ëk3'g>We9-C0렘g] ęO[J@|Gҳ"g-J@wYfx!*v_A=NQZ ˜z<$BTH8 2:dP: ,dJX?*Bx<&a$L]cIK 4c8);X9wdΥ≔̃h0E=%Ҡ6s@" ietr#rPuV#yK t#|m?]-(dR0)0*ٖP|McI~{y'8rm^nG1A=r og9/ޞxp@ CO 9CD r K툶 a_+l-gh_KeU%L&RZ6-)$$'*Xx3ئmBs8RMk2XSޞŢVa\`^ EE5uk0>) hYuVC/-,Ԣ`0!=JP/}&# q #ْCwln" m^cQxM5ACU,L[վ"zAwGl:1B~=F\izԋB2%lV-C25r==f/F kY(B%0  zP1 Qȣ. 3*lQеzҧ}jJ^ %c!̺X?^Z ˉ"k^k&?w6ǫ o2O5*+SULnn8ӣTvB "-3Ke!U1pf^ ^*L&SLp84N'aJYև}^zIDf,eWXЬ#\-/la@UsW] R8b *Á,J?A  Cl\CS  )\\ڿ0K=^3U#8nFT8Fj/@F/"EV_B5Ia|=XM"Ijd$&Iۚ$D't!Kl dJV$԰tOl%Rh>j:O[OX~)&oLIG퟊z>ODWT3Y7'{0fZgJ:OpSoS43eEkϖXku)h_ A%PX Ҝ()K'J >%eup~ HWꀰPN"iCĻi!Rw)HC MXuGj Ҝj ҲkcFA+"GqJ&6G6/*ZQЊ3 .]92UKԋEf,vrgֱeGz.m1Uc^5)a\t 7T )M;ƦIcq:2J>_5*cS 's=DhDDn _miAaҍd Hr&H_2{F!'.V,6k2`pvnG)Kq@slVAm`R6 ԅʬw4pq~budVL;cFb:&_s#euV)筝HɹPYIبy[402*3]c8qdAl0EB6)L/<_6 :{(~ih$2=UCˈq?jOY>f ;e~A,PtPJbȝ]OB^.!q\p9ߟEH I;N<;*Zn`3%M\ȩZ1 LtLrDW)9:myŮ Usf:Ʋ,>Gltݭȳ@|#ö؝׊x9Ƌ1`kظFsNETTl.cF*&kJ`iPbm㨘uJUH\}r%y4<>mRʎT15 w/#&vFs/ AXp,!C*) tyy8ahpWe_Z'Yu+sDo9xFbEEX#U"`2b۔l߰nb)Z F&hT Hqq~=q^ig.^B e^1;6}$B". 4~X>hRhLuۄ) 0$Ai=yLTAe7eI)xykAKɣe6cE9!M·f*{pRIWDE"NC2J-4*g BFI0+(OJwϭ;Pu!MU u}Bp{]!؃챌uI` &xUá~Eb쩽*fyŹᢱ|5~*iRR-t9T{ÛUID)YVu^fyڕ~Niˡ/:|ZE>d4 5QtMpkչ\+aVoIMuU#˘\&TT Z !MINi'7mWpeyl:{(h= ȵ&Ѭ45b3g7--V4U)Q!mDq$wՄz-]`n<1T͉DB0 w{eƿg,5vImJPKQͷeɘrj5|!_6D5Ġsum DhHT@+@|WX%GHު [mRR 8$t trBx< ɶҞ9G3R3ɖ_D 9bOC-.򍈉z1[`as~J R1|r$hHr "{Z Ҽp%bأ%\tFJ\Ma9y(2e /qɭA5TTgЇ.5sV!ς7q8M& )! ͞d9"D DxJ?e\#Tz}C'O>,%l߱qY>ݡpxWl00i(ESWɇcBwβJ‚uc.<9 ]7U1keqN՞  _['hH=ͯvv&Jju} m[`Tb#FѲKݦ`2YJBqr޲ yw*.lCZ7:2ȯ&Y`3V3ݢ,4^g3zخ\ʼbtzȺQo6yCc wWr=kɋlvSs+KzC Z ȆzZa)9ĺqߐ{;dHrPz'Jkw)hl^pF6ҥ{Һ4:z~VP-ЫOH-3li%# ='2WuT,Yf ylآ^YѨ &* C~Mq,9ruܾ,ft6H8.h-709H*#tkcJ{ HqV'JW#.7:4Gj&;fElЄ1Do U|$mNͮO$)z{3n=qzRnuwHV`s2"JwyqukBY盦t%w!;Ji<7ᛉR2s 2_J WOH-v+r܈Vgk®A34`Ӭ鲑_yXF4}ngjRbiV[S*9/fr+ )kX ZJg"wYg#ɐ0,'cM;+r~eV_YkE- ]7nSlj[5D&ŰUQ%-nF뻑%=MOW.zPdWn,#Ou.Tu\_4mECRȖ^Dw7(+֌nYz`cU̦߷g~㊚ AX\n­ ,"ѵS*]{ps62J5UyUu|n6}tts"9mDO%dV|dc0i7t.(ZB1:1ZY[ov*iVxZjq^3"Y7q{P-51wu(`hSݍ}$ kvMA52+[X{W㩓~^UV~ SC;H dRZnYg(aXj^F~L\k/ xsGdk;+m;a\7#;C\I"3b+[b&ʅb,Ñ$>š_7ޝuf7ڝ9J/p–~e 8"P0V~uܧ8f'[9%FfgUkP:ଽƾU7̕!X&N3N@s;Ξy#x7D/5ـ|_%[ti2COuB9 !80b_KKdAz{Ȑv&;uj9<}k h"+JP\GS4YkjhM'=Yۆ7aM,vqCaA$`h38 Yv  yM GӝT Lբ:@E٘/]ݥ5nS#QL-vIq^̃ZO ,?`ڿa41Hgb0L )An,9% R k=-*#Z!R")Y+ZQ6Uі7$"%"E1"8j% Mx-Qc͇xXlX(|W&`!$B!FAV)A (t\Ʌ6 ZH4Mg4`9JH':Y9mʡW3Gș@97f,G"G"ّdI[L-4P*gGc B&r# r+%Y\ 47yn0εb,MAepF3% n:3eMpXY 9F@G[m)1^)zwjNETpUN)|I]C3&TRČ9/m'*u起x3Dއ8Yr. B o#AUY %bQZ*uc!ޝɬV@BsbAe;}#9=Ong7l­j O8|}eZPA x&:˅s2PXٔz$U fxv9} 3FnٝߛԸIih-G<6ǚŪf5MFj5`(tSY<6ܥr9z˜O'K=#8)KG,E_?2B],9,cMӏǍnJ#h[sX&pKp&8Zjŋ ܎邒ѠhZ"ě-FVŤ /E]3uK/iYL9>e81>m5yl(m0⪣f7%;p"DDM%<&e!*9L r^6`Hi{1|TN%ZЭc|Ԅ{oz? Q/ ^jyIORω=~[ \}?*~r}{}'߇x/~:FO^:!H5IsW_ O裡In~RO֞R)jOQ1>eY1&) R<=~:#&O*E!kõXCʣkH;b iz[!M_!֐*{!M_V MYPCZw5 5fz Mtp7u/xV rZu(=6Pʑ꘧$Ghy@r?P/9jPj=ˡ#^TPQjá􀖟C)Gc%4,G-H^Vf~޲2}?NR-^(#ó󂖳g'KJoYUsd:%jֵK$IZc'ѧ|q$jeűV\=K߲ű[a_rz41Z/:v˸9v+0<8t5.4]ޚT3vUl6q·C c~UۋB D$Fq']PFql .DqfQ$p~9:Q2tr*8SUEՙ8c'p'8rQ_Eՙ8c'p' 8sMӝ:U٘18Dq%st\nc'p'݉4K2iHqHlLF$#(NsIF:g3FE&(NsIFIg6$_ImldDzJ&&]Da1LO{B`%Y.!{:tFzzts' ШS39 N =*@c"tm*B'*@U"t" ,@W"t\0<,=4eD0:@AmHEd`L%Pt)qCϖ32e,hy\$zzQ(YNBs0h^P `E(shfyƴ_!ΪTS I5ϖ%.ؙVXJ1sU>L|.)yP)}\IQ@:%|hNX]&ݩNn"mSm'Uj dР[A4 =>`cԜ.J%:*E%%;7 ޓJ%AJ %mӒ ]PIR_$ӞE[R$HGU{?X:i ?$9ng)H3֎JjM>ɦd慉N%UPIjCmAڡ:PTRʿ퉩B WIUR%8$co{o*iJJ{g*9¡9];!4cRI5K7֡QIiHsUR:2N_t LWE%Щ$@[UPI6KC:*)XtxE%]TR9D x 3m:Lۜ.uMG;iThi  ^%I[QIt T2-uJ%YT_dZ T2-틥i)Rɴ)\.N$JW*Z*틥XXT9]+$O.) .)ұ`N]RsVwXTRܿtNNQ%%GJJtN-gQI %%ɺ;;ZЅف$6*iЂ|hG#G/| iJ@%ʹp팂B)eURr@n,z3afIYvp|`L()=x~ly?uqݥWW̙܄r{ )aB=-_M!iTL椂Mɔ*NN5s\s7>}Y|QWu%KFAD#4.k_f szA 33e- ̘(I!|)9g! ` b -q" R!{L1Gzcӌ^,?~  n_5j`-v¢]r.+{4[vƾP],&w -FxxmA.Gi`t}=E_/ GF/te5œEk9޽Z 6IVjVdr/^zcҏލNJJ'疭CUmGOygd&8ZjXRoqX;\]•á*HYX\3O+N/\ZesPQHU,fTcƂֲ9t>Yy5; Oj3]U0|z4>0A>|vbߣ. z=zQ5bf *p>ds¦9a1PZ-6G1J(bdrgk8I!ď0*XHvMFdy18~M 4˖0k^,?zCЋ 7oۣ0>jJΆHLNOΕxOh䔨iKߣD%j߹ldβJ‚Hb%#gb3ÙaE+o +D Zk1>jRH>N$u;M(zE\0x%` ^GBcttE8Fw` 讧,jvlȠʩ0 q3Mti>gZ7R-Ʉ5!l"g9/gȉ{x6:ay'FFfq Ĭmئm :ЈR3~)XSxX$`t%E;neı@SUAAtmvfm/EMF%='[<&'^j6!iN?8YY5+DI"ɒ\\PnJ u6LXZ.K!dh͐dCp3ߠ.X3 <<ͥFTpcBv۟DHZ =hr[ +w!Tal.f4*`4(:V֚  sK M*1sZ]; Khip*8,6}].P=Q:)+IW8 CǕ N$֊)BcPtCQ0 l#~2@Nrx'ǗI &,L!I> DRRaz'('iOEX:"w nyfF 2Xk+648@$:%s$D_;,p\iߥ8 ,u]ȂOrj/b,E$.,E3!@f)63A@H"͍@`"M4Aq 7zoe&QQR`bV{U %ͽyy <.MLJeVWJ9x^Jz r&0N~<fa],ޚ!Te"* (Ĩa1N6{fHG@l_F"d{òs̖7"pHy쿝HHd=`d8: L/dL@@lD{lԂ``<'+=jߚ,Obpw!'qc9Geȁ`K 3;vuA/U`^W!F'<,$':jQ{+0-loK bHCa9՝HIV+M|3@šT{f 3 ĊÖNqS4廳[Ԕ-,J XMdSYmjk[>΀@t{{>H@px.C:cH"4ջ""ҔX}cB1&n'+fTfX~{gxfb OC(q_yf I7LbB+hWb)fuG'"X8ˆϬ)LbVztWbU@F,ĆXp58}ib4tPv(01oډ}AN]Pn3{p+{p=86p\'@pW=;(pq{YwXXcKh|v#0&H4DchQ`bEG.a-J:XCԔcQ=@ř7UQSDwoXCDvc"}cA⫴}+j۷oߊ}+c!y$ #f/8 řK6o8o7yf|gCO !ax Z[H@Nߘ=ut+(XxU"U9|xX΂cbIȊe1 /X}%eL,caw߉ E%e<%uǞ4fbkGBJ+ky-3(X|0_^c,03Κ K x0#kJPLa&b3ee gKYX/zFR^N; 39nJ넽./ ^˗uj]ެc:xY0XPыYX+ &46uRG˃XJ@W,c:x0o@S@*'8 ^a0d'0.xgQ8CNp\9_%/n-#' ũ WV{gQ ']("xgYX|l -p"f fDh@ ' SE ӰD ͅe&XzBP;k(P09$9r9$& H0eHPLw@*d#(C;PLv(P05 %{thH\E+ Rff62"}ȁ5FwU S2܉SHr H2s-7!P;9J$J(*t{QpLL D^ąIWɁTETTpJ :CEuDTTcwcR1D8 Q?|Hm\DE5:I+7 @& jtc b6.C/ (Q.b0fe^ ^WB&JG,셠bI agwbKwVfX`c7Po# qe6Y9UcR"? bbT IToKX/Rg!QLJrwR&@`rɟ4?3ȑIV*Z%y4V6+Ix |Y:߳@Z$[x% Қ%K9ژI+8Z^aG9a/LUS\wI& PZ0KZV5`x'ӢY LbMQS=uG LbMQR.?]R2+?jY)\MSM/eO1P={(H ,b_zG?}Robo㑀x{:x$ ~810鏓EۚIW1B,@`? #87f  OͷADW2gppZ2ҁypZq$JV 4 MIP&wS;͜}y(1NN3 zQLKZJ=ozfZ 4s&ؗOh_Gȑsz){Z%sK} tO:ÚjD'>2 sk,TCav50=C Vו`,̛D=fQX}Na'0Tnȓl{c뙰C~*?Ivޙ aaNvKJF$E /'%*=¼#9t>Fcav;QI6s-£a%{n'H@Nȱxy'"(sup\'Db&Ass,aC)!F$e)ƞ+=9 $d4jSI)_e׃ߚ=IF{)Hf>œ='"xY@qZ_)2IPzlϢ@2Q@F,,: <(y9sN4|ϐS`asbz"L3{ɂGٳ`q{q鎲g$=# $926Nb(u=c ~m9j0.Ӟ@t͞! <Hߤ9o|bE)»-aK>_͜1Np)%H|ړ x@^ NTۍ@J1&EMR_ԗ$IoI&^a3w+@xt+pN*N*yL8o_`CYTPy,ɇ`%(Iq"T-F6˚vsa! $(+`:L*=J0Tc.RJ/% }z$OyxMRI '$ cj8Mt{/ANa<Ѷ9!#LC) hYuVC/-,Ԣ`0!=JP/},0 %Y7)\X2yRJG5՜ U0mU0kACLwȳeqb%?-dJجZ(lU-eFk=%{z^ ֲoQs'9/K)aHA8Sr|cNAG]fT$ ct Vz}jJ^ %c!̺X_GVw@-DžaS}5G/Jɵ}]B;AU\enű%qt*F&I7QU*T!}Mɖٙ%2ѐR*VtI ^*―ffA U0N q`q>A/YS$"32+,hVI_N0i9#ʁ.q+.,JK ARbO m2O5p`ZЅh(o>[mD4h2SDe{[ j$QITF8gXkGjtj(z!r-_?,A^j5(4 NM25I\ ZmKAjxi"+;|$8kDxTY !B(p%]7($-1>*tHaDK(r{4KzRIJD+x$SOV+<4^?ODWT3Y7'{0fZG# )V|H6&fr3[H8[HաuITa2: C5̩O>R1H$Xd&/_A%a(c|rrPJqP 9Χ@cCqH9w Ƨ0[U!'+ɐjM kl5}T8% u#[(hERW'W&dռjz`ՌY:SqÄniKfL՘W sJ#ݽB 7@Espӎ)aXrW 0}pؔ‰@f Md%~awbEO $}fiJ^ Npɸ$O`JD[ TFT %}؟tc8#Y\#|ǗƟ̞s.AK˾M3b QʒAx@;Hpm`R6 ԅʬw4pq~budVL;cFb:&_s#euV)筝HɹPYIبy[402*3]c8qdAl0EB6)L/<_6 :{(~ih$2=UCˈq?jOY>f ;e~A,PtPJbȝ]OB^.!q\p9ߟE}rdk;aۉ1+8]B ^j7DmQEDo[{ IK*ZW@Y"b3"6m2fE0 NLE L ϝ͇)!yrBy][igg5RE+ ~Rvbɓ 9@K8} 52k6 2})' D)ZhJXMlYuxG5\/h{G?[RL0m)sx Z>oTeeB#eT4ȴנ z^ņyji ,%uHfv@DjAL* G"EAbngU H?B=x25Z6vEDF؎Uwo IQ:BKXVY!uF@- Ucym=̧$zZeH}h)UY^WΔk>qqη]@b+jTƎ##D+ Wl4>5^TE(4yl!Nx0TbkjT.iN~Q "-ba6ɡEj=4`*&,J\)g^yzǶMwլH/[<\ea^ aVs^Jͪ 0&zI(kjF2i*D,0c"  Y]V,NBl6!"ZX2tjr;f;gx u7.f;=X0&"q_Z +oȪ|+&䈮 sJU)jad]Aꢄ?eY6}'*DVM"a[uF16"v \429͟jbLWu{BӈW1B];ۇjﯘ-.)Ge3Pqߊ$*ѷ+X8Gƻ* =FzhRB.3r֩FBCcSy!8 #@ Vla2ܯD ͖ 5'I.\E+2A+:Bzk^m-Q]\`=4(ev^IJr)43 ]_r*To93$ %ٷѩ c2x+ շL4 Mɶ!*Q8RRt@^qnh,/:#mbRt<(5WY{CN:rv-""S<iHKrH$D4C`/NDB"|j}CH-!ym~~!etu.5##hA\z96Ml-iW-NPrǻj_r &8mPB%) $uq8cƿg9.RQ2bj%F%7-ʩRטs(״82>C0 g2*yڼrw5U&$M&YgF9?BHPl؃hT$ۻK{vaҞqr& Ȗ!yLC7$d}E1Q/fIL t㔈1.2c*I8͝:%4:4mݠy#ǬVT )V|=Z¥Gndqڰ.!z*]' o:~G֍iߚxsIV{:12:ӟɓ7KNŸlÎwS3 ι֧zqVZqWM~y{knˆY|ߗ9csy;zƗ߬|_?cZzįOpg*GcϿ9 u?Л{t֮/8ɡi[:{Žm3N̒_]}so[\-h3_+,~g';{Y|/}r÷3{Agpf'_zMsϚA7<'߶7_<=ԓg?[Kzxԡ ?&{>gZ5ǿ|-}ޡGxFּeN~uxSi/;ך=}+/>y??~;(>+o[~_ږc^:rfÞ{JrHSmGuuھG9S~A;z_)~=?EGw}'T+G| |}=Yyŷ|:5tzAvf߼/x/w>2pG|>ޫ7^svҥ/s޽wpOoz k_-p[t'z>o|k.q`z Wz[s}+ģcL(~397|s|9wlKK޵gh{rߝ;osU5W]îgoW_ۏZ:᳞:CګrG~w^Kyg/B?|̃zSWoW5kޫi;O?Z/?KN7S߷ʗo<8l8Wy!W|-ҳȗS7y>ኮOZzՙ/ kNf{]-}ۆǏg?`>;w=K+^k/䙥3rxX{s~coAoxW/n7sن ^~O[K?+s~﩯7?yx;_lkGEO~q{G>]vϮr#_zw({Ot8#W-=_ɿBY-ann=kˇ^7?wVY?_4QW'}_kϧozSv_dCwwԗ|Bi]+ޡwe ȧܣ6<v}7ԋ>yM7z)x {:93}w{sʧ÷}=l~1-wq-<%_?ƃ_Џ;DUףߝ~ Oo|)7DyIM[n.|R/pzs7\wڗׯ_ ?ҥ/]K-wc>~W8MɻOsr9{.}8G>q?vA턿y2>{yc_z}{_w~9s;S "wQG?/Ncϯ6͓>yx='w~C}G$Ɵndž?nʼC9c{G|Q?Gr~U?\wu}h׼d$oaO?|+^۫;־Coޠ-x룙7ޓÞܕz_[]i湇6soo>9_ݝbvOC/#w%;Gl7Ͽy7mN}Ǟ }7{铿>~/+qOZĿ?e%o>W{/y϶yqhG9g.>ܳe?]ƟgC~GO#/黟y8'z7-6\vb6祝/|7fMj"W;|h9?z{9tisF:o{op3c?3<3noOxC>xӷtvohs{AouWG*;C;s_"\Ky+oT% _}]g|^;N%]kЏݵOL[Ek{ {IϼSͭmy˿%{>ӯ͡'nzf}ǁk.{kN|ꮝ/kM?:oW^ѻbUW7CqWp7Gś~^~i\QOm=o++'&#oQ=sz]\ͯ)og}ߞW>f>0[ ݿ;g=W]yy=M?.=|b׻?z;WzBٗ|^tC>[׾$օ_gsw_}a~cWG^pk"Tr{u__8|pu/\wym׷8sì ϞGwGvʳ|mOy}ߺ{n|wON_{Ț~*O|W_; /UNYWu׳=q[<{a}_y#w?'ěj]/ozGДnr u[K\r˛NH\zGwa?׋5hߞ!{ 5}Eu_ߺw=]OJ/p_>BƏ]55^p[kNH\v yk>pہ/W vjG>y?{W0͌mYD$53HqTʾ#K)Y2يDْK-)K;6uv1<9ys=y>щjtckWlYo/دQTkoQ,E^*3.8%@}F{Em#9~AHɯ0t8]v7ɉ>d|JԨMswO*!aAU$StI)ݗ}T=Bj)ec\{_g+C2g o6ɑ6jp73s%#? :Ȕ&}n{y%Zٔu zw2i5~Ŷ[U k =`ŖÕB4fgP0+&V糈rQS<ĊC4]B;uC#wCx*!zmGVT =?PU6ADsX@^D3o"ˎl%riz|Z万ISV-&cl=S vԧ2;ӪB*Jv +qQIa q+ !oVA ]reJJo@,00=#fsJjD WݍR"Glvim;q%L2c$ͬKrl:pF9·^u?rQx(/۳۔W}HVʖ͚S6@./a47;*!VɗeQo(ɍ6܉m1Fu70] M,M%Z'/xt>G,Dk<*m/W }S&q[;tsA=$dzԴ W422Bb`Zǩ;9v(A-MQ) N4TVWo*6UUUs$3 ɫrrwIo>Bu|0obttsX`֑'Efurc{)FRq;idN|skdu)kUg[m>aO&IŲRLW5*;ymMmm[5M={;'&(ᴯ0R2^px}=#ɕOF?"o5/`yQ9^ҧ0>^!n[K]]10[`~~~-uM&/{=Ԟ3g m΄X!B\R#e+W=k,x}m7_re9cw^1Z^TPl~ p շn 7.SW&WHT)1λJ|ƬWJݺ:ٺMš<>k9.2y-N wvi=_a{jF dQE+Y^X[4֠F("fݜ1 6!,ػB%21gk{2XP哫fy&Ye@sz];\婮̼07Yol'@ ȏ^ݫM[+(xweQ t+B*#丝 08?* UWK)8KZ Iv^K Y%|@G)x̃$IuLݥn~ӣAq8{G3We{ri,%WUP`Ǜ`YIG:]~SqO͉P*VcDy{6R*vܽu3jWxuyX;rg'ҟot_i[ns6o.$aEa%:n-Jf'W3 {ҊI1TNV;:|+*p$DԖwJFN8MXSsCJ搜C,(ݨMIΣs^KgjQhEzeBA_<`l]&W8qm^0vJQ3 0ϥrS{P27Sdanrnhh1"Z?ة[:e`~>ՉBCD֤ խ HgDAi07p*ή qU[[qz>K]W}ݵYIB綧4܌tB9[,C%rw|7HM2?U_sV*Joj$TZ*S{;UW\uiqVcytm !21~唐^ u L*9uD+4ǧ9 fˌmZm_n~Aqsus!ؑ%~=]~yYEi_2tߔ/s?pJ_eiw_Z BVϽp ){)sxK%%Q(_qh~< Ї #Ѕ>/xB- }~6=;`((Dx&?20 A`%MFR҆ L"B'~Ϗ!8<= jw ٳ.,P=xblHD_1AsGd<+7 Rg|!S Սf l3w:sr'?c(Ӝ d_ Ac%?4Y sE~~~)7D4n9\g(C,|Վ+ju670=߬ #n$+<̽!P?΂X`[J!)>h|DUE|Npf.}^Ll~< 6Y7s1.fKJ {(*0ld//h\('<2H)+ {l,46\Su +0hf| rЦyX`b]Q(1, D!HP0d2ƛ)&6aO\|Q[(x6-]$Žx<)%!F * eAl\Nc|p̟i@J`Q1!`r(d1PރBPg0Pq!8"#)# s;[Cm mW 9::(@?PɨӼ]Ju2n\ CaG[KC]F# C ׎|FC\',B ;?4@#D4T!*?p,ThzAk#D^ ?'_j/탶H쥈Am?mg-ּUjߠ |0bHg a\@LpA3:&@<@S.8fGQ#xQ*t 8v:W.2͙Eq&Á Xɠs!Е A$7o``ޠHmOU{0YJ2[%Mв/9~~wi+7ggpM J(; `5y* gLv{_ȑdcV6Q8xd#3\< Jk d4Uy߾3LR'G#5I qy?'Hsu82֔C??I-}qu,}'?F֔Of)JW5='ZbZc$뿐y%$H7dFk;jU/L1J7Ecy1t_'=|KLO5@bȇn*̏lX Ж/gGZ&G&o~5%@ipoiBLp!Fw)ԝV*_eUJW*u_}RU~W*JW*u}_#r_{@<V?7=dˋLmD_`4[X&@&/oC_e7/,OtضvlȒ_=qdMRk6ѬfE3C\ö5\k}-vhM?l"}ZO'g?.VEZ[o=2fzgO'uV#_Y;э. ].U |_u/Moڤ[ -aWw^nɬh?{}!iuٻ-o8Ҙy>nޛwﭝwqQ;#Wyѕ5-"yUo (x es򽎹jvWԻFlZ\.^};x/Jet _py;^\q%_}\콷Yfk۵]x +O11;#?8Qg_~Y|+fT"m![G8T*"_+>zz׵_%2^d]<~>/0L$dVtbfQ'Xfs5Ͼ򌻷 joB7bpKx~}X|z/3)[x%gyڜG؊İJj,NaNQrȖ//KEN-(d[pXdǽ\1x):MEޮx?\7K^ŃӨHnO"Mi;4l~] (@XNPJYF7l#^X"CP=VZQoR;Lbr gw~śFD0 8ₕrvR~"yEP 4m #2J"i ki}"VSO<ˈ[AdgՃK#+ސ̋yjZ&EEe.dPIQ(:kmJk]R*JR*0 `MViU`߳ئԖ#hPvqm=F"i|oV RӬQ`kFVyUwegޏ҂?uFu_F֬d_2uX䆖Lf~ZV帕WuX)}cRUWU)U_W-W-W_[~Ugq~gU~U_W~} \%SJ}l6|]B_3:,(IVUٷ?VPRw̧ÛqU~U_WU~U_g_QGb ο|ͺX,Yn%VI5+J:*J:*J:X:UJ9RþE0U+VkeFqj5['?Wu7j r*J^j9Q2m JR@Uk˽ZRP=n*J,(k[Hm{ѕܟUT__EwǍ3^6[~=>?74Yq] "/G~ףl;^57OGP:F`OҼ_7V҃_UC.M%9`:H ]x F $: bZ kJ >" FtC·[$;>>BwqV T7 @lu7)?›rḥpB([ H+U:144ڇt 'HXm;7O#,!t{āCAH YI($k H9V'i|yhb_"YjHKd@ځ=FXWQV@ &2uGc@4,1p#CWSk(o/M# I[?YE8m}dmh<0X@D'8+ '+<>?Ri!: cԾ}TZnQ|?Frq q5wn񒤰ŋͲ2=@6kVՔ"g]="&Bq|K jlYbHK%X q^ Q Tw"؞ R$e! rCⅇ&ud 9-,TGvMx=2x=_:l%_S: "W3d 4Z5|"(PZJ@FVEoJ <[3E(-Vi 1+ #>ZgdVJ5^L;htI 6wۦ@U`"9Qcu)VMԶ@Lvp@xDǭȀ4/H O; 83%)"F(Yx<ٝ<"EibH)oFW2b! eπTx1j'҂;iO؄sA Q1Ye[Iġ/tȀfK&\Yd%uڽ>őNI gXo2#f,+RDZҸ حe\w<UoJi@̈́y԰E$=_  .:9A<:'N &E2lQ 0NVF^| _)Y;leh>2+-~-$H Xu?;ޭ0m@wb$Mӂ pf=+D`@js{zZ%qv| K =n 5~1@<ZaBH_=pxzޡ[./>I J{YIw*C3 L52;tp^V.Hև"-|-db3A])Z6l9E(?VQG(zH}K9 7.{ mBs$N"&gM®sCp$Vd@Zv7 "i W( ڙqeغ4#Q#dh-hovAD*;m))t:۟"-A*Et\XT:q& RKXZ-$ɀ968 \0ȄP}ęO Q^,U ofGFCK.0]lq,T#9Y՛#sWjWQ#̀DWĄ%/)7:G`^6Yc"Y%KPW3SIXttgqu'(uzǷ6v(rT{C@" A ߋȢ` CcfđQAeSy&Q`cLTc`hl:5ijXKtevg T*D XiAJCC# 9>a蔕 X ]@z•s 9p&,kY^(V@.\$.VMj)\rœ@:(: q"W$EPI 5=)8}-S2Eg8 CO7!wfIX&K5EQZD-"5J SHl-OZ5Q,R"cnZ{Pˀ[xbXq:Ƚ$ab9٨b,*@BxHo7DJg#E 3pC-[jZA)HL@}b'$ƞ\yH2pdol' # %])Fv5v0̑~X82 @)R׎ϊ5\|*ר7sEDJյL"0{+E&TZ$58FADA|&5F&}l1F Ԗ= pNv$?FF'3j_[Y -b58QϞԺR={4x\;5H62+!{S#K f q F@ր qm"%@Fs! e.) eYFC@>~; 8$ayՠƒaf=dHg,>8@GM 1kjYWT]4XVB(\5=㽉2ۦYDKBYdԁD0co*sDݸȀkk7PR@j1abC[<N0,sdeE&c}H!$F Uiq(@$ޣnb9Ȗcw7Xfsө@l\HXhK q@Z@ޠ`wۃ:ʪa4Aѱ[ȾB@ُ Hd<Ĵ"1Xƈ(@j,ijRʣRW{YlhTqWq|WE^آy٪1~\o~6YycM—Tխ0I4p!:k$,$E|zh117`9kGQ#5_#Wֳ`o!U#aI`Fd <hfeJY58F+Mmc[i[ް}+\5ӷAIvP|<r/&nid\Ewy%F4e2YgA8W8.|ٯ\; *UgZE VVݪ5:EF&\^j2 }YhqY3],^%Mιu7! {tQ @>vY$n@d4U;m(e-,x9bKPyh8m4@NqK E\^W(sBsԽEY"F]ڲ1d -UNAw(GN7W>?b4NV˱8^F'%.ku]?r=Y)爲;:_ okT/0 [z#S/mיw^#a u%$,JUA%$uj(dngu~yv ͣҖP* (Cە@TZ2\d@ĆvP]1E>NZDln@ ?V%у\:5a&bx$ r:U1j΁׹Źh%e-@ugoĄo2W@X/d=S%nak[f\"9!$En},2_c[ur HF^ qMAHtF%HSxh=@^#p=,2X9ǎ,zB\d%yT^|L74[E+=tҿ Vy΁l r?tc4zYWg;S'6d?Nƙ>;|%Us>],즧7%//(acmEXss&\Zf=mq |Yy0`apy| XhlhgìĪ(FGjȜ6mkS!p9R~ B'-}QNM(~(EDrnWN $'s"8>@B[T~wİ .OA=2 {C#EزcB w\R Fy@"g>kjM:G>mEday#ݏݏ{6!Ҥ%LǨptR}!mmcNA* y!A #63E vY^֔EDpپEb]A}7/8B ?̜x .SD89 \gMBt&ةT̳~6YKز#pgUoz~|m8ެA7=?1 & ]{$kuΰUdB5p K<2O eQ} ~WZ$@J,(r)>J|FM77nPzYDR,_am>:F4,g؄#F$ԬEA[*FI: oѩND@UY,h R~0՚EB2݆).{,-צ0[xpݭt @TZ9J Qj*ܕvt?a,&7g WEo@bk"c^N-@>XpD܀=78ϧPTa44^)W_WyhtM5>  IB[MܪpM@v<0myQu‡-s|w_4Rq8R=\ňO¢*BcM6R 2Mk9QIt2|s ckىȣY՞@z g./X E0 9:FWf' tpe GRo@Qy `gcR9-@:A`X b)>kXs(NP$)(>-r&ha B z"%%z_R9&U`*?L.w=$kukݨTknt’u%Tn:qtBϚzMR`@L#p,Ul(/wY ̶yTɖȁ xf^YzHOXdx ʃi:If!\-ܥE#GGЈ BCǰݗ5L @γtpl',:FyΆXd@nPNm|rր\~6 H 7|qV 3%oM0փidled uڃ 7iр8#t}<\+=Rg|)F÷׾#1Ʈz\Α^{ #mh|N+JMp7qJva ۪TcYm'1FZPE՘"]9N 1UCىS:_Y%}kh(0Do+%,)sQ$t}ɀ49bOb '"a>pz @ն.}k.:!OyVƶo#I @ݡۄk=l͍C$ cÍ' ]h۫Ѧ-ǥ]Qs\*KJv=Q= cԄ%Р*LKH۶MY CIm1մnhE돨U1HF= zO!2i@2fJ>^8/McJ@C,ScMfZǽEnVLpz|ŲY CTR ׿x H57=t4Yze &ch窊`(bV2ՉBR(Qp3C]s Y٧VЄ4@F̷t45;D#]U^&R:MX~NJjԂ \q'42|{|#5=7܉CU4E't2M*,>y(v!p)& }@M!ZY'qlW?Z+_y@*k0qzROTZ1Uz*mZ!^5MO8}_szb#<NтA{ 䊻TpBr84=9hC,{h:YDeKcX/aF=kb _ G?MYA ozн~;q%K.3 I@R!;sj߄vlK.dH ٧}WKmX4Nٻ>m}4E ҅[@z5zo趱 Rhp lb7;sZ#n}0ƓN ',Zv8/ @18&;n[]2n XJa:5+%n5 J>-VW7\[VgtBBŸ88݈ ]Ӄze 3X[=ߧ&.L8"ـZF>d >ᶱ+#6Y<ʸN\+$G7 c~iInGFa#>  jj ;" ]Ƚ\m,w|*.T,}/[MoX7 }yGh" G )6T ZnwF21|/n{a x| Ua&uR)zH 汚#"[g_f,p3Cx> e8V#@;5hhAoRe%#!nG pݸGrG?Hޝ }56MJ]qd o5ތH}hR-V{GUUit4p8 ,Xf UgO;]x*:9k TS|HJ Ğ5>2 FdpZMHǥdMG:"st [%?y 2R ,,w+d\£2π0_s'x\xMעBtJU}XR`} uΫ1>Y)5 Q]Qai\7.Ş3&ku>nk%ymzgo L.jg'WcУ #2&!;G:UHbb$nqjrVV+rRi:e,l[;51f0HAZbXyC]Ks gNd[<Ք/8tg V3]l#8-' $;\ER@5%K*:޴ Z:[WXzloI35 oh.^H}%ײg 4%,*Ql͏iejr1,nӼ7]5|]ϰDasiSx %bi#4X[M@l"PBDKn^9ZT)NJEQ+۬Yg@~CUJQr]ܟ@fm )0[\UUEԳO^C?@NףWW00\ nK"͏&26JG?q7[6Yvjd}9O:l6ՈHQTKf iܙw *@E H ʷL01#򖨈=t\,C=HF֞qx)xXt[k \ kctjƾ% ME:87}piSj܆Ldme t\_Eptl@d*̋㝵~N 9=7~mu/\#@ӷ m՛n<bO^:.X+胆ni:YSSj,}IA[|,ւ+R0 X 2v $^/F2ƫG(#-WE %nZ#*+k!a-sIT)@FVD 3枋?scU%{A`O# o 7, |5I+,gp7v&i꜈iny2)х؄_Yw[w?oƌH:DžXIAd1ך*ۀ4t & +d2M{ Awͦ;G!1@.f4g&HskD&BdDVKsygdJ ^W2UbdڙʖkC'8Q!W ōNuE|5 Nѽ0 AAf] @ D.nY2VGzŨ1mGYmlvV CL6}dp޺)EdV.c:)#No8LҺ >6$A0M>9Ϸ*rD/F0 g[_o*+Y@kL~P ' on~t{ON35'dҾgMa{,dl@Z*mÀE=FV *ey|5OCl}ajy뵖qp)ڳMsN@V75YNBw+,yhI5H%0 !arEqkq %^SFZVB75]+Yp5eRqwÈ87;5ݾN"o\iJ0qHHl Y*+7)t.W{Lu }O:t"6 trtw ٝ>g|v?<ˬz:q8|Owp#sn FK(~C}ЭHlAE˺U6;H(b5i@z! ň рY[0 ^W${N\ Ynq#LźrtC؀yyLBB"'ެVo%>\!5d ֆi`F$хL&*>k^stUY]*suszX Urj&>@HE;A FdG?@elMqMɃTWH$H3e\#$dWEwC3 .>H#RŬoЈFGf; ٳ@GCXdISGVS_ "a.;лu$>c5)Z<'5="fqB~| 0Vk% B(3C[ 4UmuΡgAZ-eC%>.QF>"1{끲I t r$@C v8WV_ ڐ)$VABvU50 ^H<kQ @fP> xU4EcxUKD \>2x8 51%Y( ͕F h4nHeN[\ZjAArq@R  fV83%_EF`%Xk@*Q- A'~`Hj&/^g H+m%1kdWE595k]u ߾#9wyfDx1:`#{et)y{ n';uv[ EJ^@۽^r]WRDq)szK}Ā?Q1CLw#"O;H"]T5;z$U% ̻cw1=>G*[ 4 @Ȃ:3m@@F&|7-*;~ odps#^xEt= K#˄QE R`# v-xk'|C(_93txm?)DάބGd.#ݳX'>dk|'@%A_#&-He5>q!4' j@fX7a]TrѺN^OybXy#z\">՛݀JȲNG:<"?i0y~0y`Zfոip|3!G4,lhr@r#}>9kNn]E>J&? tS:ߵ3\qKᗞ*b_L55ɀ\ʖ ,uC1UqGwUT ]hDk56-hЌ .[{@.(d i򻻏xPZ&z~?vV@Ҁ`=Ȁ VlLq}V -筈ª6ȦE4bs}Fs 8%HWB b/N<(֭ ɠ'9jU-;[8?&1G z@ #F5?zoFeh.eN;"2a9SV*.A{eU^׈m~= ȯP&{Lhi@Z+ىѡ|V]Jt+4YW*D1c?=D:UcԀD'?)${\~w3>M0NMgbd@N\gq||&J2 6;n-gR.U+q,Ă7t6 nYfK]HQ_mh-d 0\V /[m{ AX,$=/{iC1$k HRKIQ`8=\ƣz3EcA;5@Z ʈ_`y [q5̄ 4أ`g͜!p^B[igkX|ȀXO6-~8@nh2J{ 4"熶8:BCsXݧ/%6F8"vk:׀mBwgZLRŒC2'̌@LU^K( H*ZRckq(56 }a>}DP6*p4HXT.$d g@(K)y@ͣlÎȦEL١  D0|޾@Ёt2[;5l8BxWgAdfoQjf"y`# ЧDu#Y *qŚ'ز475*Ng$~!Vi.Yz ]񊝾M(CO<^Ȳb-d\'ŨaVZeCkO&C&.ȎE яi0fɢ[SSuhG>yyذYMbdA$FB')\6*>i *{a5/F zm? SI=:-fJcPY D,t+7LnGdǔ.E _W:ETa ankDf"(3X}8-SkĀ8R#|NUz{E-d"I-W,%_g{DLʿ 9>kpi*9B]@' Ѫ4>q"F *l&uW YYJƓM  X=~2ՋC94CdSo!R= 8/5ȣbgCG 3+i`9k3iBg:ű/Zɾ]b4 u#G!HRC~L5&|r/==Dۡy=}{'f;c-A"QVs479T[<'܌H*+={ ISj(AzԸ1/ ;._VͳWv +*,^kf 4,7_ZNMuuht/%L4#Rْ^S rQ\bKf95#q=bY 2"7m@t^m<AzJKQ2om{ӂՑ^O@UMSvKN)8>$-H"ӷTQ?sײl_B`\C)@&R":z`f ݵ^|c.4 !3}9" (md]ZB!; h\=*DqZ4̉T!r^;k3:F) #Ddho!p$L2d {f+[ qeY GEtIhʏ#@Z҅@PSK c%B~ME^G$Hh: $1KvїZYAmV|fkoV,Qbq)D3/6qYoU\' Ň#UKe]lWW>,o-Z``v@qR p*$ڵ$f@n FQlEHs#<˕b:9̘s۠BQ¤ t1ኜ隆(LtͧQT <ԴfkQY*%-4'UuN`4|rT '=܌!N 00HpGQ#~y4@!U@}Vz@:wIJ&Gd_]"Kb;d@64PS+_l%i;[U4@X-c`dؙ1@~ cV 4/ܯIR]%Nc6LR$,Ԙ=! # U J lHU1"4=ul $7pIH% yx#;xZv ϧt|wN@t$/[U{Doo")2 ֗3g`px;r`'s_d85iwTc,-ueH(ZB"V߾"C{Ȯ3wL}=ޯ TЉ_i>ktR/#4wEtȨP[b^kic+!v(6pjr-@OzZN2+ ڬ]@:W&݊\Bf%H'[B!@.N gx>@f-G H^'m\ EsN@̊zmH#;Ղf%X@ -G2 ^r6nkWd@&5n^׷"FOQGL!'e&Uq 53q7pl YG "f11#XtP޴@^Z@Vo0; e H]6 H9-D< 1jt!ʼGO3[)'ōܪ9qg2V5.DU=F4^_P#y^]+3@Bdd?d* [2-g#;85V\4fT/\4@<`L;rYb HG87{# թF'eó(Oc4Y() ϮMd˰2Cyp˗Y=r:UE nl׃e_ It  :5^p({j௳H,X#oW+bu@ZbA4 C#^@a84ݬ3,; Hz Ι;d9 @}G"rŮl֟a$ihf=KYyvXb5{x@:BrdInѭsc|3@SȂg VYȔUfn?|j~!QCɋw#|{z/޼uղ>2DT9[QoF 4U*LP891+M섛ڲYw'pS^e uH )W܀Ŗ]:ezܗPYX*1@RWIEۛe"H}V } EfG,{}GReKYэ:H/zl `4@IuT.)0鴃|+ȓ5n67{0| Js_@:v+ gϷ&Z]u5g,W^y!Fo+`g{z1-u}p)j-3챆fT&~=t$%i,6I׭< gU;BYBM*r_h; vԍ Qr ,7+r000@N |P{Fmo z9Ѷ؄Vg P Z`v L@6 ڥ9="+BU{Lu$X`Z sz ~z>Z,ˠO-m<\@zj V"lL&+b=/ij2Υ*02S>.1AꏸM͆YBacx+㤜O(/$Bk"* hE7?a9i(xM]Nu}Њ,H?g@:P+Y1|8x`.fhW]#&/ՀqnPVMG=C:c}[)_> K\ *hq$OdS)]roGН,Ƒj=V- ŬnDy1o=vGpF(Iame&դHGW[uH ; Xe67ޞ2 |c' 5(Uv뒝IR*) %[# HcTI i^4[YQ2+Y[*IZW+/jGmۤ@qeEyIV @}(ȶӬI- +ʷH kzd֐=z(Z m>#l}澩 ٵ7Ԟg en@g3nx3)/R~3jK4noo{P:\>27 u#sWe$O%^(ٛ; UHaԨ4?o.i_mVDhhB ulQdҿE`Ud"wSn)0i#(Ft|".rz*5@`^.D5VJa'!۬TƮgD'k<2VH5ehEtw$luȵ(?R<i>dH=˙Uـw8)o{ygg.[AWjH0zeV۸p1?f5eVXkB /+B mrsz^ >);WZ4@=UU=11@ztlŭ_q\ { **633@!+rLm0G:g{7$Zギ>o zPs7 h$)J^Ԟ-'BnO ]^}t VN '"舵_fEY:'"و>͗=$nR<m֠ؑ8 O9=A6ɎY׽YOrkh`/:^"~?-Rn˩Mx|骊n7Yb~*F[ݬnsqrc  Ȩ J#KDDН' @bk$2qNnj#iުH 15Y˺PeP1Ƒ4S#!Vܧ}y|M`x" g=IDd&n-moT[na6.Q)&QhZ2 徼rrXHк^_+-?rᒯ'*/xPwYN쓋Ί4j,\s: n9Qf l@ d7%".M=m Kd# nZe1T]rr=a t&zjr1j@c(XKM?zeCuخD{E:3ШC ;-j]yAE*$"+@\u̵V )vlPRI\pv3Ȗ9P\?UDH8!'Ѐ^.Q^,@:gl YIA:=Ȇ,BfXv: qdH]qېͼBȫwÆ%Ff^3ҧ̤K|#{_@ٷW `gJ(=&H_B -jfVY|*6@V]ζ/*4@% mWgKDTzX } F4R gKX 0AGz'@.)-,:1ޕ y)pk\>2>#4mwkPCG:nеج^穫QG囵(K ج37x8j:}JUȪFƢa͒n}O8O+ovĨj_ Ҝ 3T_z ds@М3΅gYkq, d4fsLv֫HTLCˀW cu|%b!X-44DJd3oZKfgXߞ3qit܋B[WfS=b' $&d_ QfJ3;M| |TV*@1:y[`d@zgF((>) 2j\DLy}q@N(+/Tz`> 晋c۬Ȉgoڈ'|V ? ޮb$B!j@MxY-Tdym6"t%3.6y7Hı@VПu Fמ:>,gʛH5:=iExΜ1:#@qGJJ g7@NC&<DZbn:G)aҶᰥx?OkZ?dXHrn0kb Vϥ@&@#O^G:}|0߾f9Ac]i7Fh ăkj8ݼj.se6%pL~"!|rׅ ߬ (i `i*u|ӭ8U#rd𽽺d#lEBG LFAI'g){qƎ _~F Qrh]N d![K-[ WЀb6"U@(B:70E+5\,!iWOh.B߫Aխrrk'lp5M&`K~ l{%a"t\ n?zEP2X=䀬BnkZ|53C7eJT|27 7 0HhdW|eaV: pJ&߱FuAYWv5$I&*M?M> I4 nVGs^ $ QynTd J岄4@OZ`7tM Ut@80?GHek.u~w>5&ĉHV@}E$Π>DR1k'84 fj "dPu"~9y@VRKE\'gcoY'AJżwrmR_cLZ瘣Mb;6di!}Цkl*`DİnO`rȀf6#-krV-`s /|jJ{9tdiAJH؎ky :l,TB 1 b^5% @`ԬXk̶5^G؀.(Vͱ1'n }%a[ tHS)(6bS2 ]hOY4ʖp@̠xa3g ]6g@n\2T7ȻM#l.BWS#6dgg5" *5#IcY2o$Rc /ޛI.G#|;\~l[+E~* y@NIeztJf-샓HҔ%0^وͺ''-)ɐxY YUȷCB5.!=9ox͘="o4jmDd@uUh):} ?.I2 `SɫϸYmi mb *(}ȝy [XtDsgm+@U֨hЭ&6"ixh d1QwpSEcd?~,qNqrMH^ ia*c/@]R j?dM<Ґ/$'# 匢CYZyi{$3NnVﶡrbD2 VgVF+-Gttu>ҧCG4z/Y ެz-Fz`Y X<٩/@+U^CU. ӳ@Nܾ&.QHfz!]-޷iWY]2Ti,C-;N_kkȖ}X1rtAhHQ &!5j&n$!e-.XW(ed,z`Y ϿZ|X+B;RFk0m?zHWrU #x#x}UإѢNK> ]Dd9alԒw@´g GTR M͹dKG|OOQrc 7DafqҴż2aU-tu@ !ry}}ؼ)M4H'+x]C2FI5@f[s؉sY)Fa*ŲGH;XZU9nd v+KX & \"(2Y!k5A7k龾?4XA* #KtnX ,Vmb9aP宪c!Ky=YbG]NhHt-yH ʦf }NB'է4s*WRORZ$/ȲŃ<- p[ ho6·|-QVE5P)[?u_c=Ɛitz=`LӹC6 2 ۷}oO00YU5CrN4ܼbf.t4~!ݩq.LY|\lR$"e9f5/@cW*y Lw/ +|ּ)/q=2]X }@: 7oE};$k)m#–<*]iMRWjtV#.q-#ڈtj@y-ELj^K!)ji̼RPcR m+Y^͚#X 2CkH3^z_C2/խPqKHVq&,]|ǹ4@` jh3Yt9Ɵ0T- #|,5t.*#spvW?\@mZ _ S#'4@y*6q@5݂ aG_7J UnXYWF0. s@n+^{]"2r%RMV1 =Vm8 Yf5l_f[q@TdrwNMbbTqd'QpZ{Bl,;K[I@eZdR縒!Cڸ.[y]M"P{ڨt$: h  ,ԥk#I6y8s-Wl?,>+sd 91| *](ؘu Ny0u~j :)eTErB(3W?vGIK~76yZIу7Ӄ(@kʨ{B)NZth}1X?p|@㫅zslB+cdh #S!v7O&f3N-e-_,وw89y\E4S8<hʳ4fWq &y2%e, =~y dG97GX "L@d9t"\7.͠]|Fd2G8ɀd0=֘by.|rBèuzs?"~8>c܃u6~N]N-E1x O{@nD ( 42g k4QxYJ=G{@ŀ@pw9=R`GJEo/=D4N j+lD62D UՌ_q5 ME)GlD>z,5U<[ '#}}@BtxP…c mV y^Op LO*KX/0L@ѡ+$FMZ+f4PY@ĕ%( l:Ö6)t:/sD̦bt!}9Sr)O>Qa&'DdO]; H,o#t+~6kQ2kc<* _ܩrV8W8[Kнk <ňl~:="X%AG5i#6I2F/d%S,iStr71K /G, ӛ4@bX84b.A== G ·pz9> . ͻ# oNxxKAK[ @%r%PsHtt4':ͤ x6@5^PGX E$ Wn+"$Yz旮|( ,mvbyް{|(`wXfX{gldQcg+@Ҙ<[:T4z]hTi&X8j"(ŀiY.UԒJ^tYof0~>a-0dj-n4VLjD85+Y#_eH #)GTAҔ{AkxS(oQTN_`jXnBD7k0X]oM)kHfmxW՚jkyi6~>+4&Xq[-Oh.9Ljx5IR>9A *3ƉE*$+omgy=#`Udf4r4> ܷlLm73L .%=jlys@M By"nDODB*Z WPn#2uF{pD{Myj@-ycF2h !bPlٷԈ$hIol \>üd{T]u?yLH>z0ӈFj ;+)h]ڃ$AAkUj(D0zk^0$FNޤ@!G{/) {mtG^|TC342jRU oőho9H<#B|Pjgd-Je(-i1oݭE7z2CuéJWPdu@^c6(7dE$@N|  Kp 3q'J` g%}? g5E" $,!~Z~ Wg(V\h  W&^ZO!5K 'sLq7lc,Y%6BGteT& n֕745d&oN5|@A: >Ep6B99]Y!(`G2BuxQecP=@z6?#됭;h_Չ-Aut]d7It>+$e1ov=a'ΈO5iB0Tt8b4`G[zz~r<%׷mfUnu:;E+G[dtk"X&`OiIƣ+~ss\Jج kG-OG'3hZkW8FGpv"@dDɫV"`w@.G)KԞJ{8Otlv)dcVo.2F%0 T |{Iv+" bQBa&|]GY/0$л)@WJj#@ rVW9A1JWb3qBgF$W$Ѕx_bƢk!d!wW((d!~ H"Y^nB73Sԍr};s*JDiƗWr: 蝡[͕yS,h/ZJD[W 8Mr,Y;7ISEVb6OG8ģZ`1nd8$GX=α-cBvsP7bi*,,3iڠ\'ȶx. kY<DV;ߚ%Y3<'QoMcTkׇ 0*X](6* G~ԍ6"csQUR{kM~ qН=Oҡ ]ؚ- Ȩa ,̷ѥ? d _?BkYq $%ԮІ֕LD6 U"&Ҧ$)A"}V_/+A ~XW7I{,!ʺVco( CWj@?mk0R{h5K [@G~!MO~T \koò># ΀61Rezea#+֬?q8nUF3 $>]oT8o놷>xY i`9/oqrLш 0jR^-:"?q!RŢlnQr9d+2\3q@@U[qt#@׮$D,Sue5[3* Zfxj-! KdufӝM"lU4_ U}9foJK ̍#=#Qa0"{rzXVM.,芘+bTY }D Q z-~ 5#Y ͗ε+tKL6@!-F[[5Fs}ѿL)GxdZM.C;X̴Aِ5[4F:bL^\(%ތo>CM-jڮH݌;Sx6vׯA|yhNJ h9o>e791:  }E8B Qt2FQc@`ݞhҰFG$N1*ћ :]$S@lzۧ\y>/1#K 9FHl$F"Z hro Gv@d9Xw@(A|7V$C  0b7>U=~M'e VN>UqlM%Ǻ`~A}_ UV P=Og,]e4`55A ߚ 5N,X wܱXxWdNeiA': 7 GI ]G콡K! [Έee*׆M^UrQG9G,xhP(uSYQ\Iz=GЊE %LbAU'] Csf 'Ϲnؑp%Į#iܴe(CʿW&&_Q C[N5͙mUXWzܗȾZ]ctt (^ͼa[ +^ub ]ߤ$1NȠw}#{FZd4w9+}G@~ 3CJM}=B?) .gX6z G[" ɬ%$;id-] mmEldݢpE"&'*g}ڭyE,l42%+}"%^ЁUc}29luk,q;x_\(to_i؛˺"\\/|䃀4 rLZTJu/.T o : 3vγWYid,8 i]]m 'C!^q[d`8 N{D!6d Џr f}V‘1S)0%{;W[)zl"B ?x5q|^ޠ[! ں5$2b`KhtqdDw0(uj@OxoyEd koB:FF&^P9b2SduWX L8 (\"N ܚh6YO7@l؇#lT+Y|̈+-yhT g' egxz>ThTy9f`U&y,;/1e4춺o_ԅhg:X%Bxǣ kghx튼Ÿȕ29o 9dAD+Nx,^ UQl\1OwH5n@~S *B$ ,۷2Kl~bT-Mod5X ɒi,tɳO#]*!"WY`ȤN_ߩΑMB P]Z'Ϊ94WEHj^ _`JЮ.3 t@|fѕȸ}W)F+Ů2|Cȏ^ltݠPBrn*N\# m802n 4gI!![@ RJ |Xi.Z 9F6H9 ; _J[l/+'n{`EAWѨxM5/LJ%mF9)Gցij1w>mIv@<o[LiHQ<`gl @[LNPf'\_?׃-Y P-{C2UJa)dOE5Qj*F­u5^?Cȋ_//o}fE3Xٵ&EcV3gBA䫯|_l;q_%x)y?VI2"z_76Yӿ˜O^u@G N3H G)߾^ǴN>+;wgd]>ClcBkaPڏY(t}7pl7k@f{}qYc\f!V W@_ 8s-)k |R(aGB8:zzHVHzm,`YF,= iWt_?bHSw't@5VN|wȧhUrĭj䍨ƢZZ辭E, A-?%}}~>․A%uY%?@IRXg]M{-[RPZ i=q+]M{F[cjnsE'H72QmJW04~=&-2te,1&o!ُi[?8r"ג_Nx~ /rkqח %~AØ(``DDpNvz'nx』BFþ襨*C{Heo"k?pA7[#n+<9ȶ H#Z 2B*k dt~?VN2؉vχA짦=nDdxωgLu\cJCz ߴAP5쭤>tS{ ^`\E&|`Au:|@A烗,<Dsz$'!KࢼeN6: &%!4T:])߾aT+ x$F9PUjfg8O+<'*UU9 `d[[3=eQATKWYhe]{X{~bRdt@ýnMֽRdcKx2AWX#] Yq_^yr>G;ЮGLn aPcوG g'aKx`߂&֬rkJ$uE͋#c9GVoVEx" S E9ͮyW.#.I\?6{ ؚ%!huk$o_E9ʍb=jP}G`py3I"J o˯ob ɀ !bA|BYb49F/@0 ~@:>: +hRuZL27A3W IЍ99{ϫ2*8䪚kaPalx`w&)V"{it h<ֹ6F>bBY>|]TDuŻ~ofl!vEؒ"  2R815R0@/%F~:FȀ5x)ўCfEp$Vt IH BkhOapR @,oNSUk3+֚ 'FiSH5J n#>{хč.ȿ5K g3/Yd@ @b4a}f>4Ĺj ?]}Y@ٛt m G+%چ@1Ԓ@i{kA@}{)E>k͜ /y dH9 QYFL?)b.C6t@TN&@Y5S ;)U!N3袐MJ:qtWyv@ʚ| n1*0ʗdAy9#~b`S4|['  M. F=Oki>'Ã~}; U7BJ:8 쥫!!S-8= 2Uka1^_׿nȚ Zc\X X/J k "7Q dyM8y"𭹁|/ωN;3B?rBm7bEQpO@dE*7ڀ!~d*==n 3Iq$\%mwr֬Ż.}r.2UN 3x=oME{,@\9k82c%E)DU)YN@>Ha.-D| _z~wOX_{:>+8*CAx#bH-Pa77GLDʣ;~: +UY.dQoeFd@RxtNOַv9 ?a c*mE>QJGtvu ;CynnyRE_L6*is]]W"}:24:޷Є&cwnp_C$kU>{UIjWSzXG@|($f@7#UB B'̏p;#n#hMT3wswu+4`07o,Nsd=a~m_wdONL;E7 *9xR]zs"2@MB5vY;@}{|~ןo$Y#]h ±爿E6o"'J;Y"6dݎmfͼ& `P2kh.iSD UGOgge/@;XA Y-K ykjX)Q._3^D xU!Jdy,< iXbVtϿf4/ ʺR_3#0gu#Z&HGB2'j1WG:H #@+=@xrV/C-Eb㳪4y$Mh9_@H5}{I2D1(#5VÀ.w[?nH4hr>.7$$UŦ:n9-+sAܪb:F>A+iԿż`pfd6/(ydS)kRm)^| d]mX5-y@K3_gOJy<se1CseQ3{TP57"/P%?}`QFϾ&|`9=EgH vMKwIp1EIB&hBk@}"^셚s^0C۵^?'_!c:NI옭[1*+˙$d2,s^sf]uKWo_ܤ#ۥqpB@NBMQ qf < Я@@pė"CY>}=4{.&؞3"VQˋ%Zqi_@w1n৔̏pq4 k @nsI *U+h4 ] #oDbED_߱4}ۃN{8L |u˨`{rV@u,ӂمv6 F _})R-QNOce]NKB~Ք֕$8+ 2JNzl^x$hYN@Fe$rRGe9kfeÿ%"q/oD|HyV>hl]5THr: jG qԿ9eZXAa >;XG0k}\X"8f6,_ɬd@]Pge+ϭc~},U1U3vOm#Ht/pOɳr:V iU۟nPguf~aVtĄ )~5?i;1B 2,5fa'g*15Nq#@)2X 4H$ӹ`}s#{ C]CP3uZ㱘G# b] p `GmiFZt9oDZ{E*G Hm?T>7h-&حaTN mq+ 6CsT Q.Fk`+hP nK%_xj u)W ;IAJPQDK# 5fiBSuCXC/T@}Qv@Ї<mí)s>Y;Aa$d"+nuƙY@@g!wiiKQ>' v>o22z+B^:yNJ(1_M$Ѩ/f]c {mmDHM4mv)`#ruOϑ#d@j1IJ%#m+|7g -\WQHRiԼ[|[C-V 7*Y80~$Dk$92erڛ&"PQ_ }R6*mTZCROG G9"{HQ.ryG+|E.Tha x8:67#/GT/1ho @#5@f@V&a_p ]L<87j"J_&F`KV; .2տFzht26k%H^[i#%2$^s\ʴ)11 * l IWKᖇ72 _g"Rbsiw BYfiؑR]R5cwl@#*ds{#Dnt u1@pk@J+3\InRś<}5d;XK4ty`M;~A X)e@ne kp)_ 0U)lDa(&H2Jy\:dom/"o@xɺ"\t ˰;P %tV@x";ֽA8MF$ɵB+RE]{C4*ƥdp\2>[i򹙭D{8#}[ \/vΑ"m\|@  =B4;VۈthrV|u2Aj<1Ks+mct4=Q Kw"u 53ެ ;$c]A9s""Ԛ+oUEDKw+$-dTʜ#&߻f!)2#E>F0E+:lC l½jv'6Z!ۭMf`?qkhA+ht}/sьi4m^Z=Rz}Q@ܦ p@jr)IN@=1xh%a3BFu&.^+k6b*u;XviDYDjM0+yh'tkpbay KTA2 -Un?۬nR邐 7RN'}plR+]U\Ƹ)J#H _Hg]Z|û&3#TDMBwל=E⃥I${irZn-;@VjT4%6*"A>Y˹LP/]|Kâ}DEҧkQƄqjk K)I4p1h/`r$砏9G\D Ѽ>9p¥5)Št9 }< ,gqL-w3/DLPN۬#ծQQjO6tjHUsG*Zkr6,ؕ&H$Snm q9Fv%`Z &) DHx%/wt=F)^:>ۭx{*%GfܾKE:G\u9]B! Ox KT̈́`L{}(׈jjLDВ9 #f}VS[B%*L QeREIt|Æ*g5 HK;Uˎ| Y$EF&.2>@쵛*[@֕Jà xn2ߙpd>_9Z +Herx9~@4lRn!P{seeeKu@`d^ oѕ֜4i'юH_՜lj N ŞAG GR uS#g׽kJ<>ᐒ2X%5et[i6y#3¬4 j_t6~1I4o+B")$KRa쒯 0n}J%LJ91"yh"%&HЏU&#+{vG0[@!YDal=⒝~+j҈TX_<"%|r͗}״꧵=-Gzc~A,G(Бw\7Ku96kVaJ݈(fs@«eZ f^^ HbK!]m}='ZZIYpZiBktȺ4@K>X5 e-j -FJYyv cxGR\z2q+>Ӎ{DJF#=5/.ٜC9U s5 R7/XivԙOQ \֛'Gj gg#rzqd5| G4 JZ k=+{I,"5,ooqr@ONN[`}D*4y;69g=hH|ג ?elȐU@?RTw2Pxӭ:/kUJ8uV @+R%\B^d6v@GI[%mSe_O)PX ?cD,2YҌsQS4 ߌn)ҕYTIn30 f p@ x&}E#n/6xSRsi@3@^;Xmnb&/$ֈcDV@V|/\$*6Ri. [y.MY+ ,#Lqs$ y}fE}q" K;  DЩa-G9}5Bmfƾp>g'V@lwaF7fNiSC[!v HSpڤOmD0c`iހ9\ 2GoHrsMާۈm+ k5p4sd w!欎 }~) ݻ*]A6\ Hc-+ &KEx,ԬLWq' nӶG[ u9,gg/37 $LĩU,҂? Htc HĨHROY N' HT@ 저V]W#]f _P3/]>\zStni4@ nfdemxՖ0@#R1܊蔛X{ K (aY-U@1jk1O@QC^Cn}G9bd>"9R N>G=/eDΡD b6I//q}24Zi~d#o SO$#A hKe!jz3j`r1S@@@~F H,Ґs<~ҋE]$Gi U(?@#1iK~޵z\R6! xm`l̝{zfpcx$,P(‰" 2DvEX@$H @{^]gnS5Ab,{|>u9E^%%}Gi" &ǨIG nwMa d/-~v;[{9͌Q t;,qUM@(ҁ ϪـwM`۹B b _cIJprωN'?ݾl9w9R(ViO"|*Ә*fΚ͑9_H {{k{Eo"h'ZǨm0O|M`7_񿩁\3{, ].׎-tbYA"Rrio[DiG [jiZuD]RwM1_! y&73?(\z蛗<2U;LmxٴaRdqZ}2G ;Zh-hK,,AC3/p fyh Hs>"PNYdgz,,NV#g>JU(d(@MDI9ŗ֕dwr]B;r$"8MFɊtSM 'G94Y0T^z}Cѭ)K7G( S#Ҩ!-QPddSwvXՐ8!*'Pl(@d)@܀ }DY=M)qd 4X Ǎ>XE|D$O*Bq5#6+X"_D jԌfYT*fQ`9+) gqvFfaGxP$E.2 #@Jd@jOș4 w#gd7/裕.7#Sy$S-޾s遬۷SԺl9Ed=/sdȼ};drmH9WNN0sϖ5'b Lz 92 [|Npjr% M Mbqit/|'4wب* iv'6r.!A*v!1cNcq sg3.@vL!0}d? JiC:v5"r#޾v#"@bFqQYJ?ڎEVmժlvYG(!k 8b>99"m0v)57G^m7N,bgkK놳j >iXt.\S ВGYwN`E2h&K)'h#e'i3B@HP,䩓tQo_#BS@7 I}Ga@ȱDblb11@÷oN<Rk4,]heH[9RB YНG8f7Ξ0[yȤpTL짜?v=&\÷f'c$@qQ EO @*RB_$SgU@@=<1AyZwȣ 6P=Ha6nYEg2Dp5U$<ΰ,Ho{h}}$Nuܾ8N<ťj:Mip-3O&WI kƔ]׻l#xm-S 1v6+U "Fà۷ )k #\i*$ݶbWRxNB@fD$(虋ۓ2@KF.-89HGm ׇdm=H$f[`Ep #sn^@B9t@tؾKbGmm-/^,5eh y$.8nJl@>kdkutG e2>H}!5ɶҍ9PsQƉGgsuudVKDggx}?Fw gv[-$q"<˻{i DuHU7nc61JziVsd$x26?kZmRt 8 Q>vr֔yuT,cFȱC%PXDmᒖ1pDވѮ=?fosm6C.ӧfm6^9Bi%EJ/=YKERtk30N8 Yx{y >EhfA%oĬ-$`-~*E¸ۿ6@ oxN-f~DI DnQɰ<R둿gx(X5 % <:͚Q#p9UmsQqx kg3,?V"P&m:#YrHJ$;"  Z,h״"J sbwwC\J #ca&Msyp)/-AԖHl: Řiӹ,@`n_ـ ͼ&˭K+W3,1Ӿ|uL]^G\h3x,{ʭ%C7@oܪM XiCMRHfeJ<0Tga@<=eFQxRQ͍( 4 )?PR4!W>^@f!*#zeS,jRĶlXSQfU wYd'cUΣxYr@ֿ}"tzs/H/= M}doȜuN _0T(nkCf`$vǶq#%@R9Ҋt{»Fˠk r@Z䎘D&ɘi[`,ݐ; ȢDȝ<ޕMih4R#c4vPm͘q$/[yVH::Rt*^("FűVjqfb$L1ti T$B;Ip d;7.98?i<9ḽ6ajjϬLȫ|玲oPKD2l3ZyǩS *ĨQ"d@zD٬E42dkKF,cAK1&kfwM,=8M:zLcEf?t#yqxHJ1 tV(isTC)@E} ~!چAsx+ h6 S|/:k͔W}rcT3\=|Oj/2 2xyϐZd5C"24x9o?`O}@KE"nc%5yvU逥}Ȗ#:q* E?dR1awl2"QK ʊқAmL<TH%̦̏&>:V3[AsZL])yz"Z:h8f0-:⁓[ @5KZ#<B ;F#0Rw'ݮY5/ΜY˳Cdl⋁[u1c͆[mM ⡅m<=jerfo_ d .. EܤO%r8o`Z!5Yc"1'\Iř$H,߸j.fv- nEtKcF= I9uY5ӛ@= I1қzi`n;b- qQY'@p}t1N!ô1UGpLԈL.EҖBzpQ&Q@ŝEδ5a:bR1_6s^5i@dؾ/Nʥ1+l̓S.=3T䁇KX d|߽p ?'t%|eV}UGGC H y+fh;, rxzC9~3Ԁ*F 1sV>$knW`pzG`1 k 9]n*$^5ge#Q@bkKb3 Aܟ\8\la9!δ"SZ: )lKWK'GN2goxߣ"#[3ӛ'!Y9H;d[zG}#9 N5ϑbn:VC@3 }Q Epr9 f ;C3xTHqWU|裁xATп1T6,e/=z$ܔ@$~B(a aTH>Š:U{!P7m $;+l,dW~;&bFZu1:F^ЌȋS`8a&Kw:ϧ<n@TGR3w)C4iWuɺvO~zDc5(B(P15 Ȁ/ 1öO=K/dI7)w@*UG{8cחMq"hĢD$Q.$r~"1`(NnPb$Y;_(`ݒg;Oaw.N:~\?q{Yf2[-uhaS]^yO>yax+.sDMZ@񮓸]K7QW]z\*MC-9Q{Zk[9a1}ݴ7FvrDk](;;Z|zP[u1O⻉}F3ޱ㢮{m;4Vzֆ:?3̊^}~zn޷ctC9}zy:]1†{k9*;1#GO یy{Fr,.gιAgKXTyoڂۉ{9/u] &ݐjCMOr'4r ^]\fYĴfWy"ߒqxsh*6=ɽq5?S1NɅEr INOc53V>D?S2uhGsh2Xo}t6~ȅ~/w~մ zg5a^:?KvT뗷&O߇!Gy9,fثeoy-y;gft¨Ng1".c3g%^F]U/xBuꞢwfZ~ϯ1!fhs]{I-Ng{SҶ5|t ?LN9f3Uϟ^߻0v{jL xmN tv=E|KѼ^/ .f.~{陽ZQo>ژŎސõM5zR{Gk;wvk~9~}|Z̏̈́Nѳl:$nlUEVcc.X[Ҭ Ր!C§>=Ƭsm)XpSuB;菞Šݚg'N?fw ~vi][Cv4ω<%sӞ~S$ͯnΎq[bvЁGb֊I7{LMSG=yL,]2KԋIAMyuT!xr ]̕cFC#9ޮ]~V7񭼧{r,8'(']QV{J]~6זi=I⧫<5Noʮ[<)/{CF^-\d#7067z㾗'N^=[^aۊM84tEI7.<›;߾}bf/9]cbFP_}ύ͋Gjr_ShlK;5]^wgQkŵ^ns;owMc=}qX`u6y{rcڅ3}8 ^s6\>jM %W\wCͦ}"b=y]ZMy1.9}ϣlQAK}z p񂮍U]5nY}ݽ+sq).>E4N"lWsRrߡ74c:wEUcЈyܺP%ǵ:SU5xO9S{T&}^0Ga15=zSYO?k)Rhfai> `D9_x:`Skd 117_esH7CݚSkأ 3OPl[g=5k,6hȴiRj]7tru XZk雨һ?pbHe_tkrxֲ]R4FV֧[F I=;9L)ZU/lU ɽf˭[5sm@9Xw[|D+V<_+Wf?8oۜo7:6|. />vzgvp (6lvʶW9sea.P"8O{O*iΝ;/zv#(t ,"+ׂo~"bFϥVeUxafX9mQ>Ns-~ݥzimgy!5{H 7)4=:_'jobj,k]XL^欝aҥBz[z9[[^zۢs&m?>Fʀ6-~t=jdGNT=2U)}4o6씂) ]qx47O55v(I=oθȱWg-Xv6S|}{̧sx|Fk6gub׶ii͍w}?5r:dͺ씺ݳ6WasE~۴Wxpn{;Tg{ccZI)S2Vva+/zz]sc῏%kscF&Xٖ?yáPA__Wҥ if"F݆Qxoxmȋw,e&DG.L9^k5|=ƅ;,ۀm?:!3j}jZd՗V &X5>w=]us_Tϰ>괌YO?O>VSn<;vj 6<yuѩ_/j^Ԭ]6>#OޡC&7bJl=Y[xF}=SVC?Ⱥǩ7\QTA͝o:+W ԙ}l|;)l৞~p=3=R\|e&gkeߙl@i=a?zgaVLggny,b^xQʕO|a훧Lj}lk*NdoNsD6ݷ^:e 6[q^euYnCTAo0?{Q|͹m Ǵv5[V6mf5erő{egռ\fjYsuY~ |(^ء>|ض9#Ӆn~\fm77haͧ@gW\<ݠ+y.Gtdc2 znCJW ]Wcgאb_ [u̙g}hj<9ݐv/>λǪۯO5/W{֥p[Ϭ/x;sL6uڴ[$=q䢩W3Zvd)Xe\?d~#-j7|СC+y57%Mգ /FavkvѴib?7ir ;mzjwmolYjE(^"^K#9[y)drV[+yCSV/2գg~'Krpb6S4 N[Eh߁BrGvvNxNQefrv/[,m:|kS~cD}}vfun^X/31o]\53ϥɓ'okUj5Ms'_B nkK>J0QzU_͢:˼j[V3s15iɻ^/R//[k6+k=d3S6^|)>Nf\ ѮӪٔ> U^g̽cp!2VߋՒ{̤UͱyѢ /IO[\n5|hU}59anو (:Jb?9ޞF罣?t] ɷhL @~NKspkMsFK[*N<4铙$~WF=_ۜղ;Zի:?mfaw3Wݾ}F}%J4*nOm!WAW79r(iշl1aYZ^1ވNFD^ϼ2='6d= ;!Z/XPΘ^dKFvw(=p0jf/^1Gty=؜ƈR7[j^N6:4fȣaj\<@kGnS:/֌x\џ2kXl.8ɼbS R/`gAKߪ$ X,~RU΋6.$5uy;.8$lNy}ݳPEeOO]S>aKs/NOjxM@;]+:ox5xuD#ai1۶=o Ch|'jz?f^躀^r^m9r{7< ЦN9Gލ{rv{NEF,_?miTHKK{mN-nl˓Q7Gl ~ըGn+oZRv ^jt㖙~;!wN#^57gq-l33%ժ(tP?QykOظyjݰ'Ꮎ)ڭ.KX~I1vgbf_߹CEo,3fZ5FqvZ56k]…( ʧΔGj[Hx^wxo׊(g]Hu̐/vy>qCQomVn~Do5˂'`3v{Wc״~d2C̏f%h1*l=}P]IF_$dV*'/'zV 3벹+ɩ?H6~n 9uؑn=hѭmaW%#[xٶ{WzJA]ͮ -pbܵV/^x&Yim޾OjM*r/".Ym լH_th\wykX r13fߥU_c#|R{nsps&A@ eIP?)㥴Z4u;]nZMYstZE˂:ef8ϸn#ӟϘ~KPǍh^s5}&5rPv?#S ֬Y6QYFy{]=On3 K"bV3W֌ݲT_i>le%PuLV59kSz b~N-=9Ea]&c1FCgDڄjؼysmӲ.J7+ZU ֫׏3ʍ7$|d>͜hsOMF?|<?rK(&dHWk/˞mooZDa|2 쾀m5;2*AMbJYrڛCr/! Kdڛ#?kL%)4j:YeT濭K^fU4r9<+TdY x eÈht6_1x D!\cF,4D*U/ V(i 9T ^)-,)(TE#{XPDU`0arkX 5D.mES*33A4$T!F@[)ȝ*$)?yDLG{Zģ$ $TJS%RȿD༧#|'T &HbUZB!3AlXm qJVr|>A4a0? NrHi$ur5CPAiJ&XʤxɨLB}|+B0*8bZxB;Pܷ<IfL(XeHD̀%m6 6&:]qh4R4Bj}R4NMS@dbNTe4 ÈxdIt9`;7#xzIZL(AED[-R /MqFK5^UFNf'SX*L>:0(:HwiYPJ U6 #lD-"F ʁ@`\ Lv54r[U4_*5.fx.h*#3]T΀ 8P fgq(D,W;q ij`; 7L0LC1" 78؋[JQ Wa\Bpv+[#7&ҎtDPX<*"P%Q/tC$H 6^aA`Ubf)3u@( Q tR!^<^LhV dHf08`ESQKrx!0KB4^ 8E5L'Ft!On&VUq0J2T.,mJXNbSAQ/F9ƨՠ TD@G8Iƀ-\C 9xQ+UJ!Ӊ3Q2nJplJ:ʈfZ/;{#!fP,rc^LޒB)q& ,7rcTWWJ`: ML:xEJuu//A!^aB ԞnK$QX [;h * L`<:Ӓx#ld( D8 n|p  ;gWjRw?l֬o Ve1`~L9;:Z.0 dD2J@ٙLCdi,5B#>QgԐe[NeZ,$VQ-˫Y63щ&YW2*$3^ 趸A^ff|in 3#HoRvs3#|}d`*[2E: c<3OSفRcvFp2Icr3L&bx$TѬͼH*6әeWA*TPQDʁI0CREU{ΠczO DEfaZ,a/UNT>Xe:U)y_]_ix곫t̡|r}hWUÆ:`b)ء`0&$r6`w J%-=:;Mss5^0 үL #BS:*L_ϼfδkZ,nMk[ڭiִvkZ5ݚno٘o_ /ignrW/_ f:93>{%Fro2J`988U$rЛ᪆h#\@Lz^2;#)!0Qkdtj&c4*!^Vb xA$ڠ?B%fsG<0:ra3T$R̅c8Gtۡ294b;q9hP*޻+Us2ϧi|zZ&2*artyD{!S:Hp__OBc0l= nЙ,$(#7 @IPl8 BtZDq3s!>BqS@DW'i(QJQj<RW|TCQm''0 Cn ŅI"݅AeJ]): ;QTMAUh+Ng%ЅFAԠd3HL, $ &ꤟ@ąA$?dD~_!R$r@kT27 .[c+EKQh`$H %Tg%sa%i10p]Z;erRK6L"IQ{ ](n,D@\<* 4y0Bmm ֶO FM1@9eJx|YrLmߙG*ME9`JT'SP+E_w[c1e+k[ti_ ~_ WGT&1"$ڍ}\ׅAK| Ӆ܃9̓-!Ϊu?oKA=4h^ 2 ?@)T@Mi*)j(h <t>Br8 >uI`,eu]D[$Ap5+5 /KK{,-=;5MkgAYWS ? TW OAI]C.}`jTXt1]GY#DFj" ҒBT5E$bGF@pCdVbD:WrU:2<]S'¡vYkw~/$0D"FOB06{S&p;F7rĢK2ۡr &aI;G_VqF3HHķCID+d[=xjгA?ҝ$FBX.W$A: !JM,h~D`eP0I bT2J<*UDߏ 0xtG6-K!`p#xPa<~}҂AKXCfUk׸v5\ƣf$Swt $"cD`ffj 'Zb @20\e,o1%bk3+p6ÏsJ<%]wK$`TS$Q5SAw6'Pj5K%r=0Kϕ!}xčB F^J1@ ""iӃT H" kN 8N ]&j /*&_T &Yl V2T*I0HT_%uɛh$Cސ|%nx୎Wx+y'ˀ-' JJ<7z|&|ސEkߒԀ:,x I;='-_ۄ|ɤ$__S _\ xkֺ4_K'J 7+ID*`LRW``tx.VR@* Q(IpQ) g0)Aj$RA:7 ڡOoi Ve(HV b*D A s~*Cᤙ ׄ%C Pa: bDE`1rNg ~r G!"#ҋG!AT C+b0'~KqviDEpB!#g8 S2Fn%SoP0@z"덑cDSC"2HCvy~9 x0JJi(HetqEΈa$TlllဴLUj(Lq՗JVZԶ|Vj 8 -EoP^Iyb@sX \A*ZKV5_'Fu7ixh8Ǥ | TsF9hIc`pCq| wj w w@ÍLLނDA%zn}.W@DE 8^eegBzsZF`2Qw'Dʲuysh5GUpoZhgf@EddT"`@Tbh,r**HjJL hp4s9TD&~T. "b2qTaw~|kB(2 PY e2ZŴ,'"^mz TRb:#EQߦcf:+Q UL V"wr]@XP TRR5#0ԗx#:cUI+Pq' K `ЎU>m7@ cþo&}^K$"$eڣ Vim > XnY%0yCӉEB0L啬DU/FWYǯ!vUXrߵe|1,, I—a#/vG$ ~S2*a})38_?bhѪ[Fbl[&0lٞ d$.A 2ӂbCHw$S]a Ⱥ/ $PDЁj~Ug"tH !D\#H"V_ H=@Y%. Tb4ӣwo*Q\<+ao{r|Ì $v GOX|J,J#<4@"~& .^ <%@Ă ЕNb.))!ޛm$ Fu,b $I")HevNU+H(ɪ>}>C}0}GK{lP$=DnX9_/f`R/]xW9}Lǻc~GG*< 8FA\yBۍtct{ tF>ŵN{]K@e S\n1G) &(3㋘:> vQh > z=m6O&k:?ԱM@} ^Bcjz}#sMޯ6o+sq{ѐɇʠq=9B~ WrAW֛soA` ;X@94|_rڍ:j&?}CE/f<>o 3)iX1hճ!uMxrNa,u 9~'T*`7ҷUӒ~Vom ٘E-Na'0dq^b%qW@ Hߵ AIc +r.d֑ J2 Q\Gj,soy, R$͸G)CÙ7tܳzLbЊ҉J!!IJM9k4 рJc /mzK0^?%uHFuv6#[g%o^NcuP\G Ȫ3.10$ϲU`"yXg) s?+>1ӔlV1r|OSPm:?`PYA*ݯrګRYGRDٚoXxv2,A~pS g㰴IED=HD8 U-D%RJTy{ xX6;%RVLA9Q*ksN1XYzJHs$%@7K Sʏ"%K{{U)/c @4<,HZrq @S}^RB3 P@).ߌ6&c 9H*ĕJHL/Z IFeoi4wfSbm I㒨l!UH!&.RBЫTAܚMPsI7>vm9Nܐ#,+Qu]ha"R? (}?q@EBC1!D,4~%=2O梖5F,@ ;0vmHtJzq^| ʐ c==T3)f/3SMY,hL!giƶzb4I 2qΌv[R E|jdמ$F:S J[E(3 .`(˓iꐢSɧ2Ge6:|W6E+eF;|ˆekF׿qz|l`dD=>sHgھy$2P;FQq! |X3 v/)֮ە^gtR.Ҷ+N_n>8O%„;Y`jv0b[dw]ɖHr{Hw0-p8?pl I9'q` ‣r;cU07@wh ՟&: RKE&v?7٣/nj0=2Fpc BRZθ|Ὥ;Z[Phr3ੰcO'ItR>R|:)Nʧ|:)Nʧ|:)Nʧ*xItR>S>|:)Nʧ|:)N|:)N)|:)NʧT|:)Nʧ|:)Nʧ|:)Nʧ|:)Nʧ1Nh+NZ2ޟTv?=;=A*JuQOPJ=_~4OP 2^p]R*VƵ?MX7 8x20 X3^N5}< `Ƙ>|۰!ot9ڐ?F/0[v 7WI:HߌT>L^:7:5ĄE*4tV* {=5om1a{6x͜$'je$zZ+H[_.O3vesB3Eeqߕi^ *#ߝt2o4Is?g|fWaldĸ+[r ONޝA %qT C:ba9vL2FvK*o nf:;1ɲmܾ^Z8Y6Z3d.A~տx> 00~,o < -N:t һoD7)_ #kٞmv=cufV,kRڳ,~{rr \LA= }5]:dhU]X#wo^d Ͼ97:o &c?6hl&p MAނ6`}bXܨΖ͗^$覆㻏3qGzʽmڝ3~_ ;u\?T9_zφ݁5qk(AwІs'o^>ghz/Z=MӾ/]7>k6Lg8E<v Ǹ7.C#VAwˮ!KLqܵ\c}][$\z CwCᶇFLҁ!/*>;FH/M7ӶFļ#):8R(BoI(މ(򝮼Vqr}u"bIn@DG0{jR}aR7Jz%nBkj ѻ@Z~+ܴm`i f) k Y@#$^츔hn:w:6 +jxh$y2R3!#:G8I`)%o<;o{0'gùx.\ p<3pĬ#I%$g8R+yދf'S|kujH2hY+f&Nj]ͽLI/ 2~3%B Nkma| 9G.C#tyS Gth`C@2s"@]M6zAn'wX8 Pn`:? s/\׫;#[=˱־ tAn `[gO$q XRU{PXK'H LqF@L*ט_n^u cق Лf1v L =pжOHNBuqpH q9Ls2;}FCI!%sOHzM|R(O-Rm0x3zh[Ϲ4uweL͑9ǞTaSao{ȽG}pؼ_N <3.O$ E}n#$n.jq."A}t>1=Pܽ﮺^5(ZoO?鶗R%!kZ"]aq1Vqq%[o帊{H~ EWo|*c+(Z+݊{[| wq'9W+U+q^q g DTްtQTšf ֓If^ UKwV Pp4hUNPX=\bVm{ 3w$#ʼn_ {o:~9؃?ׁi_Z\bct ?js\|Gc# 0P>KʣuGMvȡ=6@{FFeCYiV?&K|di Ku|{@S~7;<*nQ DPISMg(zTA,֞sc Q;2s ӕdʄ5^ܥ<ظ -)Ay^oqG:e㢪 Byv-DlyHP _fW<(Q[ wțCAZkDM1MWsep ED|9PM8"+hmFyG\u"<y3*́c: &?[?$jj_2z`?t\wH82e#?* .Fk Xɧd'쯡>X# QUIT @o@w5Q ߥ/P&i [ht@h&/Ѻbێ5#CWkbȥ",ZEA=FDz/RZ.Dc?vîP W)WV_^-Woj^,jR7RYT~Êi76b~㲌}כ;tt 2s lP|T(_5pkG8n*N.,Y]LQX[D~,1IO ;#=H6YY#ҧ[rENNEg9` A8RysvzN0&Y///q,@Eu2s:tXN~:7g!JbH[#t6kLt3dӶٽt Ew֊x@z62 dc:,]yhvG˾ÍE/j?ζEҍ uSu8_i (7{ڔat+Ern7Gӕ{!Ewݷ" 7ُN~*yωaypMphzhG<&RqtWYƬ!~ZF@ PΉLbo)7Mh_*h_V{t L\P¸6(9;ܹюMBgc2蒐.AR)+ 1~غra?)/!mipGT>ŲQw">3V\(UPz}}D,.UI$*b%#y Hn~8Lvfij"qC,e,RPlp.b6!X5Šf~o0hفbwBv@msêƤ.v yqgLjco pXx)$W FdNHLe >nᥪQ\ $\x3`84';uuV]l/VMkˍR):SC LɃ셂 ;#y,t\x1G`f,a=FOh쬘.!cYDrEk!Eg)=Q-MZS߂8)eWdCD@~Ij%'o7!qw>j:7/|k uzwm%+*F?C5,*&ZtJ [c#뗨#SMJH2)!Ң`z'oEQ/(+U*pWj9x^:y_ 8^SM{ |Cg+}v0*7p? qyk.er|[ \1$f E,1憦 |Fh?ɽK/D<OX[CciWTFķqs":j(T;Osgx9c}P]ԉ2&GVWf68O.ُE!cӞ4>ςxOI9"ZPDTŠ3Y׊ ҁWLl]a&~G,o0]3G8(9%bbtr(tqa]_0`bC)e8Ǹh55=a0do^}:|}r r//֔Ly?m 6˙M1?@ N <,nc%#ޅZ:D'6xrWS.p Efh3,&夰χWqsuA]Pƙ wὍE řޚY03:<σ[ئ-cϛ,0׳uAM9Z tX0<B-V{#cGk[Pamv`aaT<&$/ VܵcΏpL(+p]pi" ХUM@3/(E^pZy~4L|P %|C)Jeb 72kpe!ߊR29}u*yh6n)`\w4dn R#ZPh6HTM')cŐ,_WeyZ.ghFaw]4hn]Ac~G}z .v1, 71- Xfv7'Z"E7'*\Nwk#Q1c# V3] d> _rtýN$_'Zky U[/4luB_%_HW 1Xk8ON<9.׋ʎ /2z%Wze8:瀎KA9w.΁^_s%iBj5W@@8Ҍ#*q/7ɾ RN?{`NV*)DHVѰ8 +mm1,PZ@Rs}di_:xT4c?E Ai0vhw\$ƚY>A @@3 # Y*V 7fPB)X9@D_NĿT A4#?gF!ZyNT /mzK0ArɈFud8xk1h{!1*0Yu%&Y L$3Ea= >M(F+Tc{G 6܂ aR-&B5߿YGzDޚoe:FhJA_c^,qm9"Vln4tq֏^"6:% Thri;)ơSmtNڜEks.^Ҏl,ڐjxH ]ʙ"%e8u(sr ~D#?,ZLjrq@S}^RB3 P@).ߌ6׌^z]B19SR1 R=݋/Vbbe`ٛ:tZ==ԡ4EXB`\Uu-$J}KU AR]sk7Ae8T%XUm9N6HJTbu@cKBW1#ʣb.oDQì81o|4 PdB/?? = t۵!_ХB({-(C2Ȏ_ȗ˞*䈙Ddɍ\}l[̮D,F g 6q-)"> kYw]bH丑Uf0CjeVn!qç+IhlkYZwRܦ7>)`4&\$S+pF~  FHu΀3L(C[g9n ] e %U\0$I(B1#? G`n~8^H3cUS#ǵYT9,@ G9q[9Ŭf~o0츸ŴG)T˾#ƨwn4v@1˩ݵ.L^8١F[Nj'i'+H*™H U~V {fjK+浌DC cRhۨn\"K…wá9Iߩu:b#Ϊİj-|=5 ˴ͱ< Nvlg'4~a!xn5{4Bȇo,3rf>D=+q#/=٘AX$.YÒC Mso72յ%- [VJEKfQKv[_SwWp$x>4gn}9ִ K2(ݟz_Y4A%ǭV5v@RoJ%^\e&p]jX*h_gxCb=L6z$U~r*1Qo]ɲuP2m` ݜ!/`Witb*!߻ |{xD1-HK lQt#z^*`;Ȣסyx|||łi$<-!Q~7'H@֌cb8lo>,al%F {uM}NW>9QYn֝ }Ⱥq<Ń{!ժIJL .H?0#ny;]ygֶ]w-Y;횋M>|Z%u]PxCbWJjRblfigX Rͷ4}ā%>pr-A@UH:]zpZI1E5Jn ,`V(G8I0KDdt,+Dv_+Hƥ@$2CCb3#`Ǐb lPDHASǽ pfy͏rHVsBTgn)(!ѭ{HMq$[iOcJ!IjDx=Kx|&avO, "+,%Qp*.~)1*rqtaM. .8ykGی˴lFcod%_bW21̃rӶ'~WF~GNv qnO?|8joNHޚ~eM'yI޼LT$);Uv\ zP@ [l21۫pHԅ}[-Hc _mJ,kJ'/e`P|KyxCI$3{Z$y2' ȱ~r@ԍWy<>7^{$|Y=4?|_8 RQs=sO=~x I=.tӁ227]nܤ{d?OsPRfŪdKhBKq/-"/-_~@}xr6]ţ@Bn>6Q(?'7QJj {&&lb0aLjG5>$0JbtD+aa2TɱkI\4a|ˋ4|cˏop9@ⶲy,xw2@q} ͔x 0rRRL.{#qfm/,".PCͮ9uۑpc+&DX(PT W%Ý:^ȶ Fɶ{(_ 93㾫;*sofD5΄|*F G~&oySQMCG}>e, 8-O[6LPۼ) ̾Gmr_x7 I )vӗs,`O, o@F0)) t܏!H7:0FP"a,$T |Y oV^=u8 72Mab- rIh:䃨y!Mnn`'q@9 `ͮ`hZO_ j 7^V!2' ʍJ=!w>ҽ65M˗QF]'2&G]e#ḻiGDЮ__XQ۸uJV)+eU;{[w)2jN4%i~v02T1&/gc\WQ8S0f &j|1_6wAGGG/(PMi)?[TI O Α.D8/ ΘvJO}Gj|JO)t@tF~doƀ tCC#TR , 1Qƴb|(D}o0Q5֜D}$'Ze$ G*\o/'|xvzIJBQp|}?T0O1"PK*N.,]LU@w'?'c9?n)#͓~yhFԑ{K*c*ILup= ϣ'GgWÏ70fyaLoo|8NM ΋ï7t), zC,6K'M!;@蜷ٞmv=6cʿ?GFA-,#Fzk/${%Bm7Mބp}Zm8t70Cchu{irʓ.O+٢X2܋#n0 !uw-g:(Pӕ{۴;Fmgz]mYu\?8wR9<vĭ4: t5QNQhIt7E/Z᫒?}7WuIC'j經;C.lCS6}˲&ٌ,$㻡CU6Nj7^"w [=~%_]$WM|f})ZK}y6[uQLj"G Sab!p <  7gb َ]Hg6F2gi|WS*%7~nj1` ~6G];z}bL4"4؍fHԃ߰0 ¹H(Іf=:XMC|+*iwORD2!Kw_éH s +^/֧9\$ ((u68?y|WNZ`_q qֳvҼ r;t}71.1PV,"Vpqo&gr5Nd@6E{'+ty @HEXWe+4!R\ &Vkuebh$\4Xn-|ottq!,FW%q14}OfL..Hdz:WJ>q"pCS͂|C`oܗ;hºp K·YI7x.`6@UP6#tI,+I8jRd#5̕Qܳ"e29Ť`j鱗Uah>  f=~,q| rR\ɮ wcKJIǧ?yhߊ;萴n9 @AHȴ5Y]%.VݵE⣗0t7-I ̥Aȱώw -cʹ;5A]@[hmAySϋNo++nʀ:Tka91a|&yv3]4:>[y\J̡ B@kR+y+ L62qb^N$Mp'˴xd0df?|Z״Y> -:sd;]v 4Uwxpla͏Nҗ%;t |FVvr#M嚇W>_.>NyqK>5e2XJ@Z@_'褍3"vXg?T Uc;Ձ}:Rˑ!iq ec W4V.P@yaNA"VXߺ~O8BlCmh._.HcR|$HԔt>MR#~r1Pu -3B)>_ݼƲ7y*9ʩ|}O#?fP 'BiYYjB PWш\]2 *neЋ||E3V2 \?-O/p%֕);kv`~GQw~GQw^M{ߕKGQ.yKGQ.yKGy.y{( k*Gyl7=3O'5ܳgsgiz=>gEtˊEw0 e?ʭx9qIRW>sO#'+K|dxT$8 Et+?e9g}M;r.~/Nx6;8>9!$ ZPWsJ>肹Z-oN xRhD&sGC9W7s=T¤fnY TvK g"L>.]f {9.dUrDGn.: 6FNhVysX+4\Y}:}ΧEP,, A~9AcHzJ):]Udµ:&@ckolMZ*NѣGC.R>\IZOGAVV9G!UVJ$Bbcֲd₱$dBw -sxQ/312KXm\JUyQ`FyQ`-{#P>` z "O'Lg&+%0YOfn](0 Fyy^` /{U|Wp2VnTk~q<|;O[2Ð}7*/)/剋OKR/@vtf9{u:Ll1/狹ڔKJ;wuB"_D.+ήE~Q_ Ѡ=,apUm<,Ŵ6KI2bL) cwwwSCR2F]5b*<_NYB):(3:(3:(3:(3:S^gיeάulRg!#큹Ow̉Kvp2uhs]&?xO(r Lms_3}D.ZXɸ>`Ϗ5?-ӻ9T7{&EbL9#koo\Drm>0u'#GHgھt6Q11QqDo;tmvDɣ1Xh̐2s͘>i[͛'(gaICpO>JCek~VF_򄮥>!.SF|KrqVCOeD [2"BӉN7L535ʵ\Vk2DFDhKRXrp |3?{ UW8)ieuk{3T?JEm\)nϙp~oCβ8VV>Zt]st^N>;h 4aeQTFwTyd׆fϢT/恣ۜK=E΄>bR)%2H1N:Q?Gutnэ:QG7Of%:%VO۸?^hJ[pi|e|bWXFG׾_X'k(}˻v_O_]~A1Nb6M~>Vdx[~ןVk끡ߊ՞;,{7yޘlQrdPnWTRoyMC w5cŸJ1.8, ǁY|CS4eNXpGl3İ398VxIy,??:ÿ D0I' ߔ[,aPe R*I%af @\v<`!Y~lhS"5c w\>Rk ؞cPu5٨lNp]hd5>}>9]|¸//֔a;c@nۉu`:ttl;G:}}VLO?=| Q^fl=_< s#uwR< `Ӱ`ÓboھƨO--P4b"55ՈF P3a K-q}p|[$ r|K}l9} "(DSM2n^q2nVʸY7+feܬq|1=™3g^t9Xu 9seLs9~{DsDYXW> 0]# qh~\iy.&'+K>-/01rb L(ey$y1o1<Kuol䠶ȋJT 8@<۾eܚZ T uo}w5#fi^AZk1T*JPY* @e,ܦ`BE*@el`!ۇ=_uJYO-c?d0/g:&vřVΗ\mJ ]:jP%6SOY)?e,BLmX!nwm2TƃxTvP++hG td? V+UT\9T%!su2SO)ÿdÿw 鰇U"RdmJ6%MjO/e$D&E>Ygn瓉@W6UOW?6P֫t+ՊV@]" Rˏ?ܪʕ8&,=%ƵK(M~r?Y9b5b*ΰ-_/Ze0x` 7SD+ Q}f31#Iښ0k=sbFm:?im&D i3V!׋` &T6(/EVNyc@]!BQ g:êeLf!JssB47Y_&8a@ eBz5F 2rou_8B1i$!}X}ڋ$2>6qf%t}rq?-޷ptAuAstF^`:Jrli^3z5oDK7Q1tܣ`7„$jOcpK"O ߙaTt>(#V7n%K˱dާPfeh3.\F~ Ԫ% ygStrgt|js=F܌Vt3Ai8WQYkr?/_+Ukg2$XmͲ'ZQ^$ZW+%z5oWJbEε?w]@*]ߎx HccXQ |fy?[̄߫6FɄYw_=98 x7gV 'cxwy"^/sC9%q5uQsYOS.Kz SK/Ujb'2@a} ܗk|w7b\ u-㊷r\=u$cp+7qݱF-ǕnEo=VG->q;߸“W~*| O޸J`l/ Y𸆳^r"$sÛqJqCk8 ~#9ǃEv6PAu ȧKODE6IKsQS IΣ:E, "RtI~ˎf+N  P60IWBM2߽&D@X}@Ȩ%Gu _xۄ\@$Zkt3V,BC#^c8 #~駎2IWvمɃo: jNR-jv8i ikh E͎~NJͅ~0q,͔(ɧK ocpŅ}̓@muL 0efo ➽ ~8uOc6p^P#F@ЩEt_|>;ݪy>ylnaw{dGwn/v`h ?1R'+#jG9G @r1-xsd݄;_l ЂPMG\!ԯ(ߔ ώi(YvI/q+t]$^@ m`o6ñ輝bi3T$g[z?C?$Vaٲvw>~D`,)vyatK5Aj\;{:0."{my܇)Tz㆑L#R@Y6RܻI w]hl$f|_\]\t]#d ˫؎nn@3UdZ/Nv l}t @"@>*s̏],sykJ6Xr}ĕ]MQG z& >̉!`{wr p_XvCnL$ 2z^,2 WWXVk5pr]AE•4R\>8xKK+/K+/K+/K]%SN82hX, y*RKǥO)cZiEs+׋wV<*<*6=F=)D}A$'4?uvœkЬ'&}@ЍyME|H>S/}kh:R)w|jդ-}|S;KLl*m縃#h<r<*ϟ<*ϟ<*ϟ<*ϟ=ddS?P#F@SyT?OSyT?]?smϟ*jXa|Xmjg\O[{L~uPg; (rtibZ9_s)=̛v먯υrE\t]_)<*6< dT$:yh]8p@4t'\ʉr"*'ʉSs"rLU>DM]$3p%4\ jJQ69OS9T?O3һ {R^gٵʦ;ֳqTbX*v3bg6]/aY9}~`r z_.[mc]z:coia^otKtX~륢\ 5ka_ҊՊm\r 'eH>qB_)JoW:{.v ՗hg2 -|` K /WD/,-AZbcA{3g2m#H.TflBM~ .H7R$*Kq;@H=~AHRZjUWZ?vn-c} Tjg;ץta@FDÈvvˈuO'nݬ7D]8\(VΈHtvFpjj$eD\+H A32fIs8^hb -\:s^+a)+?+{ /vg_BÇB}wϞ6iK: 젢 +Guu3MJOh*J*0&mNϥ| "gv1K)nt՘TMcVSj_vW[j^m?e\o=WµYj .5J;EȸNpV7;ez5oWJVVu>`ckwK:\c~H{^ͮB>S\!6enqX*?pW>]VeZQ5Jt{ 7Ƕ=$[?q2VJxȎZsU)/` N:i!ҵ5daAn++:p񀚺LqWtnܣWnKJtZby|:|:W`XtH#JxmN>C9s9ƶizx1'_gi5O[1N~+}pԅAucS}*{ r)F #lDxMcR i2.8B1Z|[ݳ5eC8po3N8\|&qLd~~ǓNcGR g1uO?9kbrZ\%SwH%lNf m`ͣWF{ ?̑5~ Vvvy$k -F \A %FU% u\Q2lTn'wX8}a^X듳_'sj^\bM&3.T6 *@meEޥx'Msf{Uwven}  )kȲ'V q7)7@vNF1zW[w–ܰaȰ64J}@@v)uDVHs"1ڃ2^<@j}OE Ec0m9-*A)>_ݼƲ\GΚkof΄ٿG& s=^&Gza` ?y+~`G"&_l醀b(ut(RVco"$xt ytsټbZsBz^zAJ|XU# z&8eBL 2R&TʄJP)*eBL 3J-x\ۍ:3Î/ .vQWF(*V7z+j1Ce2hjTQ[_UMY( e,@Q ۴%+el@ Hix!a3Ԃ{6߫)٘oz/d DYG3YK6W#zDY \QỒ?4MhAV/*\9M$) +e ?2PɆK(VTJ}qŗm[IQC> e,w&yEJ>.Ȑ' -IwVe~!\4cpLs V0BȚ0nk;Tu4<}vE/x;Pzԏq;V5[R'n=X:~(v4ƀ3Ꝏ8BiBiyCJԼ9}F Nw\zq% Ǔ7㛳ӫkZV,WUl#հNX8l,ӿgrTh"q gO~ْ<~FUPqDhpk3Nz7鸝O2B@ϛ_ }'o>K5b[SWSg?j:KiiAwuZߨ|{/YeE֝[jKMi-Aҭ:ďPXrI(KƑ54;=ٲa앜̙]sþ޻'[`o6ϜQFp~ZoTsbϗ=Y1tJ 6V1lmP.K|uZ;?h{6mc\VKXsq?2|Q-+Df+h ({vqzXt*,Xt 6n3ϥM3g,33_mxs]ԷrY*CIś=oqVonWKF۔|̹׶CF[е\Ijņ5->6V{f|5ş?;q,[9}~Sp6ΤG6ܮBFӭo Y=W>B+ +(Afjo-.}l {Ol 첶tsN f|1q^]/ۥʶj6/V qdw[8l9]1w7˜U nv,v܆ZE?8+h\V:`|lFa|pՊ^+OG=j:tOshU\0'̐OqDVFtWqOO~<98Ɗ5֬|~Űf߽K_Pjy"9'Ӟ>DՌ~ &X#!uł}Xsd|l}ioW 2S`r a*s׸φ͎Mcb[N?V Z>6U›|աK[*]1\a~Û^BgcZ:4x귥6w.jUR,8̓xW ZEr~;C<V`n/8#1bt\Tzm;W.VUuDj9K/+g\1r̉iApred2n wwwr޲{0 ?#ߝtQrǓ1\96{h"ßf'ێ1y}ndkgT׆3qGelvhZG 0c>9$F!<!90 od8Y63:j^^?ӝmwR9HZ*X3K͚#Y*b mvA{ҟ ZYϞmMG ErY2i* shwP߸ S#+9Qy_M̡q3q8_ #9R@\AdrZe$J+}΄桗/JAN B?ȗAYXxE,R N&9;8f# /aۖ kJ50=Q5c.Ċ"ނ+f,E&WB<m!l?@g̺e2Xw*"q'Cf|i[=(Fۀ4I;/)dZ;;Dٯ0MhVjE!q8!+8e/*]||X. )K>,I0Y. V?ecn"Xq:X_вC1kE^o/N[(D%?.*-D!0]v|y a1^Vw1F (%? VVp1rcdE$YQ(Hd}y\Yc(ݾmd{!\4cpLs V0.£9& _@o 6:: 7v(yQ;qϮ1~b#a%*v(31fX՘N\nI #\J(֛m;qSטPD|z"aCp]ZE.[exBL?=΄9}F ^w\q% Ǔ7㛳ӫkZᎁ)uv~9>`]Npy}Cn0r9FFkݍ׷xYЙCr%_1ܩ9^r|Zq Y'c`t&0du7Ccbqg!MZlIj )jA&8VDm;f}'KP*qjVf4go wh,4/k)7&((čAkjjg}[Tm<M&~+-\aofjCGt^KXkNtv{wd4KEX+б @4yQnH,6-ΦUmS)[q̴mD0 MQK֥ D-U/jFt(b)(y^g^*LI {yƉǡG>#8F=PmŴG>ia8F=0m-j>L{DD{494FX#D`RľmLrjwJ.// îVu'GӫVPihi]Q.kqW5Q~h\A6}ձl䦾5&WHfe"{2q'=[%&ۼ1/7$9Zee:!Vc%.[^ #J.z>9 =Mce5ɌmޚJ5 V!t3s߄nBD_5魉F+tZtE|dOlz{IiV ^&7`\xy=Ha0zǷ0J_>٥ w3JC!78g:,Z&$7ؕ5WA7j2q+%|<~_mڶV[̰Yyy3-xX04 %oCZ-Y'}rH+@DԢ Ob4CIX\͑ZFOO1J{}/l Dt+q{9+fbOO3#`%nQ4iS$ (C}*q; M'RkG+ Z@%?Őq=8 ".uK]Rԥ.uK]Rԥ.uK]Rԥ.uK]Rԥ.uK]Rԥ.ux'{