| Back to Long Tests report for BioC 3.22 |
This page was generated on 2025-10-18 23:55 -0400 (Sat, 18 Oct 2025).
| QUICK STATS | OS / Arch | CHECK | |||||||
| nebbiolo2 | Linux (Ubuntu 24.04.3 LTS) / x86_64 |
| |||||||
| lconway | macOS 12.7.6 Monterey / x86_64 |
| |||||||
| Package | Maintainer | CHECK | |||||||
| 1/31 | APAlyzer 1.23.0 (landing page) | Ruijia Wang | ERROR | ||||||
| 2/31 | autonomics 1.17.16 (landing page) | Aditya Bhagwat | ERROR | ||||||
| 3/31 | beachmat 2.25.5 (landing page) | Aaron Lun | WARNINGS | ||||||
| 4/31 | biodb 1.17.2 (landing page) | Pierrick Roger | WARNINGS | ||||||
| 5/31 | biodbChebi 1.15.1 (landing page) | Pierrick Roger | ERROR | ||||||
| 6/31 | Pierrick Roger | ERROR | |||||||
| 7/31 | Pierrick Roger | ERROR | |||||||
| 8/31 | Pierrick Roger | ERROR | |||||||
| 9/31 | Pierrick Roger | ERROR | |||||||
| 10/31 | cBioPortalData 2.21.5 (landing page) | Marcel Ramos | ERROR | ||||||
| 11/31 | ChromSCape 1.19.1 (landing page) | Pacome Prompsy | ERROR | ||||||
| 12/31 | clusterExperiment 2.29.1 (landing page) | Elizabeth Purdom | ERROR | ||||||
| 13/31 | CRISPRball 1.5.0 (landing page) | Jared Andrews | OK | ||||||
| 14/31 | crisprScore 1.13.1 (landing page) | Jean-Philippe Fortin | ERROR | ||||||
| 15/31 | CTexploreR 1.5.2 (landing page) | Axelle Loriot | OK | ||||||
| 16/31 | DelayedMatrixStats 1.31.0 (landing page) | Peter Hickey | OK | ||||||
| 17/31 | DOtools 0.99.11 (landing page) | Mariano Ruz Jurado | ERROR | ||||||
| 18/31 | DropletUtils 1.29.7 (landing page) | Jonathan Griffiths | OK | ||||||
| 19/31 | EpiMix 1.11.1 (landing page) | Yuanning Zheng | OK | ||||||
| 20/31 | extraChIPs 1.13.3 (landing page) | Stevie Pederson | OK | ||||||
| 21/31 | GenomicFeatures 1.61.6 (landing page) | H. Pagès | WARNINGS | ||||||
| 22/31 | ginmappeR 1.5.0 (landing page) | Fernando Sola | ERROR | ||||||
| 23/31 | HDF5Array 1.37.0 (landing page) | Hervé Pagès | OK | ||||||
| 24/31 | midasHLA 1.17.0 (landing page) | Maciej Migdał | ERROR | ||||||
| 25/31 | mosdef 1.5.1 (landing page) | Federico Marini | OK | ||||||
| 26/31 | MungeSumstats 1.17.5 (landing page) | Alan Murphy | OK | ||||||
| 27/31 | rhdf5 2.53.6 (landing page) | Hugo Gruson | WARNINGS | ||||||
| 28/31 | SimBu 1.11.0 (landing page) | Alexander Dietrich | ERROR | ||||||
| 29/31 | TENxIO 1.11.5 (landing page) | Marcel Ramos | OK | ||||||
| 30/31 | xcms 4.7.3 (landing page) | Steffen Neumann | ERROR | ||||||
| 31/31 | zellkonverter 1.19.2 (landing page) | Luke Zappia | ERROR | ||||||