See here for how to subscribe to these builds.
This page was generated on 2025-10-18 23:55 -0400 (Sat, 18 Oct 2025).
| |
| See this page for all the Bioconductor builds and their schedule. |
| Hostname | OS | Arch (*) | R version | Installed pkgs |
|---|---|---|---|---|
| nebbiolo2 | Linux (Ubuntu 24.04.3 LTS) | x86_64 | 4.5.1 Patched (2025-08-23 r88802) -- "Great Square Root" | 4887 |
| lconway | macOS 12.7.6 Monterey | x86_64 | 4.5.1 Patched (2025-09-10 r88807) -- "Great Square Root" | 4677 |
| Click on any hostname to see more info about the system (e.g. compilers) (*) as reported by 'uname -p', except on Windows and Mac OS X | ||||
| QUICK STATS | OS / Arch | CHECK | |||||||
| nebbiolo2 | Linux (Ubuntu 24.04.3 LTS) / x86_64 |
| |||||||
| lconway | macOS 12.7.6 Monterey / x86_64 |
| |||||||
| Package 1/31 | Hostname | OS / Arch | CHECK | ||||||
| APAlyzer 1.23.0 (landing page) Ruijia Wang
| nebbiolo2 | Linux (Ubuntu 24.04.3 LTS) / x86_64 | ERROR | ||||||
| lconway | macOS 12.7.6 Monterey / x86_64 | ERROR | |||||||
| Package 2/31 | Hostname | OS / Arch | CHECK | ||||||
| autonomics 1.17.16 (landing page) Aditya Bhagwat
| nebbiolo2 | Linux (Ubuntu 24.04.3 LTS) / x86_64 | ERROR | ||||||
| lconway | macOS 12.7.6 Monterey / x86_64 | ERROR | |||||||
| Package 3/31 | Hostname | OS / Arch | CHECK | ||||||
| beachmat 2.25.5 (landing page) Aaron Lun
| nebbiolo2 | Linux (Ubuntu 24.04.3 LTS) / x86_64 | WARNINGS | ||||||
| lconway | macOS 12.7.6 Monterey / x86_64 | WARNINGS | |||||||
| Package 4/31 | Hostname | OS / Arch | CHECK | ||||||
| biodb 1.17.2 (landing page) Pierrick Roger
| nebbiolo2 | Linux (Ubuntu 24.04.3 LTS) / x86_64 | WARNINGS | ||||||
| lconway | macOS 12.7.6 Monterey / x86_64 | WARNINGS | |||||||
| Package 5/31 | Hostname | OS / Arch | CHECK | ||||||
| biodbChebi 1.15.1 (landing page) Pierrick Roger
| nebbiolo2 | Linux (Ubuntu 24.04.3 LTS) / x86_64 | ERROR | ||||||
| lconway | macOS 12.7.6 Monterey / x86_64 | ERROR | |||||||
| Package 6/31 | Hostname | OS / Arch | CHECK | ||||||
Pierrick Roger
| nebbiolo2 | Linux (Ubuntu 24.04.3 LTS) / x86_64 | ERROR | ||||||
| lconway | macOS 12.7.6 Monterey / x86_64 | ERROR | |||||||
| Package 7/31 | Hostname | OS / Arch | CHECK | ||||||
Pierrick Roger
| nebbiolo2 | Linux (Ubuntu 24.04.3 LTS) / x86_64 | ERROR | ||||||
| lconway | macOS 12.7.6 Monterey / x86_64 | ERROR | |||||||
| Package 8/31 | Hostname | OS / Arch | CHECK | ||||||
Pierrick Roger
| nebbiolo2 | Linux (Ubuntu 24.04.3 LTS) / x86_64 | ERROR | ||||||
| lconway | macOS 12.7.6 Monterey / x86_64 | ERROR | |||||||
| Package 9/31 | Hostname | OS / Arch | CHECK | ||||||
Pierrick Roger
| nebbiolo2 | Linux (Ubuntu 24.04.3 LTS) / x86_64 | ERROR | ||||||
| lconway | macOS 12.7.6 Monterey / x86_64 | ERROR | |||||||
| Package 10/31 | Hostname | OS / Arch | CHECK | ||||||
| cBioPortalData 2.21.5 (landing page) Marcel Ramos
| nebbiolo2 | Linux (Ubuntu 24.04.3 LTS) / x86_64 | ERROR | ||||||
| lconway | macOS 12.7.6 Monterey / x86_64 | ERROR | |||||||
| Package 11/31 | Hostname | OS / Arch | CHECK | ||||||
| ChromSCape 1.19.1 (landing page) Pacome Prompsy
| nebbiolo2 | Linux (Ubuntu 24.04.3 LTS) / x86_64 | ERROR | ||||||
| lconway | macOS 12.7.6 Monterey / x86_64 | ERROR | |||||||
| Package 12/31 | Hostname | OS / Arch | CHECK | ||||||
| clusterExperiment 2.29.1 (landing page) Elizabeth Purdom
| nebbiolo2 | Linux (Ubuntu 24.04.3 LTS) / x86_64 | ERROR | ||||||
| lconway | macOS 12.7.6 Monterey / x86_64 | ERROR | |||||||
| Package 13/31 | Hostname | OS / Arch | CHECK | ||||||
| CRISPRball 1.5.0 (landing page) Jared Andrews
| nebbiolo2 | Linux (Ubuntu 24.04.3 LTS) / x86_64 | OK | ||||||
| lconway | macOS 12.7.6 Monterey / x86_64 | OK | |||||||
| Package 14/31 | Hostname | OS / Arch | CHECK | ||||||
| crisprScore 1.13.1 (landing page) Jean-Philippe Fortin
| nebbiolo2 | Linux (Ubuntu 24.04.3 LTS) / x86_64 | ERROR | ||||||
| lconway | macOS 12.7.6 Monterey / x86_64 | ERROR | |||||||
| Package 15/31 | Hostname | OS / Arch | CHECK | ||||||
| CTexploreR 1.5.2 (landing page) Axelle Loriot
| nebbiolo2 | Linux (Ubuntu 24.04.3 LTS) / x86_64 | OK | ||||||
| lconway | macOS 12.7.6 Monterey / x86_64 | OK | |||||||
| Package 16/31 | Hostname | OS / Arch | CHECK | ||||||
| DelayedMatrixStats 1.31.0 (landing page) Peter Hickey
| nebbiolo2 | Linux (Ubuntu 24.04.3 LTS) / x86_64 | OK | ||||||
| lconway | macOS 12.7.6 Monterey / x86_64 | OK | |||||||
| Package 17/31 | Hostname | OS / Arch | CHECK | ||||||
| DOtools 0.99.11 (landing page) Mariano Ruz Jurado
| nebbiolo2 | Linux (Ubuntu 24.04.3 LTS) / x86_64 | ERROR | ||||||
| lconway | macOS 12.7.6 Monterey / x86_64 | ERROR | |||||||
| Package 18/31 | Hostname | OS / Arch | CHECK | ||||||
| DropletUtils 1.29.7 (landing page) Jonathan Griffiths
| nebbiolo2 | Linux (Ubuntu 24.04.3 LTS) / x86_64 | OK | ||||||
| lconway | macOS 12.7.6 Monterey / x86_64 | OK | |||||||
| Package 19/31 | Hostname | OS / Arch | CHECK | ||||||
| EpiMix 1.11.1 (landing page) Yuanning Zheng
| nebbiolo2 | Linux (Ubuntu 24.04.3 LTS) / x86_64 | OK | ||||||
| lconway | macOS 12.7.6 Monterey / x86_64 | OK | |||||||
| Package 20/31 | Hostname | OS / Arch | CHECK | ||||||
| extraChIPs 1.13.3 (landing page) Stevie Pederson
| nebbiolo2 | Linux (Ubuntu 24.04.3 LTS) / x86_64 | OK | ||||||
| lconway | macOS 12.7.6 Monterey / x86_64 | OK | |||||||
| Package 21/31 | Hostname | OS / Arch | CHECK | ||||||
| GenomicFeatures 1.61.6 (landing page) H. Pagès
| nebbiolo2 | Linux (Ubuntu 24.04.3 LTS) / x86_64 | WARNINGS | ||||||
| lconway | macOS 12.7.6 Monterey / x86_64 | WARNINGS | |||||||
| Package 22/31 | Hostname | OS / Arch | CHECK | ||||||
| ginmappeR 1.5.0 (landing page) Fernando Sola
| nebbiolo2 | Linux (Ubuntu 24.04.3 LTS) / x86_64 | ERROR | ||||||
| lconway | macOS 12.7.6 Monterey / x86_64 | ERROR | |||||||
| Package 23/31 | Hostname | OS / Arch | CHECK | ||||||
| HDF5Array 1.37.0 (landing page) Hervé Pagès
| nebbiolo2 | Linux (Ubuntu 24.04.3 LTS) / x86_64 | OK | ||||||
| lconway | macOS 12.7.6 Monterey / x86_64 | OK | |||||||
| Package 24/31 | Hostname | OS / Arch | CHECK | ||||||
| midasHLA 1.17.0 (landing page) Maciej Migdał
| nebbiolo2 | Linux (Ubuntu 24.04.3 LTS) / x86_64 | ERROR | ||||||
| lconway | macOS 12.7.6 Monterey / x86_64 | ERROR | |||||||
| Package 25/31 | Hostname | OS / Arch | CHECK | ||||||
| mosdef 1.5.1 (landing page) Federico Marini
| nebbiolo2 | Linux (Ubuntu 24.04.3 LTS) / x86_64 | OK | ||||||
| lconway | macOS 12.7.6 Monterey / x86_64 | OK | |||||||
| Package 26/31 | Hostname | OS / Arch | CHECK | ||||||
| MungeSumstats 1.17.5 (landing page) Alan Murphy
| nebbiolo2 | Linux (Ubuntu 24.04.3 LTS) / x86_64 | OK | ||||||
| lconway | macOS 12.7.6 Monterey / x86_64 | OK | |||||||
| Package 27/31 | Hostname | OS / Arch | CHECK | ||||||
| rhdf5 2.53.6 (landing page) Hugo Gruson
| nebbiolo2 | Linux (Ubuntu 24.04.3 LTS) / x86_64 | WARNINGS | ||||||
| lconway | macOS 12.7.6 Monterey / x86_64 | WARNINGS | |||||||
| Package 28/31 | Hostname | OS / Arch | CHECK | ||||||
| SimBu 1.11.0 (landing page) Alexander Dietrich
| nebbiolo2 | Linux (Ubuntu 24.04.3 LTS) / x86_64 | ERROR | ||||||
| lconway | macOS 12.7.6 Monterey / x86_64 | ERROR | |||||||
| Package 29/31 | Hostname | OS / Arch | CHECK | ||||||
| TENxIO 1.11.5 (landing page) Marcel Ramos
| nebbiolo2 | Linux (Ubuntu 24.04.3 LTS) / x86_64 | OK | ||||||
| lconway | macOS 12.7.6 Monterey / x86_64 | OK | |||||||
| Package 30/31 | Hostname | OS / Arch | CHECK | ||||||
| xcms 4.7.3 (landing page) Steffen Neumann
| nebbiolo2 | Linux (Ubuntu 24.04.3 LTS) / x86_64 | ERROR | ||||||
| lconway | macOS 12.7.6 Monterey / x86_64 | ERROR | |||||||
| Package 31/31 | Hostname | OS / Arch | CHECK | ||||||
| zellkonverter 1.19.2 (landing page) Luke Zappia
| nebbiolo2 | Linux (Ubuntu 24.04.3 LTS) / x86_64 | ERROR | ||||||
| lconway | macOS 12.7.6 Monterey / x86_64 | ERROR | |||||||