Package: crisprScore Version: 1.13.1 Command: /home/biocbuild/bbs-3.22-bioc/R/bin/R CMD check --test-dir=longtests --no-stop-on-test-error --no-codoc --no-examples --no-manual --ignore-vignettes --check-subdirs=no crisprScore_1.13.1.tar.gz StartedAt: 2025-09-27 16:05:07 -0400 (Sat, 27 Sep 2025) EndedAt: 2025-09-27 16:07:28 -0400 (Sat, 27 Sep 2025) EllapsedTime: 141.0 seconds RetCode: 1 Status: ERROR CheckDir: crisprScore.Rcheck Warnings: NA