Package: cBioPortalData Version: 2.23.2 Command: /home/biocbuild/bbs-3.23-bioc/R/bin/R CMD check --test-dir=longtests --no-stop-on-test-error --no-codoc --no-examples --no-manual --ignore-vignettes --check-subdirs=no cBioPortalData_2.23.2.tar.gz StartedAt: 2025-11-08 16:01:05 -0500 (Sat, 08 Nov 2025) EndedAt: 2025-11-08 20:10:51 -0500 (Sat, 08 Nov 2025) EllapsedTime: 14985.9 seconds RetCode: 1 Status: ERROR CheckDir: cBioPortalData.Rcheck Warnings: NA