Package: biodb Version: 1.17.2 Maintainer: Pierrick Roger MaintainerEmail: pierrick.roger at cea.fr git_url: https://git.bioconductor.org/packages/biodb git_branch: devel git_last_commit: 0b0ffc7 git_last_commit_date: 2025-09-29 08:57:15 -0400 (Mon, 29 Sep 2025)