Package: autonomics Version: 1.17.2 Command: /home/biocbuild/bbs-3.22-bioc/R/bin/R CMD check --test-dir=longtests --no-stop-on-test-error --no-codoc --no-examples --no-manual --ignore-vignettes --check-subdirs=no autonomics_1.17.2.tar.gz StartedAt: 2025-09-27 16:01:06 -0400 (Sat, 27 Sep 2025) EndedAt: 2025-09-27 16:04:35 -0400 (Sat, 27 Sep 2025) EllapsedTime: 209.2 seconds RetCode: 1 Status: ERROR CheckDir: autonomics.Rcheck Warnings: NA