Package: TENxIO Version: 1.11.5 Command: /home/biocbuild/bbs-3.22-bioc/R/bin/R CMD check --test-dir=longtests --no-stop-on-test-error --no-codoc --no-examples --no-manual --ignore-vignettes --check-subdirs=no TENxIO_1.11.5.tar.gz StartedAt: 2025-09-27 16:21:20 -0400 (Sat, 27 Sep 2025) EndedAt: 2025-09-27 16:23:54 -0400 (Sat, 27 Sep 2025) EllapsedTime: 154.1 seconds RetCode: 0 Status: OK CheckDir: TENxIO.Rcheck Warnings: 0