Package: EpiMix Version: 1.11.1 Maintainer: Yuanning Zheng MaintainerEmail: eric2021 at stanford.edu git_url: https://git.bioconductor.org/packages/EpiMix git_branch: devel git_last_commit: f378cd3 git_last_commit_date: 2025-07-24 18:29:54 -0400 (Thu, 24 Jul 2025)