Package: DOtools Version: 0.99.11 Command: /home/biocbuild/bbs-3.22-bioc/R/bin/R CMD check --test-dir=longtests --no-stop-on-test-error --no-codoc --no-examples --no-manual --ignore-vignettes --check-subdirs=no DOtools_0.99.11.tar.gz StartedAt: 2025-10-25 16:08:42 -0400 (Sat, 25 Oct 2025) EndedAt: 2025-10-25 16:17:26 -0400 (Sat, 25 Oct 2025) EllapsedTime: 523.1 seconds RetCode: 1 Status: ERROR CheckDir: DOtools.Rcheck Warnings: NA