Package: CTexploreR Version: 1.5.2 Command: /home/biocbuild/bbs-3.22-bioc/R/bin/R CMD check --test-dir=longtests --no-stop-on-test-error --no-codoc --no-examples --no-manual --ignore-vignettes --check-subdirs=no CTexploreR_1.5.2.tar.gz StartedAt: 2025-10-25 16:05:17 -0400 (Sat, 25 Oct 2025) EndedAt: 2025-10-25 16:24:36 -0400 (Sat, 25 Oct 2025) EllapsedTime: 1158.3 seconds RetCode: 0 Status: OK CheckDir: CTexploreR.Rcheck Warnings: 0